BEGIN:VCALENDAR
VERSION:2.0
PRODID:-//scParents.org - ECPv6.15.20//NONSGML v1.0//EN
CALSCALE:GREGORIAN
METHOD:PUBLISH
X-ORIGINAL-URL:https://scparents.org
X-WR-CALDESC:Events for scParents.org
REFRESH-INTERVAL;VALUE=DURATION:PT1H
X-Robots-Tag:noindex
X-PUBLISHED-TTL:PT1H
BEGIN:VTIMEZONE
TZID:America/New_York
BEGIN:DAYLIGHT
TZOFFSETFROM:-0500
TZOFFSETTO:-0400
TZNAME:EDT
DTSTART:20250309T070000
END:DAYLIGHT
BEGIN:STANDARD
TZOFFSETFROM:-0400
TZOFFSETTO:-0500
TZNAME:EST
DTSTART:20251102T060000
END:STANDARD
BEGIN:DAYLIGHT
TZOFFSETFROM:-0500
TZOFFSETTO:-0400
TZNAME:EDT
DTSTART:20260308T070000
END:DAYLIGHT
BEGIN:STANDARD
TZOFFSETFROM:-0400
TZOFFSETTO:-0500
TZNAME:EST
DTSTART:20261101T060000
END:STANDARD
BEGIN:DAYLIGHT
TZOFFSETFROM:-0500
TZOFFSETTO:-0400
TZNAME:EDT
DTSTART:20270314T070000
END:DAYLIGHT
BEGIN:STANDARD
TZOFFSETFROM:-0400
TZOFFSETTO:-0500
TZNAME:EST
DTSTART:20271107T060000
END:STANDARD
END:VTIMEZONE
BEGIN:VEVENT
DTSTART;TZID=America/New_York:20260502T120000
DTEND;TZID=America/New_York:20260502T140000
DTSTAMP:20260425T063427
CREATED:20260415T141308Z
LAST-MODIFIED:20260415T141308Z
UID:10008347-1777723200-1777730400@scparents.org
SUMMARY:Mother to Bee Community Baby Shower
DESCRIPTION:Molina Healthcare of South Carolina is partnering with the Eli Collins Foundation for Premature Babies to host a community baby shower! Enjoy a morning of giveaways\, games\, food and prizes. New and expectant moms will receive FREE diaper bags filled with diapers and wipes! Don’t miss this chance to connect with your community and celebrate new beginnings. Attendees should register.
URL:https://scparents.org/event/mother-to-bee-community-baby-shower/
LOCATION:Val’s Event Studio\, 475 Haywood Road\, Greenville\, SC\, 29607\, United States
CATEGORIES:Greenville
END:VEVENT
END:VCALENDAR