BEGIN:VCALENDAR
VERSION:2.0
PRODID:-//scParents.org - ECPv6.15.20//NONSGML v1.0//EN
CALSCALE:GREGORIAN
METHOD:PUBLISH
X-ORIGINAL-URL:https://scparents.org
X-WR-CALDESC:Events for scParents.org
REFRESH-INTERVAL;VALUE=DURATION:PT1H
X-Robots-Tag:noindex
X-PUBLISHED-TTL:PT1H
BEGIN:VTIMEZONE
TZID:America/New_York
BEGIN:DAYLIGHT
TZOFFSETFROM:-0500
TZOFFSETTO:-0400
TZNAME:EDT
DTSTART:20290311T070000
END:DAYLIGHT
BEGIN:STANDARD
TZOFFSETFROM:-0400
TZOFFSETTO:-0500
TZNAME:EST
DTSTART:20291104T060000
END:STANDARD
BEGIN:DAYLIGHT
TZOFFSETFROM:-0500
TZOFFSETTO:-0400
TZNAME:EDT
DTSTART:20300310T070000
END:DAYLIGHT
BEGIN:STANDARD
TZOFFSETFROM:-0400
TZOFFSETTO:-0500
TZNAME:EST
DTSTART:20301103T060000
END:STANDARD
BEGIN:DAYLIGHT
TZOFFSETFROM:-0500
TZOFFSETTO:-0400
TZNAME:EDT
DTSTART:20310309T070000
END:DAYLIGHT
BEGIN:STANDARD
TZOFFSETFROM:-0400
TZOFFSETTO:-0500
TZNAME:EST
DTSTART:20311102T060000
END:STANDARD
END:VTIMEZONE
BEGIN:VEVENT
DTSTART;TZID=America/New_York:20300117T100000
DTEND;TZID=America/New_York:20300117T110000
DTSTAMP:20260425T115922
CREATED:20260212T211009Z
LAST-MODIFIED:20260212T211009Z
UID:10003696-1894874400-1894878000@scparents.org
SUMMARY:TCMU Tots
DESCRIPTION:Designed to spark curiosity and creativity for little explorers! Little ones ages 2 to 5 will enjoy sensory play and develop fine motor and social skills. Located in Get Up & Grow on the third floor.
URL:https://scparents.org/event/tcmu-tots/2030-01-17/
LOCATION:The Children’s Museum of the Upstate\, 300 College Street\, Greenville\, SC\, 29601
CATEGORIES:Greenville
END:VEVENT
BEGIN:VEVENT
DTSTART;TZID=America/New_York:20300118T100000
DTEND;TZID=America/New_York:20300118T110000
DTSTAMP:20260425T115922
CREATED:20260212T211009Z
LAST-MODIFIED:20260212T211009Z
UID:10003697-1894960800-1894964400@scparents.org
SUMMARY:TCMU Tots
DESCRIPTION:Designed to spark curiosity and creativity for little explorers! Little ones ages 2 to 5 will enjoy sensory play and develop fine motor and social skills. Located in Get Up & Grow on the third floor.
URL:https://scparents.org/event/tcmu-tots/2030-01-18/
LOCATION:The Children’s Museum of the Upstate\, 300 College Street\, Greenville\, SC\, 29601
CATEGORIES:Greenville
END:VEVENT
BEGIN:VEVENT
DTSTART;TZID=America/New_York:20300119T100000
DTEND;TZID=America/New_York:20300119T110000
DTSTAMP:20260425T115922
CREATED:20260212T211009Z
LAST-MODIFIED:20260212T211009Z
UID:10003698-1895047200-1895050800@scparents.org
SUMMARY:TCMU Tots
DESCRIPTION:Designed to spark curiosity and creativity for little explorers! Little ones ages 2 to 5 will enjoy sensory play and develop fine motor and social skills. Located in Get Up & Grow on the third floor.
URL:https://scparents.org/event/tcmu-tots/2030-01-19/
LOCATION:The Children’s Museum of the Upstate\, 300 College Street\, Greenville\, SC\, 29601
CATEGORIES:Greenville
END:VEVENT
BEGIN:VEVENT
DTSTART;TZID=America/New_York:20300122T100000
DTEND;TZID=America/New_York:20300122T110000
DTSTAMP:20260425T115922
CREATED:20260212T211009Z
LAST-MODIFIED:20260212T211009Z
UID:10003699-1895306400-1895310000@scparents.org
SUMMARY:TCMU Tots
DESCRIPTION:Designed to spark curiosity and creativity for little explorers! Little ones ages 2 to 5 will enjoy sensory play and develop fine motor and social skills. Located in Get Up & Grow on the third floor.
URL:https://scparents.org/event/tcmu-tots/2030-01-22/
LOCATION:The Children’s Museum of the Upstate\, 300 College Street\, Greenville\, SC\, 29601
CATEGORIES:Greenville
END:VEVENT
BEGIN:VEVENT
DTSTART;TZID=America/New_York:20300123T100000
DTEND;TZID=America/New_York:20300123T110000
DTSTAMP:20260425T115922
CREATED:20260212T211009Z
LAST-MODIFIED:20260212T211009Z
UID:10003700-1895392800-1895396400@scparents.org
SUMMARY:TCMU Tots
DESCRIPTION:Designed to spark curiosity and creativity for little explorers! Little ones ages 2 to 5 will enjoy sensory play and develop fine motor and social skills. Located in Get Up & Grow on the third floor.
URL:https://scparents.org/event/tcmu-tots/2030-01-23/
LOCATION:The Children’s Museum of the Upstate\, 300 College Street\, Greenville\, SC\, 29601
CATEGORIES:Greenville
END:VEVENT
BEGIN:VEVENT
DTSTART;TZID=America/New_York:20300124T100000
DTEND;TZID=America/New_York:20300124T110000
DTSTAMP:20260425T115922
CREATED:20260212T211009Z
LAST-MODIFIED:20260212T211009Z
UID:10003701-1895479200-1895482800@scparents.org
SUMMARY:TCMU Tots
DESCRIPTION:Designed to spark curiosity and creativity for little explorers! Little ones ages 2 to 5 will enjoy sensory play and develop fine motor and social skills. Located in Get Up & Grow on the third floor.
URL:https://scparents.org/event/tcmu-tots/2030-01-24/
LOCATION:The Children’s Museum of the Upstate\, 300 College Street\, Greenville\, SC\, 29601
CATEGORIES:Greenville
END:VEVENT
BEGIN:VEVENT
DTSTART;TZID=America/New_York:20300125T100000
DTEND;TZID=America/New_York:20300125T110000
DTSTAMP:20260425T115922
CREATED:20260212T211009Z
LAST-MODIFIED:20260212T211009Z
UID:10003702-1895565600-1895569200@scparents.org
SUMMARY:TCMU Tots
DESCRIPTION:Designed to spark curiosity and creativity for little explorers! Little ones ages 2 to 5 will enjoy sensory play and develop fine motor and social skills. Located in Get Up & Grow on the third floor.
URL:https://scparents.org/event/tcmu-tots/2030-01-25/
LOCATION:The Children’s Museum of the Upstate\, 300 College Street\, Greenville\, SC\, 29601
CATEGORIES:Greenville
END:VEVENT
BEGIN:VEVENT
DTSTART;TZID=America/New_York:20300126T100000
DTEND;TZID=America/New_York:20300126T110000
DTSTAMP:20260425T115922
CREATED:20260212T211009Z
LAST-MODIFIED:20260212T211009Z
UID:10003703-1895652000-1895655600@scparents.org
SUMMARY:TCMU Tots
DESCRIPTION:Designed to spark curiosity and creativity for little explorers! Little ones ages 2 to 5 will enjoy sensory play and develop fine motor and social skills. Located in Get Up & Grow on the third floor.
URL:https://scparents.org/event/tcmu-tots/2030-01-26/
LOCATION:The Children’s Museum of the Upstate\, 300 College Street\, Greenville\, SC\, 29601
CATEGORIES:Greenville
END:VEVENT
BEGIN:VEVENT
DTSTART;TZID=America/New_York:20300129T100000
DTEND;TZID=America/New_York:20300129T110000
DTSTAMP:20260425T115922
CREATED:20260212T211009Z
LAST-MODIFIED:20260212T211009Z
UID:10003704-1895911200-1895914800@scparents.org
SUMMARY:TCMU Tots
DESCRIPTION:Designed to spark curiosity and creativity for little explorers! Little ones ages 2 to 5 will enjoy sensory play and develop fine motor and social skills. Located in Get Up & Grow on the third floor.
URL:https://scparents.org/event/tcmu-tots/2030-01-29/
LOCATION:The Children’s Museum of the Upstate\, 300 College Street\, Greenville\, SC\, 29601
CATEGORIES:Greenville
END:VEVENT
BEGIN:VEVENT
DTSTART;TZID=America/New_York:20300130T100000
DTEND;TZID=America/New_York:20300130T110000
DTSTAMP:20260425T115922
CREATED:20260212T211009Z
LAST-MODIFIED:20260212T211009Z
UID:10003705-1895997600-1896001200@scparents.org
SUMMARY:TCMU Tots
DESCRIPTION:Designed to spark curiosity and creativity for little explorers! Little ones ages 2 to 5 will enjoy sensory play and develop fine motor and social skills. Located in Get Up & Grow on the third floor.
URL:https://scparents.org/event/tcmu-tots/2030-01-30/
LOCATION:The Children’s Museum of the Upstate\, 300 College Street\, Greenville\, SC\, 29601
CATEGORIES:Greenville
END:VEVENT
BEGIN:VEVENT
DTSTART;TZID=America/New_York:20300131T100000
DTEND;TZID=America/New_York:20300131T110000
DTSTAMP:20260425T115922
CREATED:20260212T211009Z
LAST-MODIFIED:20260212T211009Z
UID:10003706-1896084000-1896087600@scparents.org
SUMMARY:TCMU Tots
DESCRIPTION:Designed to spark curiosity and creativity for little explorers! Little ones ages 2 to 5 will enjoy sensory play and develop fine motor and social skills. Located in Get Up & Grow on the third floor.
URL:https://scparents.org/event/tcmu-tots/2030-01-31/
LOCATION:The Children’s Museum of the Upstate\, 300 College Street\, Greenville\, SC\, 29601
CATEGORIES:Greenville
END:VEVENT
BEGIN:VEVENT
DTSTART;TZID=America/New_York:20300201T100000
DTEND;TZID=America/New_York:20300201T110000
DTSTAMP:20260425T115922
CREATED:20260212T211009Z
LAST-MODIFIED:20260212T211009Z
UID:10003707-1896170400-1896174000@scparents.org
SUMMARY:TCMU Tots
DESCRIPTION:Designed to spark curiosity and creativity for little explorers! Little ones ages 2 to 5 will enjoy sensory play and develop fine motor and social skills. Located in Get Up & Grow on the third floor.
URL:https://scparents.org/event/tcmu-tots/2030-02-01/
LOCATION:The Children’s Museum of the Upstate\, 300 College Street\, Greenville\, SC\, 29601
CATEGORIES:Greenville
END:VEVENT
BEGIN:VEVENT
DTSTART;TZID=America/New_York:20300202T100000
DTEND;TZID=America/New_York:20300202T110000
DTSTAMP:20260425T115922
CREATED:20260212T211009Z
LAST-MODIFIED:20260212T211009Z
UID:10003708-1896256800-1896260400@scparents.org
SUMMARY:TCMU Tots
DESCRIPTION:Designed to spark curiosity and creativity for little explorers! Little ones ages 2 to 5 will enjoy sensory play and develop fine motor and social skills. Located in Get Up & Grow on the third floor.
URL:https://scparents.org/event/tcmu-tots/2030-02-02/
LOCATION:The Children’s Museum of the Upstate\, 300 College Street\, Greenville\, SC\, 29601
CATEGORIES:Greenville
END:VEVENT
BEGIN:VEVENT
DTSTART;TZID=America/New_York:20300205T100000
DTEND;TZID=America/New_York:20300205T110000
DTSTAMP:20260425T115922
CREATED:20260212T211009Z
LAST-MODIFIED:20260212T211009Z
UID:10003709-1896516000-1896519600@scparents.org
SUMMARY:TCMU Tots
DESCRIPTION:Designed to spark curiosity and creativity for little explorers! Little ones ages 2 to 5 will enjoy sensory play and develop fine motor and social skills. Located in Get Up & Grow on the third floor.
URL:https://scparents.org/event/tcmu-tots/2030-02-05/
LOCATION:The Children’s Museum of the Upstate\, 300 College Street\, Greenville\, SC\, 29601
CATEGORIES:Greenville
END:VEVENT
BEGIN:VEVENT
DTSTART;TZID=America/New_York:20300206T100000
DTEND;TZID=America/New_York:20300206T110000
DTSTAMP:20260425T115922
CREATED:20260212T211009Z
LAST-MODIFIED:20260212T211009Z
UID:10003710-1896602400-1896606000@scparents.org
SUMMARY:TCMU Tots
DESCRIPTION:Designed to spark curiosity and creativity for little explorers! Little ones ages 2 to 5 will enjoy sensory play and develop fine motor and social skills. Located in Get Up & Grow on the third floor.
URL:https://scparents.org/event/tcmu-tots/2030-02-06/
LOCATION:The Children’s Museum of the Upstate\, 300 College Street\, Greenville\, SC\, 29601
CATEGORIES:Greenville
END:VEVENT
BEGIN:VEVENT
DTSTART;TZID=America/New_York:20300207T100000
DTEND;TZID=America/New_York:20300207T110000
DTSTAMP:20260425T115922
CREATED:20260212T211009Z
LAST-MODIFIED:20260212T211009Z
UID:10003711-1896688800-1896692400@scparents.org
SUMMARY:TCMU Tots
DESCRIPTION:Designed to spark curiosity and creativity for little explorers! Little ones ages 2 to 5 will enjoy sensory play and develop fine motor and social skills. Located in Get Up & Grow on the third floor.
URL:https://scparents.org/event/tcmu-tots/2030-02-07/
LOCATION:The Children’s Museum of the Upstate\, 300 College Street\, Greenville\, SC\, 29601
CATEGORIES:Greenville
END:VEVENT
BEGIN:VEVENT
DTSTART;TZID=America/New_York:20300208T100000
DTEND;TZID=America/New_York:20300208T110000
DTSTAMP:20260425T115922
CREATED:20260212T211009Z
LAST-MODIFIED:20260212T211009Z
UID:10003712-1896775200-1896778800@scparents.org
SUMMARY:TCMU Tots
DESCRIPTION:Designed to spark curiosity and creativity for little explorers! Little ones ages 2 to 5 will enjoy sensory play and develop fine motor and social skills. Located in Get Up & Grow on the third floor.
URL:https://scparents.org/event/tcmu-tots/2030-02-08/
LOCATION:The Children’s Museum of the Upstate\, 300 College Street\, Greenville\, SC\, 29601
CATEGORIES:Greenville
END:VEVENT
BEGIN:VEVENT
DTSTART;TZID=America/New_York:20300209T100000
DTEND;TZID=America/New_York:20300209T110000
DTSTAMP:20260425T115922
CREATED:20260212T211009Z
LAST-MODIFIED:20260212T211009Z
UID:10003713-1896861600-1896865200@scparents.org
SUMMARY:TCMU Tots
DESCRIPTION:Designed to spark curiosity and creativity for little explorers! Little ones ages 2 to 5 will enjoy sensory play and develop fine motor and social skills. Located in Get Up & Grow on the third floor.
URL:https://scparents.org/event/tcmu-tots/2030-02-09/
LOCATION:The Children’s Museum of the Upstate\, 300 College Street\, Greenville\, SC\, 29601
CATEGORIES:Greenville
END:VEVENT
BEGIN:VEVENT
DTSTART;TZID=America/New_York:20300212T100000
DTEND;TZID=America/New_York:20300212T110000
DTSTAMP:20260425T115922
CREATED:20260212T211009Z
LAST-MODIFIED:20260212T211009Z
UID:10003714-1897120800-1897124400@scparents.org
SUMMARY:TCMU Tots
DESCRIPTION:Designed to spark curiosity and creativity for little explorers! Little ones ages 2 to 5 will enjoy sensory play and develop fine motor and social skills. Located in Get Up & Grow on the third floor.
URL:https://scparents.org/event/tcmu-tots/2030-02-12/
LOCATION:The Children’s Museum of the Upstate\, 300 College Street\, Greenville\, SC\, 29601
CATEGORIES:Greenville
END:VEVENT
BEGIN:VEVENT
DTSTART;TZID=America/New_York:20300213T100000
DTEND;TZID=America/New_York:20300213T110000
DTSTAMP:20260425T115922
CREATED:20260212T211009Z
LAST-MODIFIED:20260212T211009Z
UID:10003715-1897207200-1897210800@scparents.org
SUMMARY:TCMU Tots
DESCRIPTION:Designed to spark curiosity and creativity for little explorers! Little ones ages 2 to 5 will enjoy sensory play and develop fine motor and social skills. Located in Get Up & Grow on the third floor.
URL:https://scparents.org/event/tcmu-tots/2030-02-13/
LOCATION:The Children’s Museum of the Upstate\, 300 College Street\, Greenville\, SC\, 29601
CATEGORIES:Greenville
END:VEVENT
BEGIN:VEVENT
DTSTART;TZID=America/New_York:20300214T100000
DTEND;TZID=America/New_York:20300214T110000
DTSTAMP:20260425T115922
CREATED:20260212T211009Z
LAST-MODIFIED:20260212T211009Z
UID:10003716-1897293600-1897297200@scparents.org
SUMMARY:TCMU Tots
DESCRIPTION:Designed to spark curiosity and creativity for little explorers! Little ones ages 2 to 5 will enjoy sensory play and develop fine motor and social skills. Located in Get Up & Grow on the third floor.
URL:https://scparents.org/event/tcmu-tots/2030-02-14/
LOCATION:The Children’s Museum of the Upstate\, 300 College Street\, Greenville\, SC\, 29601
CATEGORIES:Greenville
END:VEVENT
BEGIN:VEVENT
DTSTART;TZID=America/New_York:20300215T100000
DTEND;TZID=America/New_York:20300215T110000
DTSTAMP:20260425T115922
CREATED:20260212T211009Z
LAST-MODIFIED:20260212T211009Z
UID:10003717-1897380000-1897383600@scparents.org
SUMMARY:TCMU Tots
DESCRIPTION:Designed to spark curiosity and creativity for little explorers! Little ones ages 2 to 5 will enjoy sensory play and develop fine motor and social skills. Located in Get Up & Grow on the third floor.
URL:https://scparents.org/event/tcmu-tots/2030-02-15/
LOCATION:The Children’s Museum of the Upstate\, 300 College Street\, Greenville\, SC\, 29601
CATEGORIES:Greenville
END:VEVENT
BEGIN:VEVENT
DTSTART;TZID=America/New_York:20300216T100000
DTEND;TZID=America/New_York:20300216T110000
DTSTAMP:20260425T115922
CREATED:20260212T211009Z
LAST-MODIFIED:20260212T211009Z
UID:10003718-1897466400-1897470000@scparents.org
SUMMARY:TCMU Tots
DESCRIPTION:Designed to spark curiosity and creativity for little explorers! Little ones ages 2 to 5 will enjoy sensory play and develop fine motor and social skills. Located in Get Up & Grow on the third floor.
URL:https://scparents.org/event/tcmu-tots/2030-02-16/
LOCATION:The Children’s Museum of the Upstate\, 300 College Street\, Greenville\, SC\, 29601
CATEGORIES:Greenville
END:VEVENT
BEGIN:VEVENT
DTSTART;TZID=America/New_York:20300219T100000
DTEND;TZID=America/New_York:20300219T110000
DTSTAMP:20260425T115922
CREATED:20260212T211009Z
LAST-MODIFIED:20260212T211009Z
UID:10003719-1897725600-1897729200@scparents.org
SUMMARY:TCMU Tots
DESCRIPTION:Designed to spark curiosity and creativity for little explorers! Little ones ages 2 to 5 will enjoy sensory play and develop fine motor and social skills. Located in Get Up & Grow on the third floor.
URL:https://scparents.org/event/tcmu-tots/2030-02-19/
LOCATION:The Children’s Museum of the Upstate\, 300 College Street\, Greenville\, SC\, 29601
CATEGORIES:Greenville
END:VEVENT
BEGIN:VEVENT
DTSTART;TZID=America/New_York:20300220T100000
DTEND;TZID=America/New_York:20300220T110000
DTSTAMP:20260425T115922
CREATED:20260212T211009Z
LAST-MODIFIED:20260212T211009Z
UID:10003720-1897812000-1897815600@scparents.org
SUMMARY:TCMU Tots
DESCRIPTION:Designed to spark curiosity and creativity for little explorers! Little ones ages 2 to 5 will enjoy sensory play and develop fine motor and social skills. Located in Get Up & Grow on the third floor.
URL:https://scparents.org/event/tcmu-tots/2030-02-20/
LOCATION:The Children’s Museum of the Upstate\, 300 College Street\, Greenville\, SC\, 29601
CATEGORIES:Greenville
END:VEVENT
BEGIN:VEVENT
DTSTART;TZID=America/New_York:20300221T100000
DTEND;TZID=America/New_York:20300221T110000
DTSTAMP:20260425T115922
CREATED:20260212T211009Z
LAST-MODIFIED:20260212T211009Z
UID:10003721-1897898400-1897902000@scparents.org
SUMMARY:TCMU Tots
DESCRIPTION:Designed to spark curiosity and creativity for little explorers! Little ones ages 2 to 5 will enjoy sensory play and develop fine motor and social skills. Located in Get Up & Grow on the third floor.
URL:https://scparents.org/event/tcmu-tots/2030-02-21/
LOCATION:The Children’s Museum of the Upstate\, 300 College Street\, Greenville\, SC\, 29601
CATEGORIES:Greenville
END:VEVENT
BEGIN:VEVENT
DTSTART;TZID=America/New_York:20300222T100000
DTEND;TZID=America/New_York:20300222T110000
DTSTAMP:20260425T115922
CREATED:20260212T211009Z
LAST-MODIFIED:20260212T211009Z
UID:10003722-1897984800-1897988400@scparents.org
SUMMARY:TCMU Tots
DESCRIPTION:Designed to spark curiosity and creativity for little explorers! Little ones ages 2 to 5 will enjoy sensory play and develop fine motor and social skills. Located in Get Up & Grow on the third floor.
URL:https://scparents.org/event/tcmu-tots/2030-02-22/
LOCATION:The Children’s Museum of the Upstate\, 300 College Street\, Greenville\, SC\, 29601
CATEGORIES:Greenville
END:VEVENT
BEGIN:VEVENT
DTSTART;TZID=America/New_York:20300223T100000
DTEND;TZID=America/New_York:20300223T110000
DTSTAMP:20260425T115922
CREATED:20260212T211009Z
LAST-MODIFIED:20260212T211009Z
UID:10003723-1898071200-1898074800@scparents.org
SUMMARY:TCMU Tots
DESCRIPTION:Designed to spark curiosity and creativity for little explorers! Little ones ages 2 to 5 will enjoy sensory play and develop fine motor and social skills. Located in Get Up & Grow on the third floor.
URL:https://scparents.org/event/tcmu-tots/2030-02-23/
LOCATION:The Children’s Museum of the Upstate\, 300 College Street\, Greenville\, SC\, 29601
CATEGORIES:Greenville
END:VEVENT
BEGIN:VEVENT
DTSTART;TZID=America/New_York:20300226T100000
DTEND;TZID=America/New_York:20300226T110000
DTSTAMP:20260425T115922
CREATED:20260212T211009Z
LAST-MODIFIED:20260212T211009Z
UID:10003724-1898330400-1898334000@scparents.org
SUMMARY:TCMU Tots
DESCRIPTION:Designed to spark curiosity and creativity for little explorers! Little ones ages 2 to 5 will enjoy sensory play and develop fine motor and social skills. Located in Get Up & Grow on the third floor.
URL:https://scparents.org/event/tcmu-tots/2030-02-26/
LOCATION:The Children’s Museum of the Upstate\, 300 College Street\, Greenville\, SC\, 29601
CATEGORIES:Greenville
END:VEVENT
BEGIN:VEVENT
DTSTART;TZID=America/New_York:20300227T100000
DTEND;TZID=America/New_York:20300227T110000
DTSTAMP:20260425T115922
CREATED:20260212T211009Z
LAST-MODIFIED:20260212T211009Z
UID:10003725-1898416800-1898420400@scparents.org
SUMMARY:TCMU Tots
DESCRIPTION:Designed to spark curiosity and creativity for little explorers! Little ones ages 2 to 5 will enjoy sensory play and develop fine motor and social skills. Located in Get Up & Grow on the third floor.
URL:https://scparents.org/event/tcmu-tots/2030-02-27/
LOCATION:The Children’s Museum of the Upstate\, 300 College Street\, Greenville\, SC\, 29601
CATEGORIES:Greenville
END:VEVENT
END:VCALENDAR