BEGIN:VCALENDAR
VERSION:2.0
PRODID:-//scParents.org - ECPv6.15.20//NONSGML v1.0//EN
CALSCALE:GREGORIAN
METHOD:PUBLISH
X-WR-CALNAME:scParents.org
X-ORIGINAL-URL:https://scparents.org
X-WR-CALDESC:Events for scParents.org
REFRESH-INTERVAL;VALUE=DURATION:PT1H
X-Robots-Tag:noindex
X-PUBLISHED-TTL:PT1H
BEGIN:VTIMEZONE
TZID:America/New_York
BEGIN:DAYLIGHT
TZOFFSETFROM:-0500
TZOFFSETTO:-0400
TZNAME:EDT
DTSTART:20280312T070000
END:DAYLIGHT
BEGIN:STANDARD
TZOFFSETFROM:-0400
TZOFFSETTO:-0500
TZNAME:EST
DTSTART:20281105T060000
END:STANDARD
BEGIN:DAYLIGHT
TZOFFSETFROM:-0500
TZOFFSETTO:-0400
TZNAME:EDT
DTSTART:20290311T070000
END:DAYLIGHT
BEGIN:STANDARD
TZOFFSETFROM:-0400
TZOFFSETTO:-0500
TZNAME:EST
DTSTART:20291104T060000
END:STANDARD
BEGIN:DAYLIGHT
TZOFFSETFROM:-0500
TZOFFSETTO:-0400
TZNAME:EDT
DTSTART:20300310T070000
END:DAYLIGHT
BEGIN:STANDARD
TZOFFSETFROM:-0400
TZOFFSETTO:-0500
TZNAME:EST
DTSTART:20301103T060000
END:STANDARD
END:VTIMEZONE
BEGIN:VEVENT
DTSTART;TZID=America/New_York:20291109T100000
DTEND;TZID=America/New_York:20291109T110000
DTSTAMP:20260425T065940
CREATED:20260212T211009Z
LAST-MODIFIED:20260212T211009Z
UID:10003647-1888912800-1888916400@scparents.org
SUMMARY:TCMU Tots
DESCRIPTION:Designed to spark curiosity and creativity for little explorers! Little ones ages 2 to 5 will enjoy sensory play and develop fine motor and social skills. Located in Get Up & Grow on the third floor.
URL:https://scparents.org/event/tcmu-tots/2029-11-09/
LOCATION:The Children’s Museum of the Upstate\, 300 College Street\, Greenville\, SC\, 29601
CATEGORIES:Greenville
END:VEVENT
BEGIN:VEVENT
DTSTART;TZID=America/New_York:20291110T100000
DTEND;TZID=America/New_York:20291110T110000
DTSTAMP:20260425T065940
CREATED:20260212T211009Z
LAST-MODIFIED:20260212T211009Z
UID:10003648-1888999200-1889002800@scparents.org
SUMMARY:TCMU Tots
DESCRIPTION:Designed to spark curiosity and creativity for little explorers! Little ones ages 2 to 5 will enjoy sensory play and develop fine motor and social skills. Located in Get Up & Grow on the third floor.
URL:https://scparents.org/event/tcmu-tots/2029-11-10/
LOCATION:The Children’s Museum of the Upstate\, 300 College Street\, Greenville\, SC\, 29601
CATEGORIES:Greenville
END:VEVENT
BEGIN:VEVENT
DTSTART;TZID=America/New_York:20291113T100000
DTEND;TZID=America/New_York:20291113T110000
DTSTAMP:20260425T065940
CREATED:20260212T211009Z
LAST-MODIFIED:20260212T211009Z
UID:10003649-1889258400-1889262000@scparents.org
SUMMARY:TCMU Tots
DESCRIPTION:Designed to spark curiosity and creativity for little explorers! Little ones ages 2 to 5 will enjoy sensory play and develop fine motor and social skills. Located in Get Up & Grow on the third floor.
URL:https://scparents.org/event/tcmu-tots/2029-11-13/
LOCATION:The Children’s Museum of the Upstate\, 300 College Street\, Greenville\, SC\, 29601
CATEGORIES:Greenville
END:VEVENT
BEGIN:VEVENT
DTSTART;TZID=America/New_York:20291114T100000
DTEND;TZID=America/New_York:20291114T110000
DTSTAMP:20260425T065940
CREATED:20260212T211009Z
LAST-MODIFIED:20260212T211009Z
UID:10003650-1889344800-1889348400@scparents.org
SUMMARY:TCMU Tots
DESCRIPTION:Designed to spark curiosity and creativity for little explorers! Little ones ages 2 to 5 will enjoy sensory play and develop fine motor and social skills. Located in Get Up & Grow on the third floor.
URL:https://scparents.org/event/tcmu-tots/2029-11-14/
LOCATION:The Children’s Museum of the Upstate\, 300 College Street\, Greenville\, SC\, 29601
CATEGORIES:Greenville
END:VEVENT
BEGIN:VEVENT
DTSTART;TZID=America/New_York:20291115T100000
DTEND;TZID=America/New_York:20291115T110000
DTSTAMP:20260425T065940
CREATED:20260212T211009Z
LAST-MODIFIED:20260212T211009Z
UID:10003651-1889431200-1889434800@scparents.org
SUMMARY:TCMU Tots
DESCRIPTION:Designed to spark curiosity and creativity for little explorers! Little ones ages 2 to 5 will enjoy sensory play and develop fine motor and social skills. Located in Get Up & Grow on the third floor.
URL:https://scparents.org/event/tcmu-tots/2029-11-15/
LOCATION:The Children’s Museum of the Upstate\, 300 College Street\, Greenville\, SC\, 29601
CATEGORIES:Greenville
END:VEVENT
BEGIN:VEVENT
DTSTART;TZID=America/New_York:20291116T100000
DTEND;TZID=America/New_York:20291116T110000
DTSTAMP:20260425T065940
CREATED:20260212T211009Z
LAST-MODIFIED:20260212T211009Z
UID:10003652-1889517600-1889521200@scparents.org
SUMMARY:TCMU Tots
DESCRIPTION:Designed to spark curiosity and creativity for little explorers! Little ones ages 2 to 5 will enjoy sensory play and develop fine motor and social skills. Located in Get Up & Grow on the third floor.
URL:https://scparents.org/event/tcmu-tots/2029-11-16/
LOCATION:The Children’s Museum of the Upstate\, 300 College Street\, Greenville\, SC\, 29601
CATEGORIES:Greenville
END:VEVENT
BEGIN:VEVENT
DTSTART;TZID=America/New_York:20291117T100000
DTEND;TZID=America/New_York:20291117T110000
DTSTAMP:20260425T065940
CREATED:20260212T211009Z
LAST-MODIFIED:20260212T211009Z
UID:10003653-1889604000-1889607600@scparents.org
SUMMARY:TCMU Tots
DESCRIPTION:Designed to spark curiosity and creativity for little explorers! Little ones ages 2 to 5 will enjoy sensory play and develop fine motor and social skills. Located in Get Up & Grow on the third floor.
URL:https://scparents.org/event/tcmu-tots/2029-11-17/
LOCATION:The Children’s Museum of the Upstate\, 300 College Street\, Greenville\, SC\, 29601
CATEGORIES:Greenville
END:VEVENT
BEGIN:VEVENT
DTSTART;TZID=America/New_York:20291120T100000
DTEND;TZID=America/New_York:20291120T110000
DTSTAMP:20260425T065940
CREATED:20260212T211009Z
LAST-MODIFIED:20260212T211009Z
UID:10003654-1889863200-1889866800@scparents.org
SUMMARY:TCMU Tots
DESCRIPTION:Designed to spark curiosity and creativity for little explorers! Little ones ages 2 to 5 will enjoy sensory play and develop fine motor and social skills. Located in Get Up & Grow on the third floor.
URL:https://scparents.org/event/tcmu-tots/2029-11-20/
LOCATION:The Children’s Museum of the Upstate\, 300 College Street\, Greenville\, SC\, 29601
CATEGORIES:Greenville
END:VEVENT
BEGIN:VEVENT
DTSTART;TZID=America/New_York:20291121T100000
DTEND;TZID=America/New_York:20291121T110000
DTSTAMP:20260425T065940
CREATED:20260212T211009Z
LAST-MODIFIED:20260212T211009Z
UID:10003655-1889949600-1889953200@scparents.org
SUMMARY:TCMU Tots
DESCRIPTION:Designed to spark curiosity and creativity for little explorers! Little ones ages 2 to 5 will enjoy sensory play and develop fine motor and social skills. Located in Get Up & Grow on the third floor.
URL:https://scparents.org/event/tcmu-tots/2029-11-21/
LOCATION:The Children’s Museum of the Upstate\, 300 College Street\, Greenville\, SC\, 29601
CATEGORIES:Greenville
END:VEVENT
BEGIN:VEVENT
DTSTART;TZID=America/New_York:20291122T100000
DTEND;TZID=America/New_York:20291122T110000
DTSTAMP:20260425T065940
CREATED:20260212T211009Z
LAST-MODIFIED:20260212T211009Z
UID:10003656-1890036000-1890039600@scparents.org
SUMMARY:TCMU Tots
DESCRIPTION:Designed to spark curiosity and creativity for little explorers! Little ones ages 2 to 5 will enjoy sensory play and develop fine motor and social skills. Located in Get Up & Grow on the third floor.
URL:https://scparents.org/event/tcmu-tots/2029-11-22/
LOCATION:The Children’s Museum of the Upstate\, 300 College Street\, Greenville\, SC\, 29601
CATEGORIES:Greenville
END:VEVENT
BEGIN:VEVENT
DTSTART;TZID=America/New_York:20291123T100000
DTEND;TZID=America/New_York:20291123T110000
DTSTAMP:20260425T065940
CREATED:20260212T211009Z
LAST-MODIFIED:20260212T211009Z
UID:10003657-1890122400-1890126000@scparents.org
SUMMARY:TCMU Tots
DESCRIPTION:Designed to spark curiosity and creativity for little explorers! Little ones ages 2 to 5 will enjoy sensory play and develop fine motor and social skills. Located in Get Up & Grow on the third floor.
URL:https://scparents.org/event/tcmu-tots/2029-11-23/
LOCATION:The Children’s Museum of the Upstate\, 300 College Street\, Greenville\, SC\, 29601
CATEGORIES:Greenville
END:VEVENT
BEGIN:VEVENT
DTSTART;TZID=America/New_York:20291124T100000
DTEND;TZID=America/New_York:20291124T110000
DTSTAMP:20260425T065940
CREATED:20260212T211009Z
LAST-MODIFIED:20260212T211009Z
UID:10003658-1890208800-1890212400@scparents.org
SUMMARY:TCMU Tots
DESCRIPTION:Designed to spark curiosity and creativity for little explorers! Little ones ages 2 to 5 will enjoy sensory play and develop fine motor and social skills. Located in Get Up & Grow on the third floor.
URL:https://scparents.org/event/tcmu-tots/2029-11-24/
LOCATION:The Children’s Museum of the Upstate\, 300 College Street\, Greenville\, SC\, 29601
CATEGORIES:Greenville
END:VEVENT
BEGIN:VEVENT
DTSTART;TZID=America/New_York:20291127T100000
DTEND;TZID=America/New_York:20291127T110000
DTSTAMP:20260425T065940
CREATED:20260212T211009Z
LAST-MODIFIED:20260212T211009Z
UID:10003659-1890468000-1890471600@scparents.org
SUMMARY:TCMU Tots
DESCRIPTION:Designed to spark curiosity and creativity for little explorers! Little ones ages 2 to 5 will enjoy sensory play and develop fine motor and social skills. Located in Get Up & Grow on the third floor.
URL:https://scparents.org/event/tcmu-tots/2029-11-27/
LOCATION:The Children’s Museum of the Upstate\, 300 College Street\, Greenville\, SC\, 29601
CATEGORIES:Greenville
END:VEVENT
BEGIN:VEVENT
DTSTART;TZID=America/New_York:20291128T100000
DTEND;TZID=America/New_York:20291128T110000
DTSTAMP:20260425T065940
CREATED:20260212T211009Z
LAST-MODIFIED:20260212T211009Z
UID:10003660-1890554400-1890558000@scparents.org
SUMMARY:TCMU Tots
DESCRIPTION:Designed to spark curiosity and creativity for little explorers! Little ones ages 2 to 5 will enjoy sensory play and develop fine motor and social skills. Located in Get Up & Grow on the third floor.
URL:https://scparents.org/event/tcmu-tots/2029-11-28/
LOCATION:The Children’s Museum of the Upstate\, 300 College Street\, Greenville\, SC\, 29601
CATEGORIES:Greenville
END:VEVENT
BEGIN:VEVENT
DTSTART;TZID=America/New_York:20291129T100000
DTEND;TZID=America/New_York:20291129T110000
DTSTAMP:20260425T065940
CREATED:20260212T211009Z
LAST-MODIFIED:20260212T211009Z
UID:10003661-1890640800-1890644400@scparents.org
SUMMARY:TCMU Tots
DESCRIPTION:Designed to spark curiosity and creativity for little explorers! Little ones ages 2 to 5 will enjoy sensory play and develop fine motor and social skills. Located in Get Up & Grow on the third floor.
URL:https://scparents.org/event/tcmu-tots/2029-11-29/
LOCATION:The Children’s Museum of the Upstate\, 300 College Street\, Greenville\, SC\, 29601
CATEGORIES:Greenville
END:VEVENT
BEGIN:VEVENT
DTSTART;TZID=America/New_York:20291130T100000
DTEND;TZID=America/New_York:20291130T110000
DTSTAMP:20260425T065940
CREATED:20260212T211009Z
LAST-MODIFIED:20260212T211009Z
UID:10003662-1890727200-1890730800@scparents.org
SUMMARY:TCMU Tots
DESCRIPTION:Designed to spark curiosity and creativity for little explorers! Little ones ages 2 to 5 will enjoy sensory play and develop fine motor and social skills. Located in Get Up & Grow on the third floor.
URL:https://scparents.org/event/tcmu-tots/2029-11-30/
LOCATION:The Children’s Museum of the Upstate\, 300 College Street\, Greenville\, SC\, 29601
CATEGORIES:Greenville
END:VEVENT
BEGIN:VEVENT
DTSTART;TZID=America/New_York:20291201T100000
DTEND;TZID=America/New_York:20291201T110000
DTSTAMP:20260425T065940
CREATED:20260212T211009Z
LAST-MODIFIED:20260212T211009Z
UID:10003663-1890813600-1890817200@scparents.org
SUMMARY:TCMU Tots
DESCRIPTION:Designed to spark curiosity and creativity for little explorers! Little ones ages 2 to 5 will enjoy sensory play and develop fine motor and social skills. Located in Get Up & Grow on the third floor.
URL:https://scparents.org/event/tcmu-tots/2029-12-01/
LOCATION:The Children’s Museum of the Upstate\, 300 College Street\, Greenville\, SC\, 29601
CATEGORIES:Greenville
END:VEVENT
BEGIN:VEVENT
DTSTART;TZID=America/New_York:20291204T100000
DTEND;TZID=America/New_York:20291204T110000
DTSTAMP:20260425T065940
CREATED:20260212T211009Z
LAST-MODIFIED:20260212T211009Z
UID:10003664-1891072800-1891076400@scparents.org
SUMMARY:TCMU Tots
DESCRIPTION:Designed to spark curiosity and creativity for little explorers! Little ones ages 2 to 5 will enjoy sensory play and develop fine motor and social skills. Located in Get Up & Grow on the third floor.
URL:https://scparents.org/event/tcmu-tots/2029-12-04/
LOCATION:The Children’s Museum of the Upstate\, 300 College Street\, Greenville\, SC\, 29601
CATEGORIES:Greenville
END:VEVENT
BEGIN:VEVENT
DTSTART;TZID=America/New_York:20291205T100000
DTEND;TZID=America/New_York:20291205T110000
DTSTAMP:20260425T065940
CREATED:20260212T211009Z
LAST-MODIFIED:20260212T211009Z
UID:10003665-1891159200-1891162800@scparents.org
SUMMARY:TCMU Tots
DESCRIPTION:Designed to spark curiosity and creativity for little explorers! Little ones ages 2 to 5 will enjoy sensory play and develop fine motor and social skills. Located in Get Up & Grow on the third floor.
URL:https://scparents.org/event/tcmu-tots/2029-12-05/
LOCATION:The Children’s Museum of the Upstate\, 300 College Street\, Greenville\, SC\, 29601
CATEGORIES:Greenville
END:VEVENT
BEGIN:VEVENT
DTSTART;TZID=America/New_York:20291206T100000
DTEND;TZID=America/New_York:20291206T110000
DTSTAMP:20260425T065940
CREATED:20260212T211009Z
LAST-MODIFIED:20260212T211009Z
UID:10003666-1891245600-1891249200@scparents.org
SUMMARY:TCMU Tots
DESCRIPTION:Designed to spark curiosity and creativity for little explorers! Little ones ages 2 to 5 will enjoy sensory play and develop fine motor and social skills. Located in Get Up & Grow on the third floor.
URL:https://scparents.org/event/tcmu-tots/2029-12-06/
LOCATION:The Children’s Museum of the Upstate\, 300 College Street\, Greenville\, SC\, 29601
CATEGORIES:Greenville
END:VEVENT
BEGIN:VEVENT
DTSTART;TZID=America/New_York:20291207T100000
DTEND;TZID=America/New_York:20291207T110000
DTSTAMP:20260425T065940
CREATED:20260212T211009Z
LAST-MODIFIED:20260212T211009Z
UID:10003667-1891332000-1891335600@scparents.org
SUMMARY:TCMU Tots
DESCRIPTION:Designed to spark curiosity and creativity for little explorers! Little ones ages 2 to 5 will enjoy sensory play and develop fine motor and social skills. Located in Get Up & Grow on the third floor.
URL:https://scparents.org/event/tcmu-tots/2029-12-07/
LOCATION:The Children’s Museum of the Upstate\, 300 College Street\, Greenville\, SC\, 29601
CATEGORIES:Greenville
END:VEVENT
BEGIN:VEVENT
DTSTART;TZID=America/New_York:20291208T100000
DTEND;TZID=America/New_York:20291208T110000
DTSTAMP:20260425T065940
CREATED:20260212T211009Z
LAST-MODIFIED:20260212T211009Z
UID:10003668-1891418400-1891422000@scparents.org
SUMMARY:TCMU Tots
DESCRIPTION:Designed to spark curiosity and creativity for little explorers! Little ones ages 2 to 5 will enjoy sensory play and develop fine motor and social skills. Located in Get Up & Grow on the third floor.
URL:https://scparents.org/event/tcmu-tots/2029-12-08/
LOCATION:The Children’s Museum of the Upstate\, 300 College Street\, Greenville\, SC\, 29601
CATEGORIES:Greenville
END:VEVENT
BEGIN:VEVENT
DTSTART;TZID=America/New_York:20291211T100000
DTEND;TZID=America/New_York:20291211T110000
DTSTAMP:20260425T065940
CREATED:20260212T211009Z
LAST-MODIFIED:20260212T211009Z
UID:10003669-1891677600-1891681200@scparents.org
SUMMARY:TCMU Tots
DESCRIPTION:Designed to spark curiosity and creativity for little explorers! Little ones ages 2 to 5 will enjoy sensory play and develop fine motor and social skills. Located in Get Up & Grow on the third floor.
URL:https://scparents.org/event/tcmu-tots/2029-12-11/
LOCATION:The Children’s Museum of the Upstate\, 300 College Street\, Greenville\, SC\, 29601
CATEGORIES:Greenville
END:VEVENT
BEGIN:VEVENT
DTSTART;TZID=America/New_York:20291212T100000
DTEND;TZID=America/New_York:20291212T110000
DTSTAMP:20260425T065940
CREATED:20260212T211009Z
LAST-MODIFIED:20260212T211009Z
UID:10003670-1891764000-1891767600@scparents.org
SUMMARY:TCMU Tots
DESCRIPTION:Designed to spark curiosity and creativity for little explorers! Little ones ages 2 to 5 will enjoy sensory play and develop fine motor and social skills. Located in Get Up & Grow on the third floor.
URL:https://scparents.org/event/tcmu-tots/2029-12-12/
LOCATION:The Children’s Museum of the Upstate\, 300 College Street\, Greenville\, SC\, 29601
CATEGORIES:Greenville
END:VEVENT
BEGIN:VEVENT
DTSTART;TZID=America/New_York:20291213T100000
DTEND;TZID=America/New_York:20291213T110000
DTSTAMP:20260425T065940
CREATED:20260212T211009Z
LAST-MODIFIED:20260212T211009Z
UID:10003671-1891850400-1891854000@scparents.org
SUMMARY:TCMU Tots
DESCRIPTION:Designed to spark curiosity and creativity for little explorers! Little ones ages 2 to 5 will enjoy sensory play and develop fine motor and social skills. Located in Get Up & Grow on the third floor.
URL:https://scparents.org/event/tcmu-tots/2029-12-13/
LOCATION:The Children’s Museum of the Upstate\, 300 College Street\, Greenville\, SC\, 29601
CATEGORIES:Greenville
END:VEVENT
BEGIN:VEVENT
DTSTART;TZID=America/New_York:20291214T100000
DTEND;TZID=America/New_York:20291214T110000
DTSTAMP:20260425T065940
CREATED:20260212T211009Z
LAST-MODIFIED:20260212T211009Z
UID:10003672-1891936800-1891940400@scparents.org
SUMMARY:TCMU Tots
DESCRIPTION:Designed to spark curiosity and creativity for little explorers! Little ones ages 2 to 5 will enjoy sensory play and develop fine motor and social skills. Located in Get Up & Grow on the third floor.
URL:https://scparents.org/event/tcmu-tots/2029-12-14/
LOCATION:The Children’s Museum of the Upstate\, 300 College Street\, Greenville\, SC\, 29601
CATEGORIES:Greenville
END:VEVENT
BEGIN:VEVENT
DTSTART;TZID=America/New_York:20291215T100000
DTEND;TZID=America/New_York:20291215T110000
DTSTAMP:20260425T065940
CREATED:20260212T211009Z
LAST-MODIFIED:20260212T211009Z
UID:10003673-1892023200-1892026800@scparents.org
SUMMARY:TCMU Tots
DESCRIPTION:Designed to spark curiosity and creativity for little explorers! Little ones ages 2 to 5 will enjoy sensory play and develop fine motor and social skills. Located in Get Up & Grow on the third floor.
URL:https://scparents.org/event/tcmu-tots/2029-12-15/
LOCATION:The Children’s Museum of the Upstate\, 300 College Street\, Greenville\, SC\, 29601
CATEGORIES:Greenville
END:VEVENT
BEGIN:VEVENT
DTSTART;TZID=America/New_York:20291218T100000
DTEND;TZID=America/New_York:20291218T110000
DTSTAMP:20260425T065940
CREATED:20260212T211009Z
LAST-MODIFIED:20260212T211009Z
UID:10003674-1892282400-1892286000@scparents.org
SUMMARY:TCMU Tots
DESCRIPTION:Designed to spark curiosity and creativity for little explorers! Little ones ages 2 to 5 will enjoy sensory play and develop fine motor and social skills. Located in Get Up & Grow on the third floor.
URL:https://scparents.org/event/tcmu-tots/2029-12-18/
LOCATION:The Children’s Museum of the Upstate\, 300 College Street\, Greenville\, SC\, 29601
CATEGORIES:Greenville
END:VEVENT
BEGIN:VEVENT
DTSTART;TZID=America/New_York:20291219T100000
DTEND;TZID=America/New_York:20291219T110000
DTSTAMP:20260425T065940
CREATED:20260212T211009Z
LAST-MODIFIED:20260212T211009Z
UID:10003675-1892368800-1892372400@scparents.org
SUMMARY:TCMU Tots
DESCRIPTION:Designed to spark curiosity and creativity for little explorers! Little ones ages 2 to 5 will enjoy sensory play and develop fine motor and social skills. Located in Get Up & Grow on the third floor.
URL:https://scparents.org/event/tcmu-tots/2029-12-19/
LOCATION:The Children’s Museum of the Upstate\, 300 College Street\, Greenville\, SC\, 29601
CATEGORIES:Greenville
END:VEVENT
BEGIN:VEVENT
DTSTART;TZID=America/New_York:20291220T100000
DTEND;TZID=America/New_York:20291220T110000
DTSTAMP:20260425T065940
CREATED:20260212T211009Z
LAST-MODIFIED:20260212T211009Z
UID:10003676-1892455200-1892458800@scparents.org
SUMMARY:TCMU Tots
DESCRIPTION:Designed to spark curiosity and creativity for little explorers! Little ones ages 2 to 5 will enjoy sensory play and develop fine motor and social skills. Located in Get Up & Grow on the third floor.
URL:https://scparents.org/event/tcmu-tots/2029-12-20/
LOCATION:The Children’s Museum of the Upstate\, 300 College Street\, Greenville\, SC\, 29601
CATEGORIES:Greenville
END:VEVENT
END:VCALENDAR