BEGIN:VCALENDAR
VERSION:2.0
PRODID:-//scParents.org - ECPv6.15.20//NONSGML v1.0//EN
CALSCALE:GREGORIAN
METHOD:PUBLISH
X-WR-CALNAME:scParents.org
X-ORIGINAL-URL:https://scparents.org
X-WR-CALDESC:Events for scParents.org
REFRESH-INTERVAL;VALUE=DURATION:PT1H
X-Robots-Tag:noindex
X-PUBLISHED-TTL:PT1H
BEGIN:VTIMEZONE
TZID:America/New_York
BEGIN:DAYLIGHT
TZOFFSETFROM:-0500
TZOFFSETTO:-0400
TZNAME:EDT
DTSTART:20260308T070000
END:DAYLIGHT
BEGIN:STANDARD
TZOFFSETFROM:-0400
TZOFFSETTO:-0500
TZNAME:EST
DTSTART:20261101T060000
END:STANDARD
BEGIN:DAYLIGHT
TZOFFSETFROM:-0500
TZOFFSETTO:-0400
TZNAME:EDT
DTSTART:20270314T070000
END:DAYLIGHT
BEGIN:STANDARD
TZOFFSETFROM:-0400
TZOFFSETTO:-0500
TZNAME:EST
DTSTART:20271107T060000
END:STANDARD
BEGIN:DAYLIGHT
TZOFFSETFROM:-0500
TZOFFSETTO:-0400
TZNAME:EDT
DTSTART:20280312T070000
END:DAYLIGHT
BEGIN:STANDARD
TZOFFSETFROM:-0400
TZOFFSETTO:-0500
TZNAME:EST
DTSTART:20281105T060000
END:STANDARD
END:VTIMEZONE
BEGIN:VEVENT
DTSTART;TZID=America/New_York:20270925T100000
DTEND;TZID=America/New_York:20270925T110000
DTSTAMP:20260422T121024
CREATED:20260212T211009Z
LAST-MODIFIED:20260212T211009Z
UID:10003093-1821866400-1821870000@scparents.org
SUMMARY:TCMU Tots
DESCRIPTION:Designed to spark curiosity and creativity for little explorers! Little ones ages 2 to 5 will enjoy sensory play and develop fine motor and social skills. Located in Get Up & Grow on the third floor.
URL:https://scparents.org/event/tcmu-tots/2027-09-25/
LOCATION:The Children’s Museum of the Upstate\, 300 College Street\, Greenville\, SC\, 29601
CATEGORIES:Greenville
END:VEVENT
BEGIN:VEVENT
DTSTART;TZID=America/New_York:20270928T100000
DTEND;TZID=America/New_York:20270928T110000
DTSTAMP:20260422T121024
CREATED:20260212T211009Z
LAST-MODIFIED:20260212T211009Z
UID:10003094-1822125600-1822129200@scparents.org
SUMMARY:TCMU Tots
DESCRIPTION:Designed to spark curiosity and creativity for little explorers! Little ones ages 2 to 5 will enjoy sensory play and develop fine motor and social skills. Located in Get Up & Grow on the third floor.
URL:https://scparents.org/event/tcmu-tots/2027-09-28/
LOCATION:The Children’s Museum of the Upstate\, 300 College Street\, Greenville\, SC\, 29601
CATEGORIES:Greenville
END:VEVENT
BEGIN:VEVENT
DTSTART;TZID=America/New_York:20270929T100000
DTEND;TZID=America/New_York:20270929T110000
DTSTAMP:20260422T121024
CREATED:20260212T211009Z
LAST-MODIFIED:20260212T211009Z
UID:10003095-1822212000-1822215600@scparents.org
SUMMARY:TCMU Tots
DESCRIPTION:Designed to spark curiosity and creativity for little explorers! Little ones ages 2 to 5 will enjoy sensory play and develop fine motor and social skills. Located in Get Up & Grow on the third floor.
URL:https://scparents.org/event/tcmu-tots/2027-09-29/
LOCATION:The Children’s Museum of the Upstate\, 300 College Street\, Greenville\, SC\, 29601
CATEGORIES:Greenville
END:VEVENT
BEGIN:VEVENT
DTSTART;TZID=America/New_York:20270930T100000
DTEND;TZID=America/New_York:20270930T110000
DTSTAMP:20260422T121024
CREATED:20260212T211009Z
LAST-MODIFIED:20260212T211009Z
UID:10003096-1822298400-1822302000@scparents.org
SUMMARY:TCMU Tots
DESCRIPTION:Designed to spark curiosity and creativity for little explorers! Little ones ages 2 to 5 will enjoy sensory play and develop fine motor and social skills. Located in Get Up & Grow on the third floor.
URL:https://scparents.org/event/tcmu-tots/2027-09-30/
LOCATION:The Children’s Museum of the Upstate\, 300 College Street\, Greenville\, SC\, 29601
CATEGORIES:Greenville
END:VEVENT
BEGIN:VEVENT
DTSTART;TZID=America/New_York:20271001T100000
DTEND;TZID=America/New_York:20271001T110000
DTSTAMP:20260422T121024
CREATED:20260212T211009Z
LAST-MODIFIED:20260212T211009Z
UID:10003097-1822384800-1822388400@scparents.org
SUMMARY:TCMU Tots
DESCRIPTION:Designed to spark curiosity and creativity for little explorers! Little ones ages 2 to 5 will enjoy sensory play and develop fine motor and social skills. Located in Get Up & Grow on the third floor.
URL:https://scparents.org/event/tcmu-tots/2027-10-01/
LOCATION:The Children’s Museum of the Upstate\, 300 College Street\, Greenville\, SC\, 29601
CATEGORIES:Greenville
END:VEVENT
BEGIN:VEVENT
DTSTART;TZID=America/New_York:20271002T100000
DTEND;TZID=America/New_York:20271002T110000
DTSTAMP:20260422T121024
CREATED:20260212T211009Z
LAST-MODIFIED:20260212T211009Z
UID:10003098-1822471200-1822474800@scparents.org
SUMMARY:TCMU Tots
DESCRIPTION:Designed to spark curiosity and creativity for little explorers! Little ones ages 2 to 5 will enjoy sensory play and develop fine motor and social skills. Located in Get Up & Grow on the third floor.
URL:https://scparents.org/event/tcmu-tots/2027-10-02/
LOCATION:The Children’s Museum of the Upstate\, 300 College Street\, Greenville\, SC\, 29601
CATEGORIES:Greenville
END:VEVENT
BEGIN:VEVENT
DTSTART;TZID=America/New_York:20271005T100000
DTEND;TZID=America/New_York:20271005T110000
DTSTAMP:20260422T121024
CREATED:20260212T211009Z
LAST-MODIFIED:20260212T211009Z
UID:10003099-1822730400-1822734000@scparents.org
SUMMARY:TCMU Tots
DESCRIPTION:Designed to spark curiosity and creativity for little explorers! Little ones ages 2 to 5 will enjoy sensory play and develop fine motor and social skills. Located in Get Up & Grow on the third floor.
URL:https://scparents.org/event/tcmu-tots/2027-10-05/
LOCATION:The Children’s Museum of the Upstate\, 300 College Street\, Greenville\, SC\, 29601
CATEGORIES:Greenville
END:VEVENT
BEGIN:VEVENT
DTSTART;TZID=America/New_York:20271006T100000
DTEND;TZID=America/New_York:20271006T110000
DTSTAMP:20260422T121024
CREATED:20260212T211009Z
LAST-MODIFIED:20260212T211009Z
UID:10003100-1822816800-1822820400@scparents.org
SUMMARY:TCMU Tots
DESCRIPTION:Designed to spark curiosity and creativity for little explorers! Little ones ages 2 to 5 will enjoy sensory play and develop fine motor and social skills. Located in Get Up & Grow on the third floor.
URL:https://scparents.org/event/tcmu-tots/2027-10-06/
LOCATION:The Children’s Museum of the Upstate\, 300 College Street\, Greenville\, SC\, 29601
CATEGORIES:Greenville
END:VEVENT
BEGIN:VEVENT
DTSTART;TZID=America/New_York:20271007T100000
DTEND;TZID=America/New_York:20271007T110000
DTSTAMP:20260422T121024
CREATED:20260212T211009Z
LAST-MODIFIED:20260212T211009Z
UID:10003101-1822903200-1822906800@scparents.org
SUMMARY:TCMU Tots
DESCRIPTION:Designed to spark curiosity and creativity for little explorers! Little ones ages 2 to 5 will enjoy sensory play and develop fine motor and social skills. Located in Get Up & Grow on the third floor.
URL:https://scparents.org/event/tcmu-tots/2027-10-07/
LOCATION:The Children’s Museum of the Upstate\, 300 College Street\, Greenville\, SC\, 29601
CATEGORIES:Greenville
END:VEVENT
BEGIN:VEVENT
DTSTART;TZID=America/New_York:20271008T100000
DTEND;TZID=America/New_York:20271008T110000
DTSTAMP:20260422T121024
CREATED:20260212T211009Z
LAST-MODIFIED:20260212T211009Z
UID:10003102-1822989600-1822993200@scparents.org
SUMMARY:TCMU Tots
DESCRIPTION:Designed to spark curiosity and creativity for little explorers! Little ones ages 2 to 5 will enjoy sensory play and develop fine motor and social skills. Located in Get Up & Grow on the third floor.
URL:https://scparents.org/event/tcmu-tots/2027-10-08/
LOCATION:The Children’s Museum of the Upstate\, 300 College Street\, Greenville\, SC\, 29601
CATEGORIES:Greenville
END:VEVENT
BEGIN:VEVENT
DTSTART;TZID=America/New_York:20271009T100000
DTEND;TZID=America/New_York:20271009T110000
DTSTAMP:20260422T121024
CREATED:20260212T211009Z
LAST-MODIFIED:20260212T211009Z
UID:10003103-1823076000-1823079600@scparents.org
SUMMARY:TCMU Tots
DESCRIPTION:Designed to spark curiosity and creativity for little explorers! Little ones ages 2 to 5 will enjoy sensory play and develop fine motor and social skills. Located in Get Up & Grow on the third floor.
URL:https://scparents.org/event/tcmu-tots/2027-10-09/
LOCATION:The Children’s Museum of the Upstate\, 300 College Street\, Greenville\, SC\, 29601
CATEGORIES:Greenville
END:VEVENT
BEGIN:VEVENT
DTSTART;TZID=America/New_York:20271012T100000
DTEND;TZID=America/New_York:20271012T110000
DTSTAMP:20260422T121024
CREATED:20260212T211009Z
LAST-MODIFIED:20260212T211009Z
UID:10003104-1823335200-1823338800@scparents.org
SUMMARY:TCMU Tots
DESCRIPTION:Designed to spark curiosity and creativity for little explorers! Little ones ages 2 to 5 will enjoy sensory play and develop fine motor and social skills. Located in Get Up & Grow on the third floor.
URL:https://scparents.org/event/tcmu-tots/2027-10-12/
LOCATION:The Children’s Museum of the Upstate\, 300 College Street\, Greenville\, SC\, 29601
CATEGORIES:Greenville
END:VEVENT
BEGIN:VEVENT
DTSTART;TZID=America/New_York:20271013T100000
DTEND;TZID=America/New_York:20271013T110000
DTSTAMP:20260422T121024
CREATED:20260212T211009Z
LAST-MODIFIED:20260212T211009Z
UID:10003105-1823421600-1823425200@scparents.org
SUMMARY:TCMU Tots
DESCRIPTION:Designed to spark curiosity and creativity for little explorers! Little ones ages 2 to 5 will enjoy sensory play and develop fine motor and social skills. Located in Get Up & Grow on the third floor.
URL:https://scparents.org/event/tcmu-tots/2027-10-13/
LOCATION:The Children’s Museum of the Upstate\, 300 College Street\, Greenville\, SC\, 29601
CATEGORIES:Greenville
END:VEVENT
BEGIN:VEVENT
DTSTART;TZID=America/New_York:20271014T100000
DTEND;TZID=America/New_York:20271014T110000
DTSTAMP:20260422T121024
CREATED:20260212T211009Z
LAST-MODIFIED:20260212T211009Z
UID:10003106-1823508000-1823511600@scparents.org
SUMMARY:TCMU Tots
DESCRIPTION:Designed to spark curiosity and creativity for little explorers! Little ones ages 2 to 5 will enjoy sensory play and develop fine motor and social skills. Located in Get Up & Grow on the third floor.
URL:https://scparents.org/event/tcmu-tots/2027-10-14/
LOCATION:The Children’s Museum of the Upstate\, 300 College Street\, Greenville\, SC\, 29601
CATEGORIES:Greenville
END:VEVENT
BEGIN:VEVENT
DTSTART;TZID=America/New_York:20271015T100000
DTEND;TZID=America/New_York:20271015T110000
DTSTAMP:20260422T121024
CREATED:20260212T211009Z
LAST-MODIFIED:20260212T211009Z
UID:10003107-1823594400-1823598000@scparents.org
SUMMARY:TCMU Tots
DESCRIPTION:Designed to spark curiosity and creativity for little explorers! Little ones ages 2 to 5 will enjoy sensory play and develop fine motor and social skills. Located in Get Up & Grow on the third floor.
URL:https://scparents.org/event/tcmu-tots/2027-10-15/
LOCATION:The Children’s Museum of the Upstate\, 300 College Street\, Greenville\, SC\, 29601
CATEGORIES:Greenville
END:VEVENT
BEGIN:VEVENT
DTSTART;TZID=America/New_York:20271016T100000
DTEND;TZID=America/New_York:20271016T110000
DTSTAMP:20260422T121024
CREATED:20260212T211009Z
LAST-MODIFIED:20260212T211009Z
UID:10003108-1823680800-1823684400@scparents.org
SUMMARY:TCMU Tots
DESCRIPTION:Designed to spark curiosity and creativity for little explorers! Little ones ages 2 to 5 will enjoy sensory play and develop fine motor and social skills. Located in Get Up & Grow on the third floor.
URL:https://scparents.org/event/tcmu-tots/2027-10-16/
LOCATION:The Children’s Museum of the Upstate\, 300 College Street\, Greenville\, SC\, 29601
CATEGORIES:Greenville
END:VEVENT
BEGIN:VEVENT
DTSTART;TZID=America/New_York:20271019T100000
DTEND;TZID=America/New_York:20271019T110000
DTSTAMP:20260422T121024
CREATED:20260212T211009Z
LAST-MODIFIED:20260212T211009Z
UID:10003109-1823940000-1823943600@scparents.org
SUMMARY:TCMU Tots
DESCRIPTION:Designed to spark curiosity and creativity for little explorers! Little ones ages 2 to 5 will enjoy sensory play and develop fine motor and social skills. Located in Get Up & Grow on the third floor.
URL:https://scparents.org/event/tcmu-tots/2027-10-19/
LOCATION:The Children’s Museum of the Upstate\, 300 College Street\, Greenville\, SC\, 29601
CATEGORIES:Greenville
END:VEVENT
BEGIN:VEVENT
DTSTART;TZID=America/New_York:20271020T100000
DTEND;TZID=America/New_York:20271020T110000
DTSTAMP:20260422T121024
CREATED:20260212T211009Z
LAST-MODIFIED:20260212T211009Z
UID:10003110-1824026400-1824030000@scparents.org
SUMMARY:TCMU Tots
DESCRIPTION:Designed to spark curiosity and creativity for little explorers! Little ones ages 2 to 5 will enjoy sensory play and develop fine motor and social skills. Located in Get Up & Grow on the third floor.
URL:https://scparents.org/event/tcmu-tots/2027-10-20/
LOCATION:The Children’s Museum of the Upstate\, 300 College Street\, Greenville\, SC\, 29601
CATEGORIES:Greenville
END:VEVENT
BEGIN:VEVENT
DTSTART;TZID=America/New_York:20271021T100000
DTEND;TZID=America/New_York:20271021T110000
DTSTAMP:20260422T121024
CREATED:20260212T211009Z
LAST-MODIFIED:20260212T211009Z
UID:10003111-1824112800-1824116400@scparents.org
SUMMARY:TCMU Tots
DESCRIPTION:Designed to spark curiosity and creativity for little explorers! Little ones ages 2 to 5 will enjoy sensory play and develop fine motor and social skills. Located in Get Up & Grow on the third floor.
URL:https://scparents.org/event/tcmu-tots/2027-10-21/
LOCATION:The Children’s Museum of the Upstate\, 300 College Street\, Greenville\, SC\, 29601
CATEGORIES:Greenville
END:VEVENT
BEGIN:VEVENT
DTSTART;TZID=America/New_York:20271022T100000
DTEND;TZID=America/New_York:20271022T110000
DTSTAMP:20260422T121024
CREATED:20260212T211009Z
LAST-MODIFIED:20260212T211009Z
UID:10003112-1824199200-1824202800@scparents.org
SUMMARY:TCMU Tots
DESCRIPTION:Designed to spark curiosity and creativity for little explorers! Little ones ages 2 to 5 will enjoy sensory play and develop fine motor and social skills. Located in Get Up & Grow on the third floor.
URL:https://scparents.org/event/tcmu-tots/2027-10-22/
LOCATION:The Children’s Museum of the Upstate\, 300 College Street\, Greenville\, SC\, 29601
CATEGORIES:Greenville
END:VEVENT
BEGIN:VEVENT
DTSTART;TZID=America/New_York:20271023T100000
DTEND;TZID=America/New_York:20271023T110000
DTSTAMP:20260422T121024
CREATED:20260212T211009Z
LAST-MODIFIED:20260212T211009Z
UID:10003113-1824285600-1824289200@scparents.org
SUMMARY:TCMU Tots
DESCRIPTION:Designed to spark curiosity and creativity for little explorers! Little ones ages 2 to 5 will enjoy sensory play and develop fine motor and social skills. Located in Get Up & Grow on the third floor.
URL:https://scparents.org/event/tcmu-tots/2027-10-23/
LOCATION:The Children’s Museum of the Upstate\, 300 College Street\, Greenville\, SC\, 29601
CATEGORIES:Greenville
END:VEVENT
BEGIN:VEVENT
DTSTART;TZID=America/New_York:20271026T100000
DTEND;TZID=America/New_York:20271026T110000
DTSTAMP:20260422T121024
CREATED:20260212T211009Z
LAST-MODIFIED:20260212T211009Z
UID:10003114-1824544800-1824548400@scparents.org
SUMMARY:TCMU Tots
DESCRIPTION:Designed to spark curiosity and creativity for little explorers! Little ones ages 2 to 5 will enjoy sensory play and develop fine motor and social skills. Located in Get Up & Grow on the third floor.
URL:https://scparents.org/event/tcmu-tots/2027-10-26/
LOCATION:The Children’s Museum of the Upstate\, 300 College Street\, Greenville\, SC\, 29601
CATEGORIES:Greenville
END:VEVENT
BEGIN:VEVENT
DTSTART;TZID=America/New_York:20271027T100000
DTEND;TZID=America/New_York:20271027T110000
DTSTAMP:20260422T121024
CREATED:20260212T211009Z
LAST-MODIFIED:20260212T211009Z
UID:10003115-1824631200-1824634800@scparents.org
SUMMARY:TCMU Tots
DESCRIPTION:Designed to spark curiosity and creativity for little explorers! Little ones ages 2 to 5 will enjoy sensory play and develop fine motor and social skills. Located in Get Up & Grow on the third floor.
URL:https://scparents.org/event/tcmu-tots/2027-10-27/
LOCATION:The Children’s Museum of the Upstate\, 300 College Street\, Greenville\, SC\, 29601
CATEGORIES:Greenville
END:VEVENT
BEGIN:VEVENT
DTSTART;TZID=America/New_York:20271028T100000
DTEND;TZID=America/New_York:20271028T110000
DTSTAMP:20260422T121024
CREATED:20260212T211009Z
LAST-MODIFIED:20260212T211009Z
UID:10003116-1824717600-1824721200@scparents.org
SUMMARY:TCMU Tots
DESCRIPTION:Designed to spark curiosity and creativity for little explorers! Little ones ages 2 to 5 will enjoy sensory play and develop fine motor and social skills. Located in Get Up & Grow on the third floor.
URL:https://scparents.org/event/tcmu-tots/2027-10-28/
LOCATION:The Children’s Museum of the Upstate\, 300 College Street\, Greenville\, SC\, 29601
CATEGORIES:Greenville
END:VEVENT
BEGIN:VEVENT
DTSTART;TZID=America/New_York:20271029T100000
DTEND;TZID=America/New_York:20271029T110000
DTSTAMP:20260422T121024
CREATED:20260212T211009Z
LAST-MODIFIED:20260212T211009Z
UID:10003117-1824804000-1824807600@scparents.org
SUMMARY:TCMU Tots
DESCRIPTION:Designed to spark curiosity and creativity for little explorers! Little ones ages 2 to 5 will enjoy sensory play and develop fine motor and social skills. Located in Get Up & Grow on the third floor.
URL:https://scparents.org/event/tcmu-tots/2027-10-29/
LOCATION:The Children’s Museum of the Upstate\, 300 College Street\, Greenville\, SC\, 29601
CATEGORIES:Greenville
END:VEVENT
BEGIN:VEVENT
DTSTART;TZID=America/New_York:20271030T100000
DTEND;TZID=America/New_York:20271030T110000
DTSTAMP:20260422T121024
CREATED:20260212T211009Z
LAST-MODIFIED:20260212T211009Z
UID:10003118-1824890400-1824894000@scparents.org
SUMMARY:TCMU Tots
DESCRIPTION:Designed to spark curiosity and creativity for little explorers! Little ones ages 2 to 5 will enjoy sensory play and develop fine motor and social skills. Located in Get Up & Grow on the third floor.
URL:https://scparents.org/event/tcmu-tots/2027-10-30/
LOCATION:The Children’s Museum of the Upstate\, 300 College Street\, Greenville\, SC\, 29601
CATEGORIES:Greenville
END:VEVENT
BEGIN:VEVENT
DTSTART;TZID=America/New_York:20271102T100000
DTEND;TZID=America/New_York:20271102T110000
DTSTAMP:20260422T121024
CREATED:20260212T211009Z
LAST-MODIFIED:20260212T211009Z
UID:10003119-1825149600-1825153200@scparents.org
SUMMARY:TCMU Tots
DESCRIPTION:Designed to spark curiosity and creativity for little explorers! Little ones ages 2 to 5 will enjoy sensory play and develop fine motor and social skills. Located in Get Up & Grow on the third floor.
URL:https://scparents.org/event/tcmu-tots/2027-11-02/
LOCATION:The Children’s Museum of the Upstate\, 300 College Street\, Greenville\, SC\, 29601
CATEGORIES:Greenville
END:VEVENT
BEGIN:VEVENT
DTSTART;TZID=America/New_York:20271103T100000
DTEND;TZID=America/New_York:20271103T110000
DTSTAMP:20260422T121024
CREATED:20260212T211009Z
LAST-MODIFIED:20260212T211009Z
UID:10003120-1825236000-1825239600@scparents.org
SUMMARY:TCMU Tots
DESCRIPTION:Designed to spark curiosity and creativity for little explorers! Little ones ages 2 to 5 will enjoy sensory play and develop fine motor and social skills. Located in Get Up & Grow on the third floor.
URL:https://scparents.org/event/tcmu-tots/2027-11-03/
LOCATION:The Children’s Museum of the Upstate\, 300 College Street\, Greenville\, SC\, 29601
CATEGORIES:Greenville
END:VEVENT
BEGIN:VEVENT
DTSTART;TZID=America/New_York:20271104T100000
DTEND;TZID=America/New_York:20271104T110000
DTSTAMP:20260422T121024
CREATED:20260212T211009Z
LAST-MODIFIED:20260212T211009Z
UID:10003121-1825322400-1825326000@scparents.org
SUMMARY:TCMU Tots
DESCRIPTION:Designed to spark curiosity and creativity for little explorers! Little ones ages 2 to 5 will enjoy sensory play and develop fine motor and social skills. Located in Get Up & Grow on the third floor.
URL:https://scparents.org/event/tcmu-tots/2027-11-04/
LOCATION:The Children’s Museum of the Upstate\, 300 College Street\, Greenville\, SC\, 29601
CATEGORIES:Greenville
END:VEVENT
BEGIN:VEVENT
DTSTART;TZID=America/New_York:20271105T100000
DTEND;TZID=America/New_York:20271105T110000
DTSTAMP:20260422T121024
CREATED:20260212T211009Z
LAST-MODIFIED:20260212T211009Z
UID:10003122-1825408800-1825412400@scparents.org
SUMMARY:TCMU Tots
DESCRIPTION:Designed to spark curiosity and creativity for little explorers! Little ones ages 2 to 5 will enjoy sensory play and develop fine motor and social skills. Located in Get Up & Grow on the third floor.
URL:https://scparents.org/event/tcmu-tots/2027-11-05/
LOCATION:The Children’s Museum of the Upstate\, 300 College Street\, Greenville\, SC\, 29601
CATEGORIES:Greenville
END:VEVENT
END:VCALENDAR