BEGIN:VCALENDAR
VERSION:2.0
PRODID:-//scParents.org - ECPv6.15.20//NONSGML v1.0//EN
CALSCALE:GREGORIAN
METHOD:PUBLISH
X-ORIGINAL-URL:https://scparents.org
X-WR-CALDESC:Events for scParents.org
REFRESH-INTERVAL;VALUE=DURATION:PT1H
X-Robots-Tag:noindex
X-PUBLISHED-TTL:PT1H
BEGIN:VTIMEZONE
TZID:America/New_York
BEGIN:DAYLIGHT
TZOFFSETFROM:-0500
TZOFFSETTO:-0400
TZNAME:EDT
DTSTART:20260308T070000
END:DAYLIGHT
BEGIN:STANDARD
TZOFFSETFROM:-0400
TZOFFSETTO:-0500
TZNAME:EST
DTSTART:20261101T060000
END:STANDARD
BEGIN:DAYLIGHT
TZOFFSETFROM:-0500
TZOFFSETTO:-0400
TZNAME:EDT
DTSTART:20270314T070000
END:DAYLIGHT
BEGIN:STANDARD
TZOFFSETFROM:-0400
TZOFFSETTO:-0500
TZNAME:EST
DTSTART:20271107T060000
END:STANDARD
BEGIN:DAYLIGHT
TZOFFSETFROM:-0500
TZOFFSETTO:-0400
TZNAME:EDT
DTSTART:20280312T070000
END:DAYLIGHT
BEGIN:STANDARD
TZOFFSETFROM:-0400
TZOFFSETTO:-0500
TZNAME:EST
DTSTART:20281105T060000
END:STANDARD
END:VTIMEZONE
BEGIN:VEVENT
DTSTART;TZID=America/New_York:20270409T100000
DTEND;TZID=America/New_York:20270409T110000
DTSTAMP:20260421T221600
CREATED:20260212T211009Z
LAST-MODIFIED:20260212T211009Z
UID:10002972-1807264800-1807268400@scparents.org
SUMMARY:TCMU Tots
DESCRIPTION:Designed to spark curiosity and creativity for little explorers! Little ones ages 2 to 5 will enjoy sensory play and develop fine motor and social skills. Located in Get Up & Grow on the third floor.
URL:https://scparents.org/event/tcmu-tots/2027-04-09/
LOCATION:The Children’s Museum of the Upstate\, 300 College Street\, Greenville\, SC\, 29601
CATEGORIES:Greenville
END:VEVENT
BEGIN:VEVENT
DTSTART;TZID=America/New_York:20270410T100000
DTEND;TZID=America/New_York:20270410T110000
DTSTAMP:20260421T221600
CREATED:20260212T211009Z
LAST-MODIFIED:20260212T211009Z
UID:10002973-1807351200-1807354800@scparents.org
SUMMARY:TCMU Tots
DESCRIPTION:Designed to spark curiosity and creativity for little explorers! Little ones ages 2 to 5 will enjoy sensory play and develop fine motor and social skills. Located in Get Up & Grow on the third floor.
URL:https://scparents.org/event/tcmu-tots/2027-04-10/
LOCATION:The Children’s Museum of the Upstate\, 300 College Street\, Greenville\, SC\, 29601
CATEGORIES:Greenville
END:VEVENT
BEGIN:VEVENT
DTSTART;TZID=America/New_York:20270413T100000
DTEND;TZID=America/New_York:20270413T110000
DTSTAMP:20260421T221600
CREATED:20260212T211009Z
LAST-MODIFIED:20260212T211009Z
UID:10002974-1807610400-1807614000@scparents.org
SUMMARY:TCMU Tots
DESCRIPTION:Designed to spark curiosity and creativity for little explorers! Little ones ages 2 to 5 will enjoy sensory play and develop fine motor and social skills. Located in Get Up & Grow on the third floor.
URL:https://scparents.org/event/tcmu-tots/2027-04-13/
LOCATION:The Children’s Museum of the Upstate\, 300 College Street\, Greenville\, SC\, 29601
CATEGORIES:Greenville
END:VEVENT
BEGIN:VEVENT
DTSTART;TZID=America/New_York:20270414T100000
DTEND;TZID=America/New_York:20270414T110000
DTSTAMP:20260421T221600
CREATED:20260212T211009Z
LAST-MODIFIED:20260212T211009Z
UID:10002975-1807696800-1807700400@scparents.org
SUMMARY:TCMU Tots
DESCRIPTION:Designed to spark curiosity and creativity for little explorers! Little ones ages 2 to 5 will enjoy sensory play and develop fine motor and social skills. Located in Get Up & Grow on the third floor.
URL:https://scparents.org/event/tcmu-tots/2027-04-14/
LOCATION:The Children’s Museum of the Upstate\, 300 College Street\, Greenville\, SC\, 29601
CATEGORIES:Greenville
END:VEVENT
BEGIN:VEVENT
DTSTART;TZID=America/New_York:20270415T100000
DTEND;TZID=America/New_York:20270415T110000
DTSTAMP:20260421T221600
CREATED:20260212T211009Z
LAST-MODIFIED:20260212T211009Z
UID:10002976-1807783200-1807786800@scparents.org
SUMMARY:TCMU Tots
DESCRIPTION:Designed to spark curiosity and creativity for little explorers! Little ones ages 2 to 5 will enjoy sensory play and develop fine motor and social skills. Located in Get Up & Grow on the third floor.
URL:https://scparents.org/event/tcmu-tots/2027-04-15/
LOCATION:The Children’s Museum of the Upstate\, 300 College Street\, Greenville\, SC\, 29601
CATEGORIES:Greenville
END:VEVENT
BEGIN:VEVENT
DTSTART;TZID=America/New_York:20270416T100000
DTEND;TZID=America/New_York:20270416T110000
DTSTAMP:20260421T221600
CREATED:20260212T211009Z
LAST-MODIFIED:20260212T211009Z
UID:10002977-1807869600-1807873200@scparents.org
SUMMARY:TCMU Tots
DESCRIPTION:Designed to spark curiosity and creativity for little explorers! Little ones ages 2 to 5 will enjoy sensory play and develop fine motor and social skills. Located in Get Up & Grow on the third floor.
URL:https://scparents.org/event/tcmu-tots/2027-04-16/
LOCATION:The Children’s Museum of the Upstate\, 300 College Street\, Greenville\, SC\, 29601
CATEGORIES:Greenville
END:VEVENT
BEGIN:VEVENT
DTSTART;TZID=America/New_York:20270417T100000
DTEND;TZID=America/New_York:20270417T110000
DTSTAMP:20260421T221600
CREATED:20260212T211009Z
LAST-MODIFIED:20260212T211009Z
UID:10002978-1807956000-1807959600@scparents.org
SUMMARY:TCMU Tots
DESCRIPTION:Designed to spark curiosity and creativity for little explorers! Little ones ages 2 to 5 will enjoy sensory play and develop fine motor and social skills. Located in Get Up & Grow on the third floor.
URL:https://scparents.org/event/tcmu-tots/2027-04-17/
LOCATION:The Children’s Museum of the Upstate\, 300 College Street\, Greenville\, SC\, 29601
CATEGORIES:Greenville
END:VEVENT
BEGIN:VEVENT
DTSTART;TZID=America/New_York:20270420T100000
DTEND;TZID=America/New_York:20270420T110000
DTSTAMP:20260421T221600
CREATED:20260212T211009Z
LAST-MODIFIED:20260212T211009Z
UID:10002979-1808215200-1808218800@scparents.org
SUMMARY:TCMU Tots
DESCRIPTION:Designed to spark curiosity and creativity for little explorers! Little ones ages 2 to 5 will enjoy sensory play and develop fine motor and social skills. Located in Get Up & Grow on the third floor.
URL:https://scparents.org/event/tcmu-tots/2027-04-20/
LOCATION:The Children’s Museum of the Upstate\, 300 College Street\, Greenville\, SC\, 29601
CATEGORIES:Greenville
END:VEVENT
BEGIN:VEVENT
DTSTART;TZID=America/New_York:20270421T100000
DTEND;TZID=America/New_York:20270421T110000
DTSTAMP:20260421T221600
CREATED:20260212T211009Z
LAST-MODIFIED:20260212T211009Z
UID:10002980-1808301600-1808305200@scparents.org
SUMMARY:TCMU Tots
DESCRIPTION:Designed to spark curiosity and creativity for little explorers! Little ones ages 2 to 5 will enjoy sensory play and develop fine motor and social skills. Located in Get Up & Grow on the third floor.
URL:https://scparents.org/event/tcmu-tots/2027-04-21/
LOCATION:The Children’s Museum of the Upstate\, 300 College Street\, Greenville\, SC\, 29601
CATEGORIES:Greenville
END:VEVENT
BEGIN:VEVENT
DTSTART;TZID=America/New_York:20270422T100000
DTEND;TZID=America/New_York:20270422T110000
DTSTAMP:20260421T221600
CREATED:20260212T211009Z
LAST-MODIFIED:20260212T211009Z
UID:10002981-1808388000-1808391600@scparents.org
SUMMARY:TCMU Tots
DESCRIPTION:Designed to spark curiosity and creativity for little explorers! Little ones ages 2 to 5 will enjoy sensory play and develop fine motor and social skills. Located in Get Up & Grow on the third floor.
URL:https://scparents.org/event/tcmu-tots/2027-04-22/
LOCATION:The Children’s Museum of the Upstate\, 300 College Street\, Greenville\, SC\, 29601
CATEGORIES:Greenville
END:VEVENT
BEGIN:VEVENT
DTSTART;TZID=America/New_York:20270423T100000
DTEND;TZID=America/New_York:20270423T110000
DTSTAMP:20260421T221600
CREATED:20260212T211009Z
LAST-MODIFIED:20260212T211009Z
UID:10002982-1808474400-1808478000@scparents.org
SUMMARY:TCMU Tots
DESCRIPTION:Designed to spark curiosity and creativity for little explorers! Little ones ages 2 to 5 will enjoy sensory play and develop fine motor and social skills. Located in Get Up & Grow on the third floor.
URL:https://scparents.org/event/tcmu-tots/2027-04-23/
LOCATION:The Children’s Museum of the Upstate\, 300 College Street\, Greenville\, SC\, 29601
CATEGORIES:Greenville
END:VEVENT
BEGIN:VEVENT
DTSTART;TZID=America/New_York:20270424T100000
DTEND;TZID=America/New_York:20270424T110000
DTSTAMP:20260421T221600
CREATED:20260212T211009Z
LAST-MODIFIED:20260212T211009Z
UID:10002983-1808560800-1808564400@scparents.org
SUMMARY:TCMU Tots
DESCRIPTION:Designed to spark curiosity and creativity for little explorers! Little ones ages 2 to 5 will enjoy sensory play and develop fine motor and social skills. Located in Get Up & Grow on the third floor.
URL:https://scparents.org/event/tcmu-tots/2027-04-24/
LOCATION:The Children’s Museum of the Upstate\, 300 College Street\, Greenville\, SC\, 29601
CATEGORIES:Greenville
END:VEVENT
BEGIN:VEVENT
DTSTART;TZID=America/New_York:20270427T100000
DTEND;TZID=America/New_York:20270427T110000
DTSTAMP:20260421T221600
CREATED:20260212T211009Z
LAST-MODIFIED:20260212T211009Z
UID:10002984-1808820000-1808823600@scparents.org
SUMMARY:TCMU Tots
DESCRIPTION:Designed to spark curiosity and creativity for little explorers! Little ones ages 2 to 5 will enjoy sensory play and develop fine motor and social skills. Located in Get Up & Grow on the third floor.
URL:https://scparents.org/event/tcmu-tots/2027-04-27/
LOCATION:The Children’s Museum of the Upstate\, 300 College Street\, Greenville\, SC\, 29601
CATEGORIES:Greenville
END:VEVENT
BEGIN:VEVENT
DTSTART;TZID=America/New_York:20270428T100000
DTEND;TZID=America/New_York:20270428T110000
DTSTAMP:20260421T221600
CREATED:20260212T211009Z
LAST-MODIFIED:20260212T211009Z
UID:10002985-1808906400-1808910000@scparents.org
SUMMARY:TCMU Tots
DESCRIPTION:Designed to spark curiosity and creativity for little explorers! Little ones ages 2 to 5 will enjoy sensory play and develop fine motor and social skills. Located in Get Up & Grow on the third floor.
URL:https://scparents.org/event/tcmu-tots/2027-04-28/
LOCATION:The Children’s Museum of the Upstate\, 300 College Street\, Greenville\, SC\, 29601
CATEGORIES:Greenville
END:VEVENT
BEGIN:VEVENT
DTSTART;TZID=America/New_York:20270429T100000
DTEND;TZID=America/New_York:20270429T110000
DTSTAMP:20260421T221600
CREATED:20260212T211009Z
LAST-MODIFIED:20260212T211009Z
UID:10002986-1808992800-1808996400@scparents.org
SUMMARY:TCMU Tots
DESCRIPTION:Designed to spark curiosity and creativity for little explorers! Little ones ages 2 to 5 will enjoy sensory play and develop fine motor and social skills. Located in Get Up & Grow on the third floor.
URL:https://scparents.org/event/tcmu-tots/2027-04-29/
LOCATION:The Children’s Museum of the Upstate\, 300 College Street\, Greenville\, SC\, 29601
CATEGORIES:Greenville
END:VEVENT
BEGIN:VEVENT
DTSTART;TZID=America/New_York:20270430T100000
DTEND;TZID=America/New_York:20270430T110000
DTSTAMP:20260421T221600
CREATED:20260212T211009Z
LAST-MODIFIED:20260212T211009Z
UID:10002987-1809079200-1809082800@scparents.org
SUMMARY:TCMU Tots
DESCRIPTION:Designed to spark curiosity and creativity for little explorers! Little ones ages 2 to 5 will enjoy sensory play and develop fine motor and social skills. Located in Get Up & Grow on the third floor.
URL:https://scparents.org/event/tcmu-tots/2027-04-30/
LOCATION:The Children’s Museum of the Upstate\, 300 College Street\, Greenville\, SC\, 29601
CATEGORIES:Greenville
END:VEVENT
BEGIN:VEVENT
DTSTART;TZID=America/New_York:20270501T100000
DTEND;TZID=America/New_York:20270501T110000
DTSTAMP:20260421T221600
CREATED:20260212T211009Z
LAST-MODIFIED:20260212T211009Z
UID:10002988-1809165600-1809169200@scparents.org
SUMMARY:TCMU Tots
DESCRIPTION:Designed to spark curiosity and creativity for little explorers! Little ones ages 2 to 5 will enjoy sensory play and develop fine motor and social skills. Located in Get Up & Grow on the third floor.
URL:https://scparents.org/event/tcmu-tots/2027-05-01/
LOCATION:The Children’s Museum of the Upstate\, 300 College Street\, Greenville\, SC\, 29601
CATEGORIES:Greenville
END:VEVENT
BEGIN:VEVENT
DTSTART;TZID=America/New_York:20270504T100000
DTEND;TZID=America/New_York:20270504T110000
DTSTAMP:20260421T221600
CREATED:20260212T211009Z
LAST-MODIFIED:20260212T211009Z
UID:10002989-1809424800-1809428400@scparents.org
SUMMARY:TCMU Tots
DESCRIPTION:Designed to spark curiosity and creativity for little explorers! Little ones ages 2 to 5 will enjoy sensory play and develop fine motor and social skills. Located in Get Up & Grow on the third floor.
URL:https://scparents.org/event/tcmu-tots/2027-05-04/
LOCATION:The Children’s Museum of the Upstate\, 300 College Street\, Greenville\, SC\, 29601
CATEGORIES:Greenville
END:VEVENT
BEGIN:VEVENT
DTSTART;TZID=America/New_York:20270505T100000
DTEND;TZID=America/New_York:20270505T110000
DTSTAMP:20260421T221600
CREATED:20260212T211009Z
LAST-MODIFIED:20260212T211009Z
UID:10002990-1809511200-1809514800@scparents.org
SUMMARY:TCMU Tots
DESCRIPTION:Designed to spark curiosity and creativity for little explorers! Little ones ages 2 to 5 will enjoy sensory play and develop fine motor and social skills. Located in Get Up & Grow on the third floor.
URL:https://scparents.org/event/tcmu-tots/2027-05-05/
LOCATION:The Children’s Museum of the Upstate\, 300 College Street\, Greenville\, SC\, 29601
CATEGORIES:Greenville
END:VEVENT
BEGIN:VEVENT
DTSTART;TZID=America/New_York:20270506T100000
DTEND;TZID=America/New_York:20270506T110000
DTSTAMP:20260421T221600
CREATED:20260212T211009Z
LAST-MODIFIED:20260212T211009Z
UID:10002991-1809597600-1809601200@scparents.org
SUMMARY:TCMU Tots
DESCRIPTION:Designed to spark curiosity and creativity for little explorers! Little ones ages 2 to 5 will enjoy sensory play and develop fine motor and social skills. Located in Get Up & Grow on the third floor.
URL:https://scparents.org/event/tcmu-tots/2027-05-06/
LOCATION:The Children’s Museum of the Upstate\, 300 College Street\, Greenville\, SC\, 29601
CATEGORIES:Greenville
END:VEVENT
BEGIN:VEVENT
DTSTART;TZID=America/New_York:20270507T100000
DTEND;TZID=America/New_York:20270507T110000
DTSTAMP:20260421T221600
CREATED:20260212T211009Z
LAST-MODIFIED:20260212T211009Z
UID:10002992-1809684000-1809687600@scparents.org
SUMMARY:TCMU Tots
DESCRIPTION:Designed to spark curiosity and creativity for little explorers! Little ones ages 2 to 5 will enjoy sensory play and develop fine motor and social skills. Located in Get Up & Grow on the third floor.
URL:https://scparents.org/event/tcmu-tots/2027-05-07/
LOCATION:The Children’s Museum of the Upstate\, 300 College Street\, Greenville\, SC\, 29601
CATEGORIES:Greenville
END:VEVENT
BEGIN:VEVENT
DTSTART;TZID=America/New_York:20270508T100000
DTEND;TZID=America/New_York:20270508T110000
DTSTAMP:20260421T221600
CREATED:20260212T211009Z
LAST-MODIFIED:20260212T211009Z
UID:10002993-1809770400-1809774000@scparents.org
SUMMARY:TCMU Tots
DESCRIPTION:Designed to spark curiosity and creativity for little explorers! Little ones ages 2 to 5 will enjoy sensory play and develop fine motor and social skills. Located in Get Up & Grow on the third floor.
URL:https://scparents.org/event/tcmu-tots/2027-05-08/
LOCATION:The Children’s Museum of the Upstate\, 300 College Street\, Greenville\, SC\, 29601
CATEGORIES:Greenville
END:VEVENT
BEGIN:VEVENT
DTSTART;TZID=America/New_York:20270511T100000
DTEND;TZID=America/New_York:20270511T110000
DTSTAMP:20260421T221600
CREATED:20260212T211009Z
LAST-MODIFIED:20260212T211009Z
UID:10002994-1810029600-1810033200@scparents.org
SUMMARY:TCMU Tots
DESCRIPTION:Designed to spark curiosity and creativity for little explorers! Little ones ages 2 to 5 will enjoy sensory play and develop fine motor and social skills. Located in Get Up & Grow on the third floor.
URL:https://scparents.org/event/tcmu-tots/2027-05-11/
LOCATION:The Children’s Museum of the Upstate\, 300 College Street\, Greenville\, SC\, 29601
CATEGORIES:Greenville
END:VEVENT
BEGIN:VEVENT
DTSTART;TZID=America/New_York:20270512T100000
DTEND;TZID=America/New_York:20270512T110000
DTSTAMP:20260421T221600
CREATED:20260212T211009Z
LAST-MODIFIED:20260212T211009Z
UID:10002995-1810116000-1810119600@scparents.org
SUMMARY:TCMU Tots
DESCRIPTION:Designed to spark curiosity and creativity for little explorers! Little ones ages 2 to 5 will enjoy sensory play and develop fine motor and social skills. Located in Get Up & Grow on the third floor.
URL:https://scparents.org/event/tcmu-tots/2027-05-12/
LOCATION:The Children’s Museum of the Upstate\, 300 College Street\, Greenville\, SC\, 29601
CATEGORIES:Greenville
END:VEVENT
BEGIN:VEVENT
DTSTART;TZID=America/New_York:20270513T100000
DTEND;TZID=America/New_York:20270513T110000
DTSTAMP:20260421T221600
CREATED:20260212T211009Z
LAST-MODIFIED:20260212T211009Z
UID:10002996-1810202400-1810206000@scparents.org
SUMMARY:TCMU Tots
DESCRIPTION:Designed to spark curiosity and creativity for little explorers! Little ones ages 2 to 5 will enjoy sensory play and develop fine motor and social skills. Located in Get Up & Grow on the third floor.
URL:https://scparents.org/event/tcmu-tots/2027-05-13/
LOCATION:The Children’s Museum of the Upstate\, 300 College Street\, Greenville\, SC\, 29601
CATEGORIES:Greenville
END:VEVENT
BEGIN:VEVENT
DTSTART;TZID=America/New_York:20270514T100000
DTEND;TZID=America/New_York:20270514T110000
DTSTAMP:20260421T221600
CREATED:20260212T211009Z
LAST-MODIFIED:20260212T211009Z
UID:10002997-1810288800-1810292400@scparents.org
SUMMARY:TCMU Tots
DESCRIPTION:Designed to spark curiosity and creativity for little explorers! Little ones ages 2 to 5 will enjoy sensory play and develop fine motor and social skills. Located in Get Up & Grow on the third floor.
URL:https://scparents.org/event/tcmu-tots/2027-05-14/
LOCATION:The Children’s Museum of the Upstate\, 300 College Street\, Greenville\, SC\, 29601
CATEGORIES:Greenville
END:VEVENT
BEGIN:VEVENT
DTSTART;TZID=America/New_York:20270515T100000
DTEND;TZID=America/New_York:20270515T110000
DTSTAMP:20260421T221600
CREATED:20260212T211009Z
LAST-MODIFIED:20260212T211009Z
UID:10002998-1810375200-1810378800@scparents.org
SUMMARY:TCMU Tots
DESCRIPTION:Designed to spark curiosity and creativity for little explorers! Little ones ages 2 to 5 will enjoy sensory play and develop fine motor and social skills. Located in Get Up & Grow on the third floor.
URL:https://scparents.org/event/tcmu-tots/2027-05-15/
LOCATION:The Children’s Museum of the Upstate\, 300 College Street\, Greenville\, SC\, 29601
CATEGORIES:Greenville
END:VEVENT
BEGIN:VEVENT
DTSTART;TZID=America/New_York:20270518T100000
DTEND;TZID=America/New_York:20270518T110000
DTSTAMP:20260421T221600
CREATED:20260212T211009Z
LAST-MODIFIED:20260212T211009Z
UID:10002999-1810634400-1810638000@scparents.org
SUMMARY:TCMU Tots
DESCRIPTION:Designed to spark curiosity and creativity for little explorers! Little ones ages 2 to 5 will enjoy sensory play and develop fine motor and social skills. Located in Get Up & Grow on the third floor.
URL:https://scparents.org/event/tcmu-tots/2027-05-18/
LOCATION:The Children’s Museum of the Upstate\, 300 College Street\, Greenville\, SC\, 29601
CATEGORIES:Greenville
END:VEVENT
BEGIN:VEVENT
DTSTART;TZID=America/New_York:20270519T100000
DTEND;TZID=America/New_York:20270519T110000
DTSTAMP:20260421T221600
CREATED:20260212T211009Z
LAST-MODIFIED:20260212T211009Z
UID:10003000-1810720800-1810724400@scparents.org
SUMMARY:TCMU Tots
DESCRIPTION:Designed to spark curiosity and creativity for little explorers! Little ones ages 2 to 5 will enjoy sensory play and develop fine motor and social skills. Located in Get Up & Grow on the third floor.
URL:https://scparents.org/event/tcmu-tots/2027-05-19/
LOCATION:The Children’s Museum of the Upstate\, 300 College Street\, Greenville\, SC\, 29601
CATEGORIES:Greenville
END:VEVENT
BEGIN:VEVENT
DTSTART;TZID=America/New_York:20270520T100000
DTEND;TZID=America/New_York:20270520T110000
DTSTAMP:20260421T221600
CREATED:20260212T211009Z
LAST-MODIFIED:20260212T211009Z
UID:10003001-1810807200-1810810800@scparents.org
SUMMARY:TCMU Tots
DESCRIPTION:Designed to spark curiosity and creativity for little explorers! Little ones ages 2 to 5 will enjoy sensory play and develop fine motor and social skills. Located in Get Up & Grow on the third floor.
URL:https://scparents.org/event/tcmu-tots/2027-05-20/
LOCATION:The Children’s Museum of the Upstate\, 300 College Street\, Greenville\, SC\, 29601
CATEGORIES:Greenville
END:VEVENT
END:VCALENDAR