BEGIN:VCALENDAR
VERSION:2.0
PRODID:-//scParents.org - ECPv6.15.20//NONSGML v1.0//EN
CALSCALE:GREGORIAN
METHOD:PUBLISH
X-WR-CALNAME:scParents.org
X-ORIGINAL-URL:https://scparents.org
X-WR-CALDESC:Events for scParents.org
REFRESH-INTERVAL;VALUE=DURATION:PT1H
X-Robots-Tag:noindex
X-PUBLISHED-TTL:PT1H
BEGIN:VTIMEZONE
TZID:America/New_York
BEGIN:DAYLIGHT
TZOFFSETFROM:-0500
TZOFFSETTO:-0400
TZNAME:EDT
DTSTART:20250309T070000
END:DAYLIGHT
BEGIN:STANDARD
TZOFFSETFROM:-0400
TZOFFSETTO:-0500
TZNAME:EST
DTSTART:20251102T060000
END:STANDARD
BEGIN:DAYLIGHT
TZOFFSETFROM:-0500
TZOFFSETTO:-0400
TZNAME:EDT
DTSTART:20260308T070000
END:DAYLIGHT
BEGIN:STANDARD
TZOFFSETFROM:-0400
TZOFFSETTO:-0500
TZNAME:EST
DTSTART:20261101T060000
END:STANDARD
BEGIN:DAYLIGHT
TZOFFSETFROM:-0500
TZOFFSETTO:-0400
TZNAME:EDT
DTSTART:20270314T070000
END:DAYLIGHT
BEGIN:STANDARD
TZOFFSETFROM:-0400
TZOFFSETTO:-0500
TZNAME:EST
DTSTART:20271107T060000
END:STANDARD
BEGIN:DAYLIGHT
TZOFFSETFROM:-0500
TZOFFSETTO:-0400
TZNAME:EDT
DTSTART:20280312T070000
END:DAYLIGHT
BEGIN:STANDARD
TZOFFSETFROM:-0400
TZOFFSETTO:-0500
TZNAME:EST
DTSTART:20281105T060000
END:STANDARD
END:VTIMEZONE
BEGIN:VEVENT
DTSTART;TZID=America/New_York:20261230T100000
DTEND;TZID=America/New_York:20261230T110000
DTSTAMP:20260421T140754
CREATED:20260212T211009Z
LAST-MODIFIED:20260212T211009Z
UID:10002900-1798624800-1798628400@scparents.org
SUMMARY:TCMU Tots
DESCRIPTION:Designed to spark curiosity and creativity for little explorers! Little ones ages 2 to 5 will enjoy sensory play and develop fine motor and social skills. Located in Get Up & Grow on the third floor.
URL:https://scparents.org/event/tcmu-tots/2026-12-30/
LOCATION:The Children’s Museum of the Upstate\, 300 College Street\, Greenville\, SC\, 29601
CATEGORIES:Greenville
END:VEVENT
BEGIN:VEVENT
DTSTART;TZID=America/New_York:20261231T100000
DTEND;TZID=America/New_York:20261231T110000
DTSTAMP:20260421T140754
CREATED:20260212T211009Z
LAST-MODIFIED:20260212T211009Z
UID:10002901-1798711200-1798714800@scparents.org
SUMMARY:TCMU Tots
DESCRIPTION:Designed to spark curiosity and creativity for little explorers! Little ones ages 2 to 5 will enjoy sensory play and develop fine motor and social skills. Located in Get Up & Grow on the third floor.
URL:https://scparents.org/event/tcmu-tots/2026-12-31/
LOCATION:The Children’s Museum of the Upstate\, 300 College Street\, Greenville\, SC\, 29601
CATEGORIES:Greenville
END:VEVENT
BEGIN:VEVENT
DTSTART;TZID=America/New_York:20270101T100000
DTEND;TZID=America/New_York:20270101T110000
DTSTAMP:20260421T140754
CREATED:20260212T211009Z
LAST-MODIFIED:20260212T211009Z
UID:10002902-1798797600-1798801200@scparents.org
SUMMARY:TCMU Tots
DESCRIPTION:Designed to spark curiosity and creativity for little explorers! Little ones ages 2 to 5 will enjoy sensory play and develop fine motor and social skills. Located in Get Up & Grow on the third floor.
URL:https://scparents.org/event/tcmu-tots/2027-01-01/
LOCATION:The Children’s Museum of the Upstate\, 300 College Street\, Greenville\, SC\, 29601
CATEGORIES:Greenville
END:VEVENT
BEGIN:VEVENT
DTSTART;TZID=America/New_York:20270102T100000
DTEND;TZID=America/New_York:20270102T110000
DTSTAMP:20260421T140754
CREATED:20260212T211009Z
LAST-MODIFIED:20260212T211009Z
UID:10002903-1798884000-1798887600@scparents.org
SUMMARY:TCMU Tots
DESCRIPTION:Designed to spark curiosity and creativity for little explorers! Little ones ages 2 to 5 will enjoy sensory play and develop fine motor and social skills. Located in Get Up & Grow on the third floor.
URL:https://scparents.org/event/tcmu-tots/2027-01-02/
LOCATION:The Children’s Museum of the Upstate\, 300 College Street\, Greenville\, SC\, 29601
CATEGORIES:Greenville
END:VEVENT
BEGIN:VEVENT
DTSTART;TZID=America/New_York:20270105T100000
DTEND;TZID=America/New_York:20270105T110000
DTSTAMP:20260421T140754
CREATED:20260212T211009Z
LAST-MODIFIED:20260212T211009Z
UID:10002904-1799143200-1799146800@scparents.org
SUMMARY:TCMU Tots
DESCRIPTION:Designed to spark curiosity and creativity for little explorers! Little ones ages 2 to 5 will enjoy sensory play and develop fine motor and social skills. Located in Get Up & Grow on the third floor.
URL:https://scparents.org/event/tcmu-tots/2027-01-05/
LOCATION:The Children’s Museum of the Upstate\, 300 College Street\, Greenville\, SC\, 29601
CATEGORIES:Greenville
END:VEVENT
BEGIN:VEVENT
DTSTART;TZID=America/New_York:20270106T100000
DTEND;TZID=America/New_York:20270106T110000
DTSTAMP:20260421T140754
CREATED:20260212T211009Z
LAST-MODIFIED:20260212T211009Z
UID:10002905-1799229600-1799233200@scparents.org
SUMMARY:TCMU Tots
DESCRIPTION:Designed to spark curiosity and creativity for little explorers! Little ones ages 2 to 5 will enjoy sensory play and develop fine motor and social skills. Located in Get Up & Grow on the third floor.
URL:https://scparents.org/event/tcmu-tots/2027-01-06/
LOCATION:The Children’s Museum of the Upstate\, 300 College Street\, Greenville\, SC\, 29601
CATEGORIES:Greenville
END:VEVENT
BEGIN:VEVENT
DTSTART;TZID=America/New_York:20270107T100000
DTEND;TZID=America/New_York:20270107T110000
DTSTAMP:20260421T140754
CREATED:20260212T211009Z
LAST-MODIFIED:20260212T211009Z
UID:10002906-1799316000-1799319600@scparents.org
SUMMARY:TCMU Tots
DESCRIPTION:Designed to spark curiosity and creativity for little explorers! Little ones ages 2 to 5 will enjoy sensory play and develop fine motor and social skills. Located in Get Up & Grow on the third floor.
URL:https://scparents.org/event/tcmu-tots/2027-01-07/
LOCATION:The Children’s Museum of the Upstate\, 300 College Street\, Greenville\, SC\, 29601
CATEGORIES:Greenville
END:VEVENT
BEGIN:VEVENT
DTSTART;TZID=America/New_York:20270108T100000
DTEND;TZID=America/New_York:20270108T110000
DTSTAMP:20260421T140754
CREATED:20260212T211009Z
LAST-MODIFIED:20260212T211009Z
UID:10002907-1799402400-1799406000@scparents.org
SUMMARY:TCMU Tots
DESCRIPTION:Designed to spark curiosity and creativity for little explorers! Little ones ages 2 to 5 will enjoy sensory play and develop fine motor and social skills. Located in Get Up & Grow on the third floor.
URL:https://scparents.org/event/tcmu-tots/2027-01-08/
LOCATION:The Children’s Museum of the Upstate\, 300 College Street\, Greenville\, SC\, 29601
CATEGORIES:Greenville
END:VEVENT
BEGIN:VEVENT
DTSTART;TZID=America/New_York:20270109T100000
DTEND;TZID=America/New_York:20270109T110000
DTSTAMP:20260421T140754
CREATED:20260212T211009Z
LAST-MODIFIED:20260212T211009Z
UID:10002908-1799488800-1799492400@scparents.org
SUMMARY:TCMU Tots
DESCRIPTION:Designed to spark curiosity and creativity for little explorers! Little ones ages 2 to 5 will enjoy sensory play and develop fine motor and social skills. Located in Get Up & Grow on the third floor.
URL:https://scparents.org/event/tcmu-tots/2027-01-09/
LOCATION:The Children’s Museum of the Upstate\, 300 College Street\, Greenville\, SC\, 29601
CATEGORIES:Greenville
END:VEVENT
BEGIN:VEVENT
DTSTART;TZID=America/New_York:20270112T100000
DTEND;TZID=America/New_York:20270112T110000
DTSTAMP:20260421T140754
CREATED:20260212T211009Z
LAST-MODIFIED:20260212T211009Z
UID:10002909-1799748000-1799751600@scparents.org
SUMMARY:TCMU Tots
DESCRIPTION:Designed to spark curiosity and creativity for little explorers! Little ones ages 2 to 5 will enjoy sensory play and develop fine motor and social skills. Located in Get Up & Grow on the third floor.
URL:https://scparents.org/event/tcmu-tots/2027-01-12/
LOCATION:The Children’s Museum of the Upstate\, 300 College Street\, Greenville\, SC\, 29601
CATEGORIES:Greenville
END:VEVENT
BEGIN:VEVENT
DTSTART;TZID=America/New_York:20270113T100000
DTEND;TZID=America/New_York:20270113T110000
DTSTAMP:20260421T140754
CREATED:20260212T211009Z
LAST-MODIFIED:20260212T211009Z
UID:10002910-1799834400-1799838000@scparents.org
SUMMARY:TCMU Tots
DESCRIPTION:Designed to spark curiosity and creativity for little explorers! Little ones ages 2 to 5 will enjoy sensory play and develop fine motor and social skills. Located in Get Up & Grow on the third floor.
URL:https://scparents.org/event/tcmu-tots/2027-01-13/
LOCATION:The Children’s Museum of the Upstate\, 300 College Street\, Greenville\, SC\, 29601
CATEGORIES:Greenville
END:VEVENT
BEGIN:VEVENT
DTSTART;TZID=America/New_York:20270114T100000
DTEND;TZID=America/New_York:20270114T110000
DTSTAMP:20260421T140754
CREATED:20260212T211009Z
LAST-MODIFIED:20260212T211009Z
UID:10002911-1799920800-1799924400@scparents.org
SUMMARY:TCMU Tots
DESCRIPTION:Designed to spark curiosity and creativity for little explorers! Little ones ages 2 to 5 will enjoy sensory play and develop fine motor and social skills. Located in Get Up & Grow on the third floor.
URL:https://scparents.org/event/tcmu-tots/2027-01-14/
LOCATION:The Children’s Museum of the Upstate\, 300 College Street\, Greenville\, SC\, 29601
CATEGORIES:Greenville
END:VEVENT
BEGIN:VEVENT
DTSTART;TZID=America/New_York:20270115T100000
DTEND;TZID=America/New_York:20270115T110000
DTSTAMP:20260421T140754
CREATED:20260212T211009Z
LAST-MODIFIED:20260212T211009Z
UID:10002912-1800007200-1800010800@scparents.org
SUMMARY:TCMU Tots
DESCRIPTION:Designed to spark curiosity and creativity for little explorers! Little ones ages 2 to 5 will enjoy sensory play and develop fine motor and social skills. Located in Get Up & Grow on the third floor.
URL:https://scparents.org/event/tcmu-tots/2027-01-15/
LOCATION:The Children’s Museum of the Upstate\, 300 College Street\, Greenville\, SC\, 29601
CATEGORIES:Greenville
END:VEVENT
BEGIN:VEVENT
DTSTART;TZID=America/New_York:20270116T100000
DTEND;TZID=America/New_York:20270116T110000
DTSTAMP:20260421T140754
CREATED:20260212T211009Z
LAST-MODIFIED:20260212T211009Z
UID:10002913-1800093600-1800097200@scparents.org
SUMMARY:TCMU Tots
DESCRIPTION:Designed to spark curiosity and creativity for little explorers! Little ones ages 2 to 5 will enjoy sensory play and develop fine motor and social skills. Located in Get Up & Grow on the third floor.
URL:https://scparents.org/event/tcmu-tots/2027-01-16/
LOCATION:The Children’s Museum of the Upstate\, 300 College Street\, Greenville\, SC\, 29601
CATEGORIES:Greenville
END:VEVENT
BEGIN:VEVENT
DTSTART;TZID=America/New_York:20270119T100000
DTEND;TZID=America/New_York:20270119T110000
DTSTAMP:20260421T140754
CREATED:20260212T211009Z
LAST-MODIFIED:20260212T211009Z
UID:10002914-1800352800-1800356400@scparents.org
SUMMARY:TCMU Tots
DESCRIPTION:Designed to spark curiosity and creativity for little explorers! Little ones ages 2 to 5 will enjoy sensory play and develop fine motor and social skills. Located in Get Up & Grow on the third floor.
URL:https://scparents.org/event/tcmu-tots/2027-01-19/
LOCATION:The Children’s Museum of the Upstate\, 300 College Street\, Greenville\, SC\, 29601
CATEGORIES:Greenville
END:VEVENT
BEGIN:VEVENT
DTSTART;TZID=America/New_York:20270120T100000
DTEND;TZID=America/New_York:20270120T110000
DTSTAMP:20260421T140754
CREATED:20260212T211009Z
LAST-MODIFIED:20260212T211009Z
UID:10002915-1800439200-1800442800@scparents.org
SUMMARY:TCMU Tots
DESCRIPTION:Designed to spark curiosity and creativity for little explorers! Little ones ages 2 to 5 will enjoy sensory play and develop fine motor and social skills. Located in Get Up & Grow on the third floor.
URL:https://scparents.org/event/tcmu-tots/2027-01-20/
LOCATION:The Children’s Museum of the Upstate\, 300 College Street\, Greenville\, SC\, 29601
CATEGORIES:Greenville
END:VEVENT
BEGIN:VEVENT
DTSTART;TZID=America/New_York:20270121T100000
DTEND;TZID=America/New_York:20270121T110000
DTSTAMP:20260421T140754
CREATED:20260212T211009Z
LAST-MODIFIED:20260212T211009Z
UID:10002916-1800525600-1800529200@scparents.org
SUMMARY:TCMU Tots
DESCRIPTION:Designed to spark curiosity and creativity for little explorers! Little ones ages 2 to 5 will enjoy sensory play and develop fine motor and social skills. Located in Get Up & Grow on the third floor.
URL:https://scparents.org/event/tcmu-tots/2027-01-21/
LOCATION:The Children’s Museum of the Upstate\, 300 College Street\, Greenville\, SC\, 29601
CATEGORIES:Greenville
END:VEVENT
BEGIN:VEVENT
DTSTART;TZID=America/New_York:20270122T100000
DTEND;TZID=America/New_York:20270122T110000
DTSTAMP:20260421T140754
CREATED:20260212T211009Z
LAST-MODIFIED:20260212T211009Z
UID:10002917-1800612000-1800615600@scparents.org
SUMMARY:TCMU Tots
DESCRIPTION:Designed to spark curiosity and creativity for little explorers! Little ones ages 2 to 5 will enjoy sensory play and develop fine motor and social skills. Located in Get Up & Grow on the third floor.
URL:https://scparents.org/event/tcmu-tots/2027-01-22/
LOCATION:The Children’s Museum of the Upstate\, 300 College Street\, Greenville\, SC\, 29601
CATEGORIES:Greenville
END:VEVENT
BEGIN:VEVENT
DTSTART;TZID=America/New_York:20270123T100000
DTEND;TZID=America/New_York:20270123T110000
DTSTAMP:20260421T140754
CREATED:20260212T211009Z
LAST-MODIFIED:20260212T211009Z
UID:10002918-1800698400-1800702000@scparents.org
SUMMARY:TCMU Tots
DESCRIPTION:Designed to spark curiosity and creativity for little explorers! Little ones ages 2 to 5 will enjoy sensory play and develop fine motor and social skills. Located in Get Up & Grow on the third floor.
URL:https://scparents.org/event/tcmu-tots/2027-01-23/
LOCATION:The Children’s Museum of the Upstate\, 300 College Street\, Greenville\, SC\, 29601
CATEGORIES:Greenville
END:VEVENT
BEGIN:VEVENT
DTSTART;TZID=America/New_York:20270126T100000
DTEND;TZID=America/New_York:20270126T110000
DTSTAMP:20260421T140754
CREATED:20260212T211009Z
LAST-MODIFIED:20260212T211009Z
UID:10002919-1800957600-1800961200@scparents.org
SUMMARY:TCMU Tots
DESCRIPTION:Designed to spark curiosity and creativity for little explorers! Little ones ages 2 to 5 will enjoy sensory play and develop fine motor and social skills. Located in Get Up & Grow on the third floor.
URL:https://scparents.org/event/tcmu-tots/2027-01-26/
LOCATION:The Children’s Museum of the Upstate\, 300 College Street\, Greenville\, SC\, 29601
CATEGORIES:Greenville
END:VEVENT
BEGIN:VEVENT
DTSTART;TZID=America/New_York:20270127T100000
DTEND;TZID=America/New_York:20270127T110000
DTSTAMP:20260421T140754
CREATED:20260212T211009Z
LAST-MODIFIED:20260212T211009Z
UID:10002920-1801044000-1801047600@scparents.org
SUMMARY:TCMU Tots
DESCRIPTION:Designed to spark curiosity and creativity for little explorers! Little ones ages 2 to 5 will enjoy sensory play and develop fine motor and social skills. Located in Get Up & Grow on the third floor.
URL:https://scparents.org/event/tcmu-tots/2027-01-27/
LOCATION:The Children’s Museum of the Upstate\, 300 College Street\, Greenville\, SC\, 29601
CATEGORIES:Greenville
END:VEVENT
BEGIN:VEVENT
DTSTART;TZID=America/New_York:20270128T100000
DTEND;TZID=America/New_York:20270128T110000
DTSTAMP:20260421T140754
CREATED:20260212T211009Z
LAST-MODIFIED:20260212T211009Z
UID:10002921-1801130400-1801134000@scparents.org
SUMMARY:TCMU Tots
DESCRIPTION:Designed to spark curiosity and creativity for little explorers! Little ones ages 2 to 5 will enjoy sensory play and develop fine motor and social skills. Located in Get Up & Grow on the third floor.
URL:https://scparents.org/event/tcmu-tots/2027-01-28/
LOCATION:The Children’s Museum of the Upstate\, 300 College Street\, Greenville\, SC\, 29601
CATEGORIES:Greenville
END:VEVENT
BEGIN:VEVENT
DTSTART;TZID=America/New_York:20270129T100000
DTEND;TZID=America/New_York:20270129T110000
DTSTAMP:20260421T140754
CREATED:20260212T211009Z
LAST-MODIFIED:20260212T211009Z
UID:10002922-1801216800-1801220400@scparents.org
SUMMARY:TCMU Tots
DESCRIPTION:Designed to spark curiosity and creativity for little explorers! Little ones ages 2 to 5 will enjoy sensory play and develop fine motor and social skills. Located in Get Up & Grow on the third floor.
URL:https://scparents.org/event/tcmu-tots/2027-01-29/
LOCATION:The Children’s Museum of the Upstate\, 300 College Street\, Greenville\, SC\, 29601
CATEGORIES:Greenville
END:VEVENT
BEGIN:VEVENT
DTSTART;TZID=America/New_York:20270130T100000
DTEND;TZID=America/New_York:20270130T110000
DTSTAMP:20260421T140754
CREATED:20260212T211009Z
LAST-MODIFIED:20260212T211009Z
UID:10002923-1801303200-1801306800@scparents.org
SUMMARY:TCMU Tots
DESCRIPTION:Designed to spark curiosity and creativity for little explorers! Little ones ages 2 to 5 will enjoy sensory play and develop fine motor and social skills. Located in Get Up & Grow on the third floor.
URL:https://scparents.org/event/tcmu-tots/2027-01-30/
LOCATION:The Children’s Museum of the Upstate\, 300 College Street\, Greenville\, SC\, 29601
CATEGORIES:Greenville
END:VEVENT
BEGIN:VEVENT
DTSTART;TZID=America/New_York:20270202T100000
DTEND;TZID=America/New_York:20270202T110000
DTSTAMP:20260421T140754
CREATED:20260212T211009Z
LAST-MODIFIED:20260212T211009Z
UID:10002924-1801562400-1801566000@scparents.org
SUMMARY:TCMU Tots
DESCRIPTION:Designed to spark curiosity and creativity for little explorers! Little ones ages 2 to 5 will enjoy sensory play and develop fine motor and social skills. Located in Get Up & Grow on the third floor.
URL:https://scparents.org/event/tcmu-tots/2027-02-02/
LOCATION:The Children’s Museum of the Upstate\, 300 College Street\, Greenville\, SC\, 29601
CATEGORIES:Greenville
END:VEVENT
BEGIN:VEVENT
DTSTART;TZID=America/New_York:20270203T100000
DTEND;TZID=America/New_York:20270203T110000
DTSTAMP:20260421T140754
CREATED:20260212T211009Z
LAST-MODIFIED:20260212T211009Z
UID:10002925-1801648800-1801652400@scparents.org
SUMMARY:TCMU Tots
DESCRIPTION:Designed to spark curiosity and creativity for little explorers! Little ones ages 2 to 5 will enjoy sensory play and develop fine motor and social skills. Located in Get Up & Grow on the third floor.
URL:https://scparents.org/event/tcmu-tots/2027-02-03/
LOCATION:The Children’s Museum of the Upstate\, 300 College Street\, Greenville\, SC\, 29601
CATEGORIES:Greenville
END:VEVENT
BEGIN:VEVENT
DTSTART;TZID=America/New_York:20270204T100000
DTEND;TZID=America/New_York:20270204T110000
DTSTAMP:20260421T140754
CREATED:20260212T211009Z
LAST-MODIFIED:20260212T211009Z
UID:10002926-1801735200-1801738800@scparents.org
SUMMARY:TCMU Tots
DESCRIPTION:Designed to spark curiosity and creativity for little explorers! Little ones ages 2 to 5 will enjoy sensory play and develop fine motor and social skills. Located in Get Up & Grow on the third floor.
URL:https://scparents.org/event/tcmu-tots/2027-02-04/
LOCATION:The Children’s Museum of the Upstate\, 300 College Street\, Greenville\, SC\, 29601
CATEGORIES:Greenville
END:VEVENT
BEGIN:VEVENT
DTSTART;TZID=America/New_York:20270205T100000
DTEND;TZID=America/New_York:20270205T110000
DTSTAMP:20260421T140754
CREATED:20260212T211009Z
LAST-MODIFIED:20260212T211009Z
UID:10002927-1801821600-1801825200@scparents.org
SUMMARY:TCMU Tots
DESCRIPTION:Designed to spark curiosity and creativity for little explorers! Little ones ages 2 to 5 will enjoy sensory play and develop fine motor and social skills. Located in Get Up & Grow on the third floor.
URL:https://scparents.org/event/tcmu-tots/2027-02-05/
LOCATION:The Children’s Museum of the Upstate\, 300 College Street\, Greenville\, SC\, 29601
CATEGORIES:Greenville
END:VEVENT
BEGIN:VEVENT
DTSTART;TZID=America/New_York:20270206T100000
DTEND;TZID=America/New_York:20270206T110000
DTSTAMP:20260421T140754
CREATED:20260212T211009Z
LAST-MODIFIED:20260212T211009Z
UID:10002928-1801908000-1801911600@scparents.org
SUMMARY:TCMU Tots
DESCRIPTION:Designed to spark curiosity and creativity for little explorers! Little ones ages 2 to 5 will enjoy sensory play and develop fine motor and social skills. Located in Get Up & Grow on the third floor.
URL:https://scparents.org/event/tcmu-tots/2027-02-06/
LOCATION:The Children’s Museum of the Upstate\, 300 College Street\, Greenville\, SC\, 29601
CATEGORIES:Greenville
END:VEVENT
BEGIN:VEVENT
DTSTART;TZID=America/New_York:20270209T100000
DTEND;TZID=America/New_York:20270209T110000
DTSTAMP:20260421T140754
CREATED:20260212T211009Z
LAST-MODIFIED:20260212T211009Z
UID:10002929-1802167200-1802170800@scparents.org
SUMMARY:TCMU Tots
DESCRIPTION:Designed to spark curiosity and creativity for little explorers! Little ones ages 2 to 5 will enjoy sensory play and develop fine motor and social skills. Located in Get Up & Grow on the third floor.
URL:https://scparents.org/event/tcmu-tots/2027-02-09/
LOCATION:The Children’s Museum of the Upstate\, 300 College Street\, Greenville\, SC\, 29601
CATEGORIES:Greenville
END:VEVENT
END:VCALENDAR