BEGIN:VCALENDAR
VERSION:2.0
PRODID:-//scParents.org - ECPv6.15.20//NONSGML v1.0//EN
CALSCALE:GREGORIAN
METHOD:PUBLISH
X-ORIGINAL-URL:https://scparents.org
X-WR-CALDESC:Events for scParents.org
REFRESH-INTERVAL;VALUE=DURATION:PT1H
X-Robots-Tag:noindex
X-PUBLISHED-TTL:PT1H
BEGIN:VTIMEZONE
TZID:America/New_York
BEGIN:DAYLIGHT
TZOFFSETFROM:-0500
TZOFFSETTO:-0400
TZNAME:EDT
DTSTART:20250309T070000
END:DAYLIGHT
BEGIN:STANDARD
TZOFFSETFROM:-0400
TZOFFSETTO:-0500
TZNAME:EST
DTSTART:20251102T060000
END:STANDARD
BEGIN:DAYLIGHT
TZOFFSETFROM:-0500
TZOFFSETTO:-0400
TZNAME:EDT
DTSTART:20260308T070000
END:DAYLIGHT
BEGIN:STANDARD
TZOFFSETFROM:-0400
TZOFFSETTO:-0500
TZNAME:EST
DTSTART:20261101T060000
END:STANDARD
BEGIN:DAYLIGHT
TZOFFSETFROM:-0500
TZOFFSETTO:-0400
TZNAME:EDT
DTSTART:20270314T070000
END:DAYLIGHT
BEGIN:STANDARD
TZOFFSETFROM:-0400
TZOFFSETTO:-0500
TZNAME:EST
DTSTART:20271107T060000
END:STANDARD
END:VTIMEZONE
BEGIN:VEVENT
DTSTART;TZID=America/New_York:20260128T100000
DTEND;TZID=America/New_York:20260128T120000
DTSTAMP:20260421T065013
CREATED:20260122T144446Z
LAST-MODIFIED:20260122T144446Z
UID:10002384-1769594400-1769601600@scparents.org
SUMMARY:Diaper Day GiveAway Tour in Sumter County
DESCRIPTION:Maternity Health and Resource Centers is excited to partner with the Palmetto Goodwill Sumter Career Opportunity Center in Sumter for this special event! Come and grab some vital employment information and register for free diapers for your little ones! Don’t miss out on this opportunity to stock up on essentials for your family. The event is free\, but registration is required.
URL:https://scparents.org/event/diaper-day-giveaway-tour-in-sumter-county/
LOCATION:Palmetto Goodwill\, 1028 Broad Street\, Sumter\, SC\, 29150\, United States
CATEGORIES:Sumter
END:VEVENT
END:VCALENDAR