BEGIN:VCALENDAR
VERSION:2.0
PRODID:-//scParents.org - ECPv6.15.20//NONSGML v1.0//EN
CALSCALE:GREGORIAN
METHOD:PUBLISH
X-WR-CALNAME:scParents.org
X-ORIGINAL-URL:https://scparents.org
X-WR-CALDESC:Events for scParents.org
REFRESH-INTERVAL;VALUE=DURATION:PT1H
X-Robots-Tag:noindex
X-PUBLISHED-TTL:PT1H
BEGIN:VTIMEZONE
TZID:America/New_York
BEGIN:DAYLIGHT
TZOFFSETFROM:-0500
TZOFFSETTO:-0400
TZNAME:EDT
DTSTART:20290311T070000
END:DAYLIGHT
BEGIN:STANDARD
TZOFFSETFROM:-0400
TZOFFSETTO:-0500
TZNAME:EST
DTSTART:20291104T060000
END:STANDARD
BEGIN:DAYLIGHT
TZOFFSETFROM:-0500
TZOFFSETTO:-0400
TZNAME:EDT
DTSTART:20300310T070000
END:DAYLIGHT
BEGIN:STANDARD
TZOFFSETFROM:-0400
TZOFFSETTO:-0500
TZNAME:EST
DTSTART:20301103T060000
END:STANDARD
BEGIN:DAYLIGHT
TZOFFSETFROM:-0500
TZOFFSETTO:-0400
TZNAME:EDT
DTSTART:20310309T070000
END:DAYLIGHT
BEGIN:STANDARD
TZOFFSETFROM:-0400
TZOFFSETTO:-0500
TZNAME:EST
DTSTART:20311102T060000
END:STANDARD
BEGIN:DAYLIGHT
TZOFFSETFROM:-0500
TZOFFSETTO:-0400
TZNAME:EDT
DTSTART:20320314T070000
END:DAYLIGHT
BEGIN:STANDARD
TZOFFSETFROM:-0400
TZOFFSETTO:-0500
TZNAME:EST
DTSTART:20321107T060000
END:STANDARD
END:VTIMEZONE
BEGIN:VEVENT
DTSTART;TZID=America/New_York:20301127T093000
DTEND;TZID=America/New_York:20301127T100000
DTSTAMP:20260421T180521
CREATED:20260212T211202Z
LAST-MODIFIED:20260212T211202Z
UID:10004486-1922002200-1922004000@scparents.org
SUMMARY:Toddler Time
DESCRIPTION:A fun-filled interactive program for toddlers and their grownups that uses rhymes\, songs and more to kindle the learning process. For ages 12 to 24 months. 
URL:https://scparents.org/event/toddler-time/2030-11-27/
LOCATION:Lexington Main Library\, 5440 Augusta Road\, Lexington\, SC\, 29072\, United States
CATEGORIES:Lexington
END:VEVENT
BEGIN:VEVENT
DTSTART;TZID=America/New_York:20301204T093000
DTEND;TZID=America/New_York:20301204T100000
DTSTAMP:20260421T180521
CREATED:20260212T211202Z
LAST-MODIFIED:20260212T211202Z
UID:10004487-1922607000-1922608800@scparents.org
SUMMARY:Toddler Time
DESCRIPTION:A fun-filled interactive program for toddlers and their grownups that uses rhymes\, songs and more to kindle the learning process. For ages 12 to 24 months. 
URL:https://scparents.org/event/toddler-time/2030-12-04/
LOCATION:Lexington Main Library\, 5440 Augusta Road\, Lexington\, SC\, 29072\, United States
CATEGORIES:Lexington
END:VEVENT
BEGIN:VEVENT
DTSTART;TZID=America/New_York:20301211T093000
DTEND;TZID=America/New_York:20301211T100000
DTSTAMP:20260421T180521
CREATED:20260212T211202Z
LAST-MODIFIED:20260212T211202Z
UID:10004488-1923211800-1923213600@scparents.org
SUMMARY:Toddler Time
DESCRIPTION:A fun-filled interactive program for toddlers and their grownups that uses rhymes\, songs and more to kindle the learning process. For ages 12 to 24 months. 
URL:https://scparents.org/event/toddler-time/2030-12-11/
LOCATION:Lexington Main Library\, 5440 Augusta Road\, Lexington\, SC\, 29072\, United States
CATEGORIES:Lexington
END:VEVENT
BEGIN:VEVENT
DTSTART;TZID=America/New_York:20301218T093000
DTEND;TZID=America/New_York:20301218T100000
DTSTAMP:20260421T180521
CREATED:20260212T211202Z
LAST-MODIFIED:20260212T211202Z
UID:10004489-1923816600-1923818400@scparents.org
SUMMARY:Toddler Time
DESCRIPTION:A fun-filled interactive program for toddlers and their grownups that uses rhymes\, songs and more to kindle the learning process. For ages 12 to 24 months. 
URL:https://scparents.org/event/toddler-time/2030-12-18/
LOCATION:Lexington Main Library\, 5440 Augusta Road\, Lexington\, SC\, 29072\, United States
CATEGORIES:Lexington
END:VEVENT
BEGIN:VEVENT
DTSTART;TZID=America/New_York:20301225T093000
DTEND;TZID=America/New_York:20301225T100000
DTSTAMP:20260421T180521
CREATED:20260212T211202Z
LAST-MODIFIED:20260212T211202Z
UID:10004490-1924421400-1924423200@scparents.org
SUMMARY:Toddler Time
DESCRIPTION:A fun-filled interactive program for toddlers and their grownups that uses rhymes\, songs and more to kindle the learning process. For ages 12 to 24 months. 
URL:https://scparents.org/event/toddler-time/2030-12-25/
LOCATION:Lexington Main Library\, 5440 Augusta Road\, Lexington\, SC\, 29072\, United States
CATEGORIES:Lexington
END:VEVENT
BEGIN:VEVENT
DTSTART;TZID=America/New_York:20310101T093000
DTEND;TZID=America/New_York:20310101T100000
DTSTAMP:20260421T180521
CREATED:20260212T211202Z
LAST-MODIFIED:20260212T211202Z
UID:10004491-1925026200-1925028000@scparents.org
SUMMARY:Toddler Time
DESCRIPTION:A fun-filled interactive program for toddlers and their grownups that uses rhymes\, songs and more to kindle the learning process. For ages 12 to 24 months. 
URL:https://scparents.org/event/toddler-time/2031-01-01/
LOCATION:Lexington Main Library\, 5440 Augusta Road\, Lexington\, SC\, 29072\, United States
CATEGORIES:Lexington
END:VEVENT
BEGIN:VEVENT
DTSTART;TZID=America/New_York:20310108T093000
DTEND;TZID=America/New_York:20310108T100000
DTSTAMP:20260421T180521
CREATED:20260212T211202Z
LAST-MODIFIED:20260212T211202Z
UID:10004492-1925631000-1925632800@scparents.org
SUMMARY:Toddler Time
DESCRIPTION:A fun-filled interactive program for toddlers and their grownups that uses rhymes\, songs and more to kindle the learning process. For ages 12 to 24 months. 
URL:https://scparents.org/event/toddler-time/2031-01-08/
LOCATION:Lexington Main Library\, 5440 Augusta Road\, Lexington\, SC\, 29072\, United States
CATEGORIES:Lexington
END:VEVENT
BEGIN:VEVENT
DTSTART;TZID=America/New_York:20310115T093000
DTEND;TZID=America/New_York:20310115T100000
DTSTAMP:20260421T180521
CREATED:20260212T211202Z
LAST-MODIFIED:20260212T211202Z
UID:10004493-1926235800-1926237600@scparents.org
SUMMARY:Toddler Time
DESCRIPTION:A fun-filled interactive program for toddlers and their grownups that uses rhymes\, songs and more to kindle the learning process. For ages 12 to 24 months. 
URL:https://scparents.org/event/toddler-time/2031-01-15/
LOCATION:Lexington Main Library\, 5440 Augusta Road\, Lexington\, SC\, 29072\, United States
CATEGORIES:Lexington
END:VEVENT
BEGIN:VEVENT
DTSTART;TZID=America/New_York:20310122T093000
DTEND;TZID=America/New_York:20310122T100000
DTSTAMP:20260421T180521
CREATED:20260212T211202Z
LAST-MODIFIED:20260212T211202Z
UID:10004494-1926840600-1926842400@scparents.org
SUMMARY:Toddler Time
DESCRIPTION:A fun-filled interactive program for toddlers and their grownups that uses rhymes\, songs and more to kindle the learning process. For ages 12 to 24 months. 
URL:https://scparents.org/event/toddler-time/2031-01-22/
LOCATION:Lexington Main Library\, 5440 Augusta Road\, Lexington\, SC\, 29072\, United States
CATEGORIES:Lexington
END:VEVENT
BEGIN:VEVENT
DTSTART;TZID=America/New_York:20310129T093000
DTEND;TZID=America/New_York:20310129T100000
DTSTAMP:20260421T180521
CREATED:20260212T211202Z
LAST-MODIFIED:20260212T211202Z
UID:10004495-1927445400-1927447200@scparents.org
SUMMARY:Toddler Time
DESCRIPTION:A fun-filled interactive program for toddlers and their grownups that uses rhymes\, songs and more to kindle the learning process. For ages 12 to 24 months. 
URL:https://scparents.org/event/toddler-time/2031-01-29/
LOCATION:Lexington Main Library\, 5440 Augusta Road\, Lexington\, SC\, 29072\, United States
CATEGORIES:Lexington
END:VEVENT
BEGIN:VEVENT
DTSTART;TZID=America/New_York:20310205T093000
DTEND;TZID=America/New_York:20310205T100000
DTSTAMP:20260421T180521
CREATED:20260212T211202Z
LAST-MODIFIED:20260212T211202Z
UID:10004496-1928050200-1928052000@scparents.org
SUMMARY:Toddler Time
DESCRIPTION:A fun-filled interactive program for toddlers and their grownups that uses rhymes\, songs and more to kindle the learning process. For ages 12 to 24 months. 
URL:https://scparents.org/event/toddler-time/2031-02-05/
LOCATION:Lexington Main Library\, 5440 Augusta Road\, Lexington\, SC\, 29072\, United States
CATEGORIES:Lexington
END:VEVENT
BEGIN:VEVENT
DTSTART;TZID=America/New_York:20310212T093000
DTEND;TZID=America/New_York:20310212T100000
DTSTAMP:20260421T180521
CREATED:20260212T211202Z
LAST-MODIFIED:20260212T211202Z
UID:10005284-1928655000-1928656800@scparents.org
SUMMARY:Toddler Time
DESCRIPTION:A fun-filled interactive program for toddlers and their grownups that uses rhymes\, songs and more to kindle the learning process. For ages 12 to 24 months. 
URL:https://scparents.org/event/toddler-time/2031-02-12/
LOCATION:Lexington Main Library\, 5440 Augusta Road\, Lexington\, SC\, 29072\, United States
CATEGORIES:Lexington
END:VEVENT
END:VCALENDAR