BEGIN:VCALENDAR
VERSION:2.0
PRODID:-//scParents.org - ECPv6.15.20//NONSGML v1.0//EN
CALSCALE:GREGORIAN
METHOD:PUBLISH
X-ORIGINAL-URL:https://scparents.org
X-WR-CALDESC:Events for scParents.org
REFRESH-INTERVAL;VALUE=DURATION:PT1H
X-Robots-Tag:noindex
X-PUBLISHED-TTL:PT1H
BEGIN:VTIMEZONE
TZID:America/New_York
BEGIN:DAYLIGHT
TZOFFSETFROM:-0500
TZOFFSETTO:-0400
TZNAME:EDT
DTSTART:20290311T070000
END:DAYLIGHT
BEGIN:STANDARD
TZOFFSETFROM:-0400
TZOFFSETTO:-0500
TZNAME:EST
DTSTART:20291104T060000
END:STANDARD
BEGIN:DAYLIGHT
TZOFFSETFROM:-0500
TZOFFSETTO:-0400
TZNAME:EDT
DTSTART:20300310T070000
END:DAYLIGHT
BEGIN:STANDARD
TZOFFSETFROM:-0400
TZOFFSETTO:-0500
TZNAME:EST
DTSTART:20301103T060000
END:STANDARD
BEGIN:DAYLIGHT
TZOFFSETFROM:-0500
TZOFFSETTO:-0400
TZNAME:EDT
DTSTART:20310309T070000
END:DAYLIGHT
BEGIN:STANDARD
TZOFFSETFROM:-0400
TZOFFSETTO:-0500
TZNAME:EST
DTSTART:20311102T060000
END:STANDARD
END:VTIMEZONE
BEGIN:VEVENT
DTSTART;TZID=America/New_York:20300320T093000
DTEND;TZID=America/New_York:20300320T100000
DTSTAMP:20260421T135321
CREATED:20260212T211202Z
LAST-MODIFIED:20260212T211202Z
UID:10004450-1900229400-1900231200@scparents.org
SUMMARY:Toddler Time
DESCRIPTION:A fun-filled interactive program for toddlers and their grownups that uses rhymes\, songs and more to kindle the learning process. For ages 12 to 24 months. 
URL:https://scparents.org/event/toddler-time/2030-03-20/
LOCATION:Lexington Main Library\, 5440 Augusta Road\, Lexington\, SC\, 29072\, United States
CATEGORIES:Lexington
END:VEVENT
BEGIN:VEVENT
DTSTART;TZID=America/New_York:20300327T093000
DTEND;TZID=America/New_York:20300327T100000
DTSTAMP:20260421T135321
CREATED:20260212T211202Z
LAST-MODIFIED:20260212T211202Z
UID:10004451-1900834200-1900836000@scparents.org
SUMMARY:Toddler Time
DESCRIPTION:A fun-filled interactive program for toddlers and their grownups that uses rhymes\, songs and more to kindle the learning process. For ages 12 to 24 months. 
URL:https://scparents.org/event/toddler-time/2030-03-27/
LOCATION:Lexington Main Library\, 5440 Augusta Road\, Lexington\, SC\, 29072\, United States
CATEGORIES:Lexington
END:VEVENT
BEGIN:VEVENT
DTSTART;TZID=America/New_York:20300403T093000
DTEND;TZID=America/New_York:20300403T100000
DTSTAMP:20260421T135321
CREATED:20260212T211202Z
LAST-MODIFIED:20260212T211202Z
UID:10004452-1901439000-1901440800@scparents.org
SUMMARY:Toddler Time
DESCRIPTION:A fun-filled interactive program for toddlers and their grownups that uses rhymes\, songs and more to kindle the learning process. For ages 12 to 24 months. 
URL:https://scparents.org/event/toddler-time/2030-04-03/
LOCATION:Lexington Main Library\, 5440 Augusta Road\, Lexington\, SC\, 29072\, United States
CATEGORIES:Lexington
END:VEVENT
BEGIN:VEVENT
DTSTART;TZID=America/New_York:20300410T093000
DTEND;TZID=America/New_York:20300410T100000
DTSTAMP:20260421T135321
CREATED:20260212T211202Z
LAST-MODIFIED:20260212T211202Z
UID:10004453-1902043800-1902045600@scparents.org
SUMMARY:Toddler Time
DESCRIPTION:A fun-filled interactive program for toddlers and their grownups that uses rhymes\, songs and more to kindle the learning process. For ages 12 to 24 months. 
URL:https://scparents.org/event/toddler-time/2030-04-10/
LOCATION:Lexington Main Library\, 5440 Augusta Road\, Lexington\, SC\, 29072\, United States
CATEGORIES:Lexington
END:VEVENT
BEGIN:VEVENT
DTSTART;TZID=America/New_York:20300417T093000
DTEND;TZID=America/New_York:20300417T100000
DTSTAMP:20260421T135321
CREATED:20260212T211202Z
LAST-MODIFIED:20260212T211202Z
UID:10004454-1902648600-1902650400@scparents.org
SUMMARY:Toddler Time
DESCRIPTION:A fun-filled interactive program for toddlers and their grownups that uses rhymes\, songs and more to kindle the learning process. For ages 12 to 24 months. 
URL:https://scparents.org/event/toddler-time/2030-04-17/
LOCATION:Lexington Main Library\, 5440 Augusta Road\, Lexington\, SC\, 29072\, United States
CATEGORIES:Lexington
END:VEVENT
BEGIN:VEVENT
DTSTART;TZID=America/New_York:20300424T093000
DTEND;TZID=America/New_York:20300424T100000
DTSTAMP:20260421T135321
CREATED:20260212T211202Z
LAST-MODIFIED:20260212T211202Z
UID:10004455-1903253400-1903255200@scparents.org
SUMMARY:Toddler Time
DESCRIPTION:A fun-filled interactive program for toddlers and their grownups that uses rhymes\, songs and more to kindle the learning process. For ages 12 to 24 months. 
URL:https://scparents.org/event/toddler-time/2030-04-24/
LOCATION:Lexington Main Library\, 5440 Augusta Road\, Lexington\, SC\, 29072\, United States
CATEGORIES:Lexington
END:VEVENT
BEGIN:VEVENT
DTSTART;TZID=America/New_York:20300501T093000
DTEND;TZID=America/New_York:20300501T100000
DTSTAMP:20260421T135321
CREATED:20260212T211202Z
LAST-MODIFIED:20260212T211202Z
UID:10004456-1903858200-1903860000@scparents.org
SUMMARY:Toddler Time
DESCRIPTION:A fun-filled interactive program for toddlers and their grownups that uses rhymes\, songs and more to kindle the learning process. For ages 12 to 24 months. 
URL:https://scparents.org/event/toddler-time/2030-05-01/
LOCATION:Lexington Main Library\, 5440 Augusta Road\, Lexington\, SC\, 29072\, United States
CATEGORIES:Lexington
END:VEVENT
BEGIN:VEVENT
DTSTART;TZID=America/New_York:20300508T093000
DTEND;TZID=America/New_York:20300508T100000
DTSTAMP:20260421T135321
CREATED:20260212T211202Z
LAST-MODIFIED:20260212T211202Z
UID:10004457-1904463000-1904464800@scparents.org
SUMMARY:Toddler Time
DESCRIPTION:A fun-filled interactive program for toddlers and their grownups that uses rhymes\, songs and more to kindle the learning process. For ages 12 to 24 months. 
URL:https://scparents.org/event/toddler-time/2030-05-08/
LOCATION:Lexington Main Library\, 5440 Augusta Road\, Lexington\, SC\, 29072\, United States
CATEGORIES:Lexington
END:VEVENT
BEGIN:VEVENT
DTSTART;TZID=America/New_York:20300515T093000
DTEND;TZID=America/New_York:20300515T100000
DTSTAMP:20260421T135321
CREATED:20260212T211202Z
LAST-MODIFIED:20260212T211202Z
UID:10004458-1905067800-1905069600@scparents.org
SUMMARY:Toddler Time
DESCRIPTION:A fun-filled interactive program for toddlers and their grownups that uses rhymes\, songs and more to kindle the learning process. For ages 12 to 24 months. 
URL:https://scparents.org/event/toddler-time/2030-05-15/
LOCATION:Lexington Main Library\, 5440 Augusta Road\, Lexington\, SC\, 29072\, United States
CATEGORIES:Lexington
END:VEVENT
BEGIN:VEVENT
DTSTART;TZID=America/New_York:20300522T093000
DTEND;TZID=America/New_York:20300522T100000
DTSTAMP:20260421T135321
CREATED:20260212T211202Z
LAST-MODIFIED:20260212T211202Z
UID:10004459-1905672600-1905674400@scparents.org
SUMMARY:Toddler Time
DESCRIPTION:A fun-filled interactive program for toddlers and their grownups that uses rhymes\, songs and more to kindle the learning process. For ages 12 to 24 months. 
URL:https://scparents.org/event/toddler-time/2030-05-22/
LOCATION:Lexington Main Library\, 5440 Augusta Road\, Lexington\, SC\, 29072\, United States
CATEGORIES:Lexington
END:VEVENT
BEGIN:VEVENT
DTSTART;TZID=America/New_York:20300529T093000
DTEND;TZID=America/New_York:20300529T100000
DTSTAMP:20260421T135321
CREATED:20260212T211202Z
LAST-MODIFIED:20260212T211202Z
UID:10004460-1906277400-1906279200@scparents.org
SUMMARY:Toddler Time
DESCRIPTION:A fun-filled interactive program for toddlers and their grownups that uses rhymes\, songs and more to kindle the learning process. For ages 12 to 24 months. 
URL:https://scparents.org/event/toddler-time/2030-05-29/
LOCATION:Lexington Main Library\, 5440 Augusta Road\, Lexington\, SC\, 29072\, United States
CATEGORIES:Lexington
END:VEVENT
BEGIN:VEVENT
DTSTART;TZID=America/New_York:20300605T093000
DTEND;TZID=America/New_York:20300605T100000
DTSTAMP:20260421T135321
CREATED:20260212T211202Z
LAST-MODIFIED:20260212T211202Z
UID:10004461-1906882200-1906884000@scparents.org
SUMMARY:Toddler Time
DESCRIPTION:A fun-filled interactive program for toddlers and their grownups that uses rhymes\, songs and more to kindle the learning process. For ages 12 to 24 months. 
URL:https://scparents.org/event/toddler-time/2030-06-05/
LOCATION:Lexington Main Library\, 5440 Augusta Road\, Lexington\, SC\, 29072\, United States
CATEGORIES:Lexington
END:VEVENT
BEGIN:VEVENT
DTSTART;TZID=America/New_York:20300612T093000
DTEND;TZID=America/New_York:20300612T100000
DTSTAMP:20260421T135321
CREATED:20260212T211202Z
LAST-MODIFIED:20260212T211202Z
UID:10004462-1907487000-1907488800@scparents.org
SUMMARY:Toddler Time
DESCRIPTION:A fun-filled interactive program for toddlers and their grownups that uses rhymes\, songs and more to kindle the learning process. For ages 12 to 24 months. 
URL:https://scparents.org/event/toddler-time/2030-06-12/
LOCATION:Lexington Main Library\, 5440 Augusta Road\, Lexington\, SC\, 29072\, United States
CATEGORIES:Lexington
END:VEVENT
BEGIN:VEVENT
DTSTART;TZID=America/New_York:20300619T093000
DTEND;TZID=America/New_York:20300619T100000
DTSTAMP:20260421T135321
CREATED:20260212T211202Z
LAST-MODIFIED:20260212T211202Z
UID:10004463-1908091800-1908093600@scparents.org
SUMMARY:Toddler Time
DESCRIPTION:A fun-filled interactive program for toddlers and their grownups that uses rhymes\, songs and more to kindle the learning process. For ages 12 to 24 months. 
URL:https://scparents.org/event/toddler-time/2030-06-19/
LOCATION:Lexington Main Library\, 5440 Augusta Road\, Lexington\, SC\, 29072\, United States
CATEGORIES:Lexington
END:VEVENT
BEGIN:VEVENT
DTSTART;TZID=America/New_York:20300626T093000
DTEND;TZID=America/New_York:20300626T100000
DTSTAMP:20260421T135321
CREATED:20260212T211202Z
LAST-MODIFIED:20260212T211202Z
UID:10004464-1908696600-1908698400@scparents.org
SUMMARY:Toddler Time
DESCRIPTION:A fun-filled interactive program for toddlers and their grownups that uses rhymes\, songs and more to kindle the learning process. For ages 12 to 24 months. 
URL:https://scparents.org/event/toddler-time/2030-06-26/
LOCATION:Lexington Main Library\, 5440 Augusta Road\, Lexington\, SC\, 29072\, United States
CATEGORIES:Lexington
END:VEVENT
BEGIN:VEVENT
DTSTART;TZID=America/New_York:20300703T093000
DTEND;TZID=America/New_York:20300703T100000
DTSTAMP:20260421T135321
CREATED:20260212T211202Z
LAST-MODIFIED:20260212T211202Z
UID:10004465-1909301400-1909303200@scparents.org
SUMMARY:Toddler Time
DESCRIPTION:A fun-filled interactive program for toddlers and their grownups that uses rhymes\, songs and more to kindle the learning process. For ages 12 to 24 months. 
URL:https://scparents.org/event/toddler-time/2030-07-03/
LOCATION:Lexington Main Library\, 5440 Augusta Road\, Lexington\, SC\, 29072\, United States
CATEGORIES:Lexington
END:VEVENT
BEGIN:VEVENT
DTSTART;TZID=America/New_York:20300710T093000
DTEND;TZID=America/New_York:20300710T100000
DTSTAMP:20260421T135321
CREATED:20260212T211202Z
LAST-MODIFIED:20260212T211202Z
UID:10004466-1909906200-1909908000@scparents.org
SUMMARY:Toddler Time
DESCRIPTION:A fun-filled interactive program for toddlers and their grownups that uses rhymes\, songs and more to kindle the learning process. For ages 12 to 24 months. 
URL:https://scparents.org/event/toddler-time/2030-07-10/
LOCATION:Lexington Main Library\, 5440 Augusta Road\, Lexington\, SC\, 29072\, United States
CATEGORIES:Lexington
END:VEVENT
BEGIN:VEVENT
DTSTART;TZID=America/New_York:20300717T093000
DTEND;TZID=America/New_York:20300717T100000
DTSTAMP:20260421T135321
CREATED:20260212T211202Z
LAST-MODIFIED:20260212T211202Z
UID:10004467-1910511000-1910512800@scparents.org
SUMMARY:Toddler Time
DESCRIPTION:A fun-filled interactive program for toddlers and their grownups that uses rhymes\, songs and more to kindle the learning process. For ages 12 to 24 months. 
URL:https://scparents.org/event/toddler-time/2030-07-17/
LOCATION:Lexington Main Library\, 5440 Augusta Road\, Lexington\, SC\, 29072\, United States
CATEGORIES:Lexington
END:VEVENT
BEGIN:VEVENT
DTSTART;TZID=America/New_York:20300724T093000
DTEND;TZID=America/New_York:20300724T100000
DTSTAMP:20260421T135321
CREATED:20260212T211202Z
LAST-MODIFIED:20260212T211202Z
UID:10004468-1911115800-1911117600@scparents.org
SUMMARY:Toddler Time
DESCRIPTION:A fun-filled interactive program for toddlers and their grownups that uses rhymes\, songs and more to kindle the learning process. For ages 12 to 24 months. 
URL:https://scparents.org/event/toddler-time/2030-07-24/
LOCATION:Lexington Main Library\, 5440 Augusta Road\, Lexington\, SC\, 29072\, United States
CATEGORIES:Lexington
END:VEVENT
BEGIN:VEVENT
DTSTART;TZID=America/New_York:20300731T093000
DTEND;TZID=America/New_York:20300731T100000
DTSTAMP:20260421T135321
CREATED:20260212T211202Z
LAST-MODIFIED:20260212T211202Z
UID:10004469-1911720600-1911722400@scparents.org
SUMMARY:Toddler Time
DESCRIPTION:A fun-filled interactive program for toddlers and their grownups that uses rhymes\, songs and more to kindle the learning process. For ages 12 to 24 months. 
URL:https://scparents.org/event/toddler-time/2030-07-31/
LOCATION:Lexington Main Library\, 5440 Augusta Road\, Lexington\, SC\, 29072\, United States
CATEGORIES:Lexington
END:VEVENT
BEGIN:VEVENT
DTSTART;TZID=America/New_York:20300807T093000
DTEND;TZID=America/New_York:20300807T100000
DTSTAMP:20260421T135321
CREATED:20260212T211202Z
LAST-MODIFIED:20260212T211202Z
UID:10004470-1912325400-1912327200@scparents.org
SUMMARY:Toddler Time
DESCRIPTION:A fun-filled interactive program for toddlers and their grownups that uses rhymes\, songs and more to kindle the learning process. For ages 12 to 24 months. 
URL:https://scparents.org/event/toddler-time/2030-08-07/
LOCATION:Lexington Main Library\, 5440 Augusta Road\, Lexington\, SC\, 29072\, United States
CATEGORIES:Lexington
END:VEVENT
BEGIN:VEVENT
DTSTART;TZID=America/New_York:20300814T093000
DTEND;TZID=America/New_York:20300814T100000
DTSTAMP:20260421T135321
CREATED:20260212T211202Z
LAST-MODIFIED:20260212T211202Z
UID:10004471-1912930200-1912932000@scparents.org
SUMMARY:Toddler Time
DESCRIPTION:A fun-filled interactive program for toddlers and their grownups that uses rhymes\, songs and more to kindle the learning process. For ages 12 to 24 months. 
URL:https://scparents.org/event/toddler-time/2030-08-14/
LOCATION:Lexington Main Library\, 5440 Augusta Road\, Lexington\, SC\, 29072\, United States
CATEGORIES:Lexington
END:VEVENT
BEGIN:VEVENT
DTSTART;TZID=America/New_York:20300821T093000
DTEND;TZID=America/New_York:20300821T100000
DTSTAMP:20260421T135321
CREATED:20260212T211202Z
LAST-MODIFIED:20260212T211202Z
UID:10004472-1913535000-1913536800@scparents.org
SUMMARY:Toddler Time
DESCRIPTION:A fun-filled interactive program for toddlers and their grownups that uses rhymes\, songs and more to kindle the learning process. For ages 12 to 24 months. 
URL:https://scparents.org/event/toddler-time/2030-08-21/
LOCATION:Lexington Main Library\, 5440 Augusta Road\, Lexington\, SC\, 29072\, United States
CATEGORIES:Lexington
END:VEVENT
BEGIN:VEVENT
DTSTART;TZID=America/New_York:20300828T093000
DTEND;TZID=America/New_York:20300828T100000
DTSTAMP:20260421T135321
CREATED:20260212T211202Z
LAST-MODIFIED:20260212T211202Z
UID:10004473-1914139800-1914141600@scparents.org
SUMMARY:Toddler Time
DESCRIPTION:A fun-filled interactive program for toddlers and their grownups that uses rhymes\, songs and more to kindle the learning process. For ages 12 to 24 months. 
URL:https://scparents.org/event/toddler-time/2030-08-28/
LOCATION:Lexington Main Library\, 5440 Augusta Road\, Lexington\, SC\, 29072\, United States
CATEGORIES:Lexington
END:VEVENT
BEGIN:VEVENT
DTSTART;TZID=America/New_York:20300904T093000
DTEND;TZID=America/New_York:20300904T100000
DTSTAMP:20260421T135321
CREATED:20260212T211202Z
LAST-MODIFIED:20260212T211202Z
UID:10004474-1914744600-1914746400@scparents.org
SUMMARY:Toddler Time
DESCRIPTION:A fun-filled interactive program for toddlers and their grownups that uses rhymes\, songs and more to kindle the learning process. For ages 12 to 24 months. 
URL:https://scparents.org/event/toddler-time/2030-09-04/
LOCATION:Lexington Main Library\, 5440 Augusta Road\, Lexington\, SC\, 29072\, United States
CATEGORIES:Lexington
END:VEVENT
BEGIN:VEVENT
DTSTART;TZID=America/New_York:20300911T093000
DTEND;TZID=America/New_York:20300911T100000
DTSTAMP:20260421T135321
CREATED:20260212T211202Z
LAST-MODIFIED:20260212T211202Z
UID:10004475-1915349400-1915351200@scparents.org
SUMMARY:Toddler Time
DESCRIPTION:A fun-filled interactive program for toddlers and their grownups that uses rhymes\, songs and more to kindle the learning process. For ages 12 to 24 months. 
URL:https://scparents.org/event/toddler-time/2030-09-11/
LOCATION:Lexington Main Library\, 5440 Augusta Road\, Lexington\, SC\, 29072\, United States
CATEGORIES:Lexington
END:VEVENT
BEGIN:VEVENT
DTSTART;TZID=America/New_York:20300918T093000
DTEND;TZID=America/New_York:20300918T100000
DTSTAMP:20260421T135321
CREATED:20260212T211202Z
LAST-MODIFIED:20260212T211202Z
UID:10004476-1915954200-1915956000@scparents.org
SUMMARY:Toddler Time
DESCRIPTION:A fun-filled interactive program for toddlers and their grownups that uses rhymes\, songs and more to kindle the learning process. For ages 12 to 24 months. 
URL:https://scparents.org/event/toddler-time/2030-09-18/
LOCATION:Lexington Main Library\, 5440 Augusta Road\, Lexington\, SC\, 29072\, United States
CATEGORIES:Lexington
END:VEVENT
BEGIN:VEVENT
DTSTART;TZID=America/New_York:20300925T093000
DTEND;TZID=America/New_York:20300925T100000
DTSTAMP:20260421T135321
CREATED:20260212T211202Z
LAST-MODIFIED:20260212T211202Z
UID:10004477-1916559000-1916560800@scparents.org
SUMMARY:Toddler Time
DESCRIPTION:A fun-filled interactive program for toddlers and their grownups that uses rhymes\, songs and more to kindle the learning process. For ages 12 to 24 months. 
URL:https://scparents.org/event/toddler-time/2030-09-25/
LOCATION:Lexington Main Library\, 5440 Augusta Road\, Lexington\, SC\, 29072\, United States
CATEGORIES:Lexington
END:VEVENT
BEGIN:VEVENT
DTSTART;TZID=America/New_York:20301002T093000
DTEND;TZID=America/New_York:20301002T100000
DTSTAMP:20260421T135321
CREATED:20260212T211202Z
LAST-MODIFIED:20260212T211202Z
UID:10004478-1917163800-1917165600@scparents.org
SUMMARY:Toddler Time
DESCRIPTION:A fun-filled interactive program for toddlers and their grownups that uses rhymes\, songs and more to kindle the learning process. For ages 12 to 24 months. 
URL:https://scparents.org/event/toddler-time/2030-10-02/
LOCATION:Lexington Main Library\, 5440 Augusta Road\, Lexington\, SC\, 29072\, United States
CATEGORIES:Lexington
END:VEVENT
BEGIN:VEVENT
DTSTART;TZID=America/New_York:20301009T093000
DTEND;TZID=America/New_York:20301009T100000
DTSTAMP:20260421T135321
CREATED:20260212T211202Z
LAST-MODIFIED:20260212T211202Z
UID:10004479-1917768600-1917770400@scparents.org
SUMMARY:Toddler Time
DESCRIPTION:A fun-filled interactive program for toddlers and their grownups that uses rhymes\, songs and more to kindle the learning process. For ages 12 to 24 months. 
URL:https://scparents.org/event/toddler-time/2030-10-09/
LOCATION:Lexington Main Library\, 5440 Augusta Road\, Lexington\, SC\, 29072\, United States
CATEGORIES:Lexington
END:VEVENT
END:VCALENDAR