BEGIN:VCALENDAR
VERSION:2.0
PRODID:-//scParents.org - ECPv6.15.20//NONSGML v1.0//EN
CALSCALE:GREGORIAN
METHOD:PUBLISH
X-WR-CALNAME:scParents.org
X-ORIGINAL-URL:https://scparents.org
X-WR-CALDESC:Events for scParents.org
REFRESH-INTERVAL;VALUE=DURATION:PT1H
X-Robots-Tag:noindex
X-PUBLISHED-TTL:PT1H
BEGIN:VTIMEZONE
TZID:America/New_York
BEGIN:DAYLIGHT
TZOFFSETFROM:-0500
TZOFFSETTO:-0400
TZNAME:EDT
DTSTART:20280312T070000
END:DAYLIGHT
BEGIN:STANDARD
TZOFFSETFROM:-0400
TZOFFSETTO:-0500
TZNAME:EST
DTSTART:20281105T060000
END:STANDARD
BEGIN:DAYLIGHT
TZOFFSETFROM:-0500
TZOFFSETTO:-0400
TZNAME:EDT
DTSTART:20290311T070000
END:DAYLIGHT
BEGIN:STANDARD
TZOFFSETFROM:-0400
TZOFFSETTO:-0500
TZNAME:EST
DTSTART:20291104T060000
END:STANDARD
BEGIN:DAYLIGHT
TZOFFSETFROM:-0500
TZOFFSETTO:-0400
TZNAME:EDT
DTSTART:20300310T070000
END:DAYLIGHT
BEGIN:STANDARD
TZOFFSETFROM:-0400
TZOFFSETTO:-0500
TZNAME:EST
DTSTART:20301103T060000
END:STANDARD
BEGIN:DAYLIGHT
TZOFFSETFROM:-0500
TZOFFSETTO:-0400
TZNAME:EDT
DTSTART:20310309T070000
END:DAYLIGHT
BEGIN:STANDARD
TZOFFSETFROM:-0400
TZOFFSETTO:-0500
TZNAME:EST
DTSTART:20311102T060000
END:STANDARD
END:VTIMEZONE
BEGIN:VEVENT
DTSTART;TZID=America/New_York:20291003T093000
DTEND;TZID=America/New_York:20291003T100000
DTSTAMP:20260421T110319
CREATED:20260212T211202Z
LAST-MODIFIED:20260212T211202Z
UID:10004426-1885714200-1885716000@scparents.org
SUMMARY:Toddler Time
DESCRIPTION:A fun-filled interactive program for toddlers and their grownups that uses rhymes\, songs and more to kindle the learning process. For ages 12 to 24 months. 
URL:https://scparents.org/event/toddler-time/2029-10-03/
LOCATION:Lexington Main Library\, 5440 Augusta Road\, Lexington\, SC\, 29072\, United States
CATEGORIES:Lexington
END:VEVENT
BEGIN:VEVENT
DTSTART;TZID=America/New_York:20291010T093000
DTEND;TZID=America/New_York:20291010T100000
DTSTAMP:20260421T110319
CREATED:20260212T211202Z
LAST-MODIFIED:20260212T211202Z
UID:10004427-1886319000-1886320800@scparents.org
SUMMARY:Toddler Time
DESCRIPTION:A fun-filled interactive program for toddlers and their grownups that uses rhymes\, songs and more to kindle the learning process. For ages 12 to 24 months. 
URL:https://scparents.org/event/toddler-time/2029-10-10/
LOCATION:Lexington Main Library\, 5440 Augusta Road\, Lexington\, SC\, 29072\, United States
CATEGORIES:Lexington
END:VEVENT
BEGIN:VEVENT
DTSTART;TZID=America/New_York:20291017T093000
DTEND;TZID=America/New_York:20291017T100000
DTSTAMP:20260421T110319
CREATED:20260212T211202Z
LAST-MODIFIED:20260212T211202Z
UID:10004428-1886923800-1886925600@scparents.org
SUMMARY:Toddler Time
DESCRIPTION:A fun-filled interactive program for toddlers and their grownups that uses rhymes\, songs and more to kindle the learning process. For ages 12 to 24 months. 
URL:https://scparents.org/event/toddler-time/2029-10-17/
LOCATION:Lexington Main Library\, 5440 Augusta Road\, Lexington\, SC\, 29072\, United States
CATEGORIES:Lexington
END:VEVENT
BEGIN:VEVENT
DTSTART;TZID=America/New_York:20291024T093000
DTEND;TZID=America/New_York:20291024T100000
DTSTAMP:20260421T110319
CREATED:20260212T211202Z
LAST-MODIFIED:20260212T211202Z
UID:10004429-1887528600-1887530400@scparents.org
SUMMARY:Toddler Time
DESCRIPTION:A fun-filled interactive program for toddlers and their grownups that uses rhymes\, songs and more to kindle the learning process. For ages 12 to 24 months. 
URL:https://scparents.org/event/toddler-time/2029-10-24/
LOCATION:Lexington Main Library\, 5440 Augusta Road\, Lexington\, SC\, 29072\, United States
CATEGORIES:Lexington
END:VEVENT
BEGIN:VEVENT
DTSTART;TZID=America/New_York:20291031T093000
DTEND;TZID=America/New_York:20291031T100000
DTSTAMP:20260421T110319
CREATED:20260212T211202Z
LAST-MODIFIED:20260212T211202Z
UID:10004430-1888133400-1888135200@scparents.org
SUMMARY:Toddler Time
DESCRIPTION:A fun-filled interactive program for toddlers and their grownups that uses rhymes\, songs and more to kindle the learning process. For ages 12 to 24 months. 
URL:https://scparents.org/event/toddler-time/2029-10-31/
LOCATION:Lexington Main Library\, 5440 Augusta Road\, Lexington\, SC\, 29072\, United States
CATEGORIES:Lexington
END:VEVENT
BEGIN:VEVENT
DTSTART;TZID=America/New_York:20291107T093000
DTEND;TZID=America/New_York:20291107T100000
DTSTAMP:20260421T110319
CREATED:20260212T211202Z
LAST-MODIFIED:20260212T211202Z
UID:10004431-1888738200-1888740000@scparents.org
SUMMARY:Toddler Time
DESCRIPTION:A fun-filled interactive program for toddlers and their grownups that uses rhymes\, songs and more to kindle the learning process. For ages 12 to 24 months. 
URL:https://scparents.org/event/toddler-time/2029-11-07/
LOCATION:Lexington Main Library\, 5440 Augusta Road\, Lexington\, SC\, 29072\, United States
CATEGORIES:Lexington
END:VEVENT
BEGIN:VEVENT
DTSTART;TZID=America/New_York:20291114T093000
DTEND;TZID=America/New_York:20291114T100000
DTSTAMP:20260421T110319
CREATED:20260212T211202Z
LAST-MODIFIED:20260212T211202Z
UID:10004432-1889343000-1889344800@scparents.org
SUMMARY:Toddler Time
DESCRIPTION:A fun-filled interactive program for toddlers and their grownups that uses rhymes\, songs and more to kindle the learning process. For ages 12 to 24 months. 
URL:https://scparents.org/event/toddler-time/2029-11-14/
LOCATION:Lexington Main Library\, 5440 Augusta Road\, Lexington\, SC\, 29072\, United States
CATEGORIES:Lexington
END:VEVENT
BEGIN:VEVENT
DTSTART;TZID=America/New_York:20291121T093000
DTEND;TZID=America/New_York:20291121T100000
DTSTAMP:20260421T110319
CREATED:20260212T211202Z
LAST-MODIFIED:20260212T211202Z
UID:10004433-1889947800-1889949600@scparents.org
SUMMARY:Toddler Time
DESCRIPTION:A fun-filled interactive program for toddlers and their grownups that uses rhymes\, songs and more to kindle the learning process. For ages 12 to 24 months. 
URL:https://scparents.org/event/toddler-time/2029-11-21/
LOCATION:Lexington Main Library\, 5440 Augusta Road\, Lexington\, SC\, 29072\, United States
CATEGORIES:Lexington
END:VEVENT
BEGIN:VEVENT
DTSTART;TZID=America/New_York:20291128T093000
DTEND;TZID=America/New_York:20291128T100000
DTSTAMP:20260421T110319
CREATED:20260212T211202Z
LAST-MODIFIED:20260212T211202Z
UID:10004434-1890552600-1890554400@scparents.org
SUMMARY:Toddler Time
DESCRIPTION:A fun-filled interactive program for toddlers and their grownups that uses rhymes\, songs and more to kindle the learning process. For ages 12 to 24 months. 
URL:https://scparents.org/event/toddler-time/2029-11-28/
LOCATION:Lexington Main Library\, 5440 Augusta Road\, Lexington\, SC\, 29072\, United States
CATEGORIES:Lexington
END:VEVENT
BEGIN:VEVENT
DTSTART;TZID=America/New_York:20291205T093000
DTEND;TZID=America/New_York:20291205T100000
DTSTAMP:20260421T110319
CREATED:20260212T211202Z
LAST-MODIFIED:20260212T211202Z
UID:10004435-1891157400-1891159200@scparents.org
SUMMARY:Toddler Time
DESCRIPTION:A fun-filled interactive program for toddlers and their grownups that uses rhymes\, songs and more to kindle the learning process. For ages 12 to 24 months. 
URL:https://scparents.org/event/toddler-time/2029-12-05/
LOCATION:Lexington Main Library\, 5440 Augusta Road\, Lexington\, SC\, 29072\, United States
CATEGORIES:Lexington
END:VEVENT
BEGIN:VEVENT
DTSTART;TZID=America/New_York:20291212T093000
DTEND;TZID=America/New_York:20291212T100000
DTSTAMP:20260421T110319
CREATED:20260212T211202Z
LAST-MODIFIED:20260212T211202Z
UID:10004436-1891762200-1891764000@scparents.org
SUMMARY:Toddler Time
DESCRIPTION:A fun-filled interactive program for toddlers and their grownups that uses rhymes\, songs and more to kindle the learning process. For ages 12 to 24 months. 
URL:https://scparents.org/event/toddler-time/2029-12-12/
LOCATION:Lexington Main Library\, 5440 Augusta Road\, Lexington\, SC\, 29072\, United States
CATEGORIES:Lexington
END:VEVENT
BEGIN:VEVENT
DTSTART;TZID=America/New_York:20291219T093000
DTEND;TZID=America/New_York:20291219T100000
DTSTAMP:20260421T110319
CREATED:20260212T211202Z
LAST-MODIFIED:20260212T211202Z
UID:10004437-1892367000-1892368800@scparents.org
SUMMARY:Toddler Time
DESCRIPTION:A fun-filled interactive program for toddlers and their grownups that uses rhymes\, songs and more to kindle the learning process. For ages 12 to 24 months. 
URL:https://scparents.org/event/toddler-time/2029-12-19/
LOCATION:Lexington Main Library\, 5440 Augusta Road\, Lexington\, SC\, 29072\, United States
CATEGORIES:Lexington
END:VEVENT
BEGIN:VEVENT
DTSTART;TZID=America/New_York:20291226T093000
DTEND;TZID=America/New_York:20291226T100000
DTSTAMP:20260421T110319
CREATED:20260212T211202Z
LAST-MODIFIED:20260212T211202Z
UID:10004438-1892971800-1892973600@scparents.org
SUMMARY:Toddler Time
DESCRIPTION:A fun-filled interactive program for toddlers and their grownups that uses rhymes\, songs and more to kindle the learning process. For ages 12 to 24 months. 
URL:https://scparents.org/event/toddler-time/2029-12-26/
LOCATION:Lexington Main Library\, 5440 Augusta Road\, Lexington\, SC\, 29072\, United States
CATEGORIES:Lexington
END:VEVENT
BEGIN:VEVENT
DTSTART;TZID=America/New_York:20300102T093000
DTEND;TZID=America/New_York:20300102T100000
DTSTAMP:20260421T110319
CREATED:20260212T211202Z
LAST-MODIFIED:20260212T211202Z
UID:10004439-1893576600-1893578400@scparents.org
SUMMARY:Toddler Time
DESCRIPTION:A fun-filled interactive program for toddlers and their grownups that uses rhymes\, songs and more to kindle the learning process. For ages 12 to 24 months. 
URL:https://scparents.org/event/toddler-time/2030-01-02/
LOCATION:Lexington Main Library\, 5440 Augusta Road\, Lexington\, SC\, 29072\, United States
CATEGORIES:Lexington
END:VEVENT
BEGIN:VEVENT
DTSTART;TZID=America/New_York:20300109T093000
DTEND;TZID=America/New_York:20300109T100000
DTSTAMP:20260421T110319
CREATED:20260212T211202Z
LAST-MODIFIED:20260212T211202Z
UID:10004440-1894181400-1894183200@scparents.org
SUMMARY:Toddler Time
DESCRIPTION:A fun-filled interactive program for toddlers and their grownups that uses rhymes\, songs and more to kindle the learning process. For ages 12 to 24 months. 
URL:https://scparents.org/event/toddler-time/2030-01-09/
LOCATION:Lexington Main Library\, 5440 Augusta Road\, Lexington\, SC\, 29072\, United States
CATEGORIES:Lexington
END:VEVENT
BEGIN:VEVENT
DTSTART;TZID=America/New_York:20300116T093000
DTEND;TZID=America/New_York:20300116T100000
DTSTAMP:20260421T110319
CREATED:20260212T211202Z
LAST-MODIFIED:20260212T211202Z
UID:10004441-1894786200-1894788000@scparents.org
SUMMARY:Toddler Time
DESCRIPTION:A fun-filled interactive program for toddlers and their grownups that uses rhymes\, songs and more to kindle the learning process. For ages 12 to 24 months. 
URL:https://scparents.org/event/toddler-time/2030-01-16/
LOCATION:Lexington Main Library\, 5440 Augusta Road\, Lexington\, SC\, 29072\, United States
CATEGORIES:Lexington
END:VEVENT
BEGIN:VEVENT
DTSTART;TZID=America/New_York:20300123T093000
DTEND;TZID=America/New_York:20300123T100000
DTSTAMP:20260421T110319
CREATED:20260212T211202Z
LAST-MODIFIED:20260212T211202Z
UID:10004442-1895391000-1895392800@scparents.org
SUMMARY:Toddler Time
DESCRIPTION:A fun-filled interactive program for toddlers and their grownups that uses rhymes\, songs and more to kindle the learning process. For ages 12 to 24 months. 
URL:https://scparents.org/event/toddler-time/2030-01-23/
LOCATION:Lexington Main Library\, 5440 Augusta Road\, Lexington\, SC\, 29072\, United States
CATEGORIES:Lexington
END:VEVENT
BEGIN:VEVENT
DTSTART;TZID=America/New_York:20300130T093000
DTEND;TZID=America/New_York:20300130T100000
DTSTAMP:20260421T110319
CREATED:20260212T211202Z
LAST-MODIFIED:20260212T211202Z
UID:10004443-1895995800-1895997600@scparents.org
SUMMARY:Toddler Time
DESCRIPTION:A fun-filled interactive program for toddlers and their grownups that uses rhymes\, songs and more to kindle the learning process. For ages 12 to 24 months. 
URL:https://scparents.org/event/toddler-time/2030-01-30/
LOCATION:Lexington Main Library\, 5440 Augusta Road\, Lexington\, SC\, 29072\, United States
CATEGORIES:Lexington
END:VEVENT
BEGIN:VEVENT
DTSTART;TZID=America/New_York:20300206T093000
DTEND;TZID=America/New_York:20300206T100000
DTSTAMP:20260421T110319
CREATED:20260212T211202Z
LAST-MODIFIED:20260212T211202Z
UID:10004444-1896600600-1896602400@scparents.org
SUMMARY:Toddler Time
DESCRIPTION:A fun-filled interactive program for toddlers and their grownups that uses rhymes\, songs and more to kindle the learning process. For ages 12 to 24 months. 
URL:https://scparents.org/event/toddler-time/2030-02-06/
LOCATION:Lexington Main Library\, 5440 Augusta Road\, Lexington\, SC\, 29072\, United States
CATEGORIES:Lexington
END:VEVENT
BEGIN:VEVENT
DTSTART;TZID=America/New_York:20300213T093000
DTEND;TZID=America/New_York:20300213T100000
DTSTAMP:20260421T110319
CREATED:20260212T211202Z
LAST-MODIFIED:20260212T211202Z
UID:10004445-1897205400-1897207200@scparents.org
SUMMARY:Toddler Time
DESCRIPTION:A fun-filled interactive program for toddlers and their grownups that uses rhymes\, songs and more to kindle the learning process. For ages 12 to 24 months. 
URL:https://scparents.org/event/toddler-time/2030-02-13/
LOCATION:Lexington Main Library\, 5440 Augusta Road\, Lexington\, SC\, 29072\, United States
CATEGORIES:Lexington
END:VEVENT
BEGIN:VEVENT
DTSTART;TZID=America/New_York:20300220T093000
DTEND;TZID=America/New_York:20300220T100000
DTSTAMP:20260421T110319
CREATED:20260212T211202Z
LAST-MODIFIED:20260212T211202Z
UID:10004446-1897810200-1897812000@scparents.org
SUMMARY:Toddler Time
DESCRIPTION:A fun-filled interactive program for toddlers and their grownups that uses rhymes\, songs and more to kindle the learning process. For ages 12 to 24 months. 
URL:https://scparents.org/event/toddler-time/2030-02-20/
LOCATION:Lexington Main Library\, 5440 Augusta Road\, Lexington\, SC\, 29072\, United States
CATEGORIES:Lexington
END:VEVENT
BEGIN:VEVENT
DTSTART;TZID=America/New_York:20300227T093000
DTEND;TZID=America/New_York:20300227T100000
DTSTAMP:20260421T110319
CREATED:20260212T211202Z
LAST-MODIFIED:20260212T211202Z
UID:10004447-1898415000-1898416800@scparents.org
SUMMARY:Toddler Time
DESCRIPTION:A fun-filled interactive program for toddlers and their grownups that uses rhymes\, songs and more to kindle the learning process. For ages 12 to 24 months. 
URL:https://scparents.org/event/toddler-time/2030-02-27/
LOCATION:Lexington Main Library\, 5440 Augusta Road\, Lexington\, SC\, 29072\, United States
CATEGORIES:Lexington
END:VEVENT
BEGIN:VEVENT
DTSTART;TZID=America/New_York:20300306T093000
DTEND;TZID=America/New_York:20300306T100000
DTSTAMP:20260421T110319
CREATED:20260212T211202Z
LAST-MODIFIED:20260212T211202Z
UID:10004448-1899019800-1899021600@scparents.org
SUMMARY:Toddler Time
DESCRIPTION:A fun-filled interactive program for toddlers and their grownups that uses rhymes\, songs and more to kindle the learning process. For ages 12 to 24 months. 
URL:https://scparents.org/event/toddler-time/2030-03-06/
LOCATION:Lexington Main Library\, 5440 Augusta Road\, Lexington\, SC\, 29072\, United States
CATEGORIES:Lexington
END:VEVENT
BEGIN:VEVENT
DTSTART;TZID=America/New_York:20300313T093000
DTEND;TZID=America/New_York:20300313T100000
DTSTAMP:20260421T110319
CREATED:20260212T211202Z
LAST-MODIFIED:20260212T211202Z
UID:10004449-1899624600-1899626400@scparents.org
SUMMARY:Toddler Time
DESCRIPTION:A fun-filled interactive program for toddlers and their grownups that uses rhymes\, songs and more to kindle the learning process. For ages 12 to 24 months. 
URL:https://scparents.org/event/toddler-time/2030-03-13/
LOCATION:Lexington Main Library\, 5440 Augusta Road\, Lexington\, SC\, 29072\, United States
CATEGORIES:Lexington
END:VEVENT
BEGIN:VEVENT
DTSTART;TZID=America/New_York:20300320T093000
DTEND;TZID=America/New_York:20300320T100000
DTSTAMP:20260421T110319
CREATED:20260212T211202Z
LAST-MODIFIED:20260212T211202Z
UID:10004450-1900229400-1900231200@scparents.org
SUMMARY:Toddler Time
DESCRIPTION:A fun-filled interactive program for toddlers and their grownups that uses rhymes\, songs and more to kindle the learning process. For ages 12 to 24 months. 
URL:https://scparents.org/event/toddler-time/2030-03-20/
LOCATION:Lexington Main Library\, 5440 Augusta Road\, Lexington\, SC\, 29072\, United States
CATEGORIES:Lexington
END:VEVENT
BEGIN:VEVENT
DTSTART;TZID=America/New_York:20300327T093000
DTEND;TZID=America/New_York:20300327T100000
DTSTAMP:20260421T110319
CREATED:20260212T211202Z
LAST-MODIFIED:20260212T211202Z
UID:10004451-1900834200-1900836000@scparents.org
SUMMARY:Toddler Time
DESCRIPTION:A fun-filled interactive program for toddlers and their grownups that uses rhymes\, songs and more to kindle the learning process. For ages 12 to 24 months. 
URL:https://scparents.org/event/toddler-time/2030-03-27/
LOCATION:Lexington Main Library\, 5440 Augusta Road\, Lexington\, SC\, 29072\, United States
CATEGORIES:Lexington
END:VEVENT
BEGIN:VEVENT
DTSTART;TZID=America/New_York:20300403T093000
DTEND;TZID=America/New_York:20300403T100000
DTSTAMP:20260421T110319
CREATED:20260212T211202Z
LAST-MODIFIED:20260212T211202Z
UID:10004452-1901439000-1901440800@scparents.org
SUMMARY:Toddler Time
DESCRIPTION:A fun-filled interactive program for toddlers and their grownups that uses rhymes\, songs and more to kindle the learning process. For ages 12 to 24 months. 
URL:https://scparents.org/event/toddler-time/2030-04-03/
LOCATION:Lexington Main Library\, 5440 Augusta Road\, Lexington\, SC\, 29072\, United States
CATEGORIES:Lexington
END:VEVENT
BEGIN:VEVENT
DTSTART;TZID=America/New_York:20300410T093000
DTEND;TZID=America/New_York:20300410T100000
DTSTAMP:20260421T110319
CREATED:20260212T211202Z
LAST-MODIFIED:20260212T211202Z
UID:10004453-1902043800-1902045600@scparents.org
SUMMARY:Toddler Time
DESCRIPTION:A fun-filled interactive program for toddlers and their grownups that uses rhymes\, songs and more to kindle the learning process. For ages 12 to 24 months. 
URL:https://scparents.org/event/toddler-time/2030-04-10/
LOCATION:Lexington Main Library\, 5440 Augusta Road\, Lexington\, SC\, 29072\, United States
CATEGORIES:Lexington
END:VEVENT
BEGIN:VEVENT
DTSTART;TZID=America/New_York:20300417T093000
DTEND;TZID=America/New_York:20300417T100000
DTSTAMP:20260421T110319
CREATED:20260212T211202Z
LAST-MODIFIED:20260212T211202Z
UID:10004454-1902648600-1902650400@scparents.org
SUMMARY:Toddler Time
DESCRIPTION:A fun-filled interactive program for toddlers and their grownups that uses rhymes\, songs and more to kindle the learning process. For ages 12 to 24 months. 
URL:https://scparents.org/event/toddler-time/2030-04-17/
LOCATION:Lexington Main Library\, 5440 Augusta Road\, Lexington\, SC\, 29072\, United States
CATEGORIES:Lexington
END:VEVENT
BEGIN:VEVENT
DTSTART;TZID=America/New_York:20300424T093000
DTEND;TZID=America/New_York:20300424T100000
DTSTAMP:20260421T110319
CREATED:20260212T211202Z
LAST-MODIFIED:20260212T211202Z
UID:10004455-1903253400-1903255200@scparents.org
SUMMARY:Toddler Time
DESCRIPTION:A fun-filled interactive program for toddlers and their grownups that uses rhymes\, songs and more to kindle the learning process. For ages 12 to 24 months. 
URL:https://scparents.org/event/toddler-time/2030-04-24/
LOCATION:Lexington Main Library\, 5440 Augusta Road\, Lexington\, SC\, 29072\, United States
CATEGORIES:Lexington
END:VEVENT
END:VCALENDAR