BEGIN:VCALENDAR
VERSION:2.0
PRODID:-//scParents.org - ECPv6.15.20//NONSGML v1.0//EN
CALSCALE:GREGORIAN
METHOD:PUBLISH
X-ORIGINAL-URL:https://scparents.org
X-WR-CALDESC:Events for scParents.org
REFRESH-INTERVAL;VALUE=DURATION:PT1H
X-Robots-Tag:noindex
X-PUBLISHED-TTL:PT1H
BEGIN:VTIMEZONE
TZID:America/New_York
BEGIN:DAYLIGHT
TZOFFSETFROM:-0500
TZOFFSETTO:-0400
TZNAME:EDT
DTSTART:20280312T070000
END:DAYLIGHT
BEGIN:STANDARD
TZOFFSETFROM:-0400
TZOFFSETTO:-0500
TZNAME:EST
DTSTART:20281105T060000
END:STANDARD
BEGIN:DAYLIGHT
TZOFFSETFROM:-0500
TZOFFSETTO:-0400
TZNAME:EDT
DTSTART:20290311T070000
END:DAYLIGHT
BEGIN:STANDARD
TZOFFSETFROM:-0400
TZOFFSETTO:-0500
TZNAME:EST
DTSTART:20291104T060000
END:STANDARD
BEGIN:DAYLIGHT
TZOFFSETFROM:-0500
TZOFFSETTO:-0400
TZNAME:EDT
DTSTART:20300310T070000
END:DAYLIGHT
BEGIN:STANDARD
TZOFFSETFROM:-0400
TZOFFSETTO:-0500
TZNAME:EST
DTSTART:20301103T060000
END:STANDARD
END:VTIMEZONE
BEGIN:VEVENT
DTSTART;TZID=America/New_York:20290418T093000
DTEND;TZID=America/New_York:20290418T100000
DTSTAMP:20260421T081813
CREATED:20260212T211202Z
LAST-MODIFIED:20260212T211202Z
UID:10004402-1871199000-1871200800@scparents.org
SUMMARY:Toddler Time
DESCRIPTION:A fun-filled interactive program for toddlers and their grownups that uses rhymes\, songs and more to kindle the learning process. For ages 12 to 24 months. 
URL:https://scparents.org/event/toddler-time/2029-04-18/
LOCATION:Lexington Main Library\, 5440 Augusta Road\, Lexington\, SC\, 29072\, United States
CATEGORIES:Lexington
END:VEVENT
BEGIN:VEVENT
DTSTART;TZID=America/New_York:20290425T093000
DTEND;TZID=America/New_York:20290425T100000
DTSTAMP:20260421T081813
CREATED:20260212T211202Z
LAST-MODIFIED:20260212T211202Z
UID:10004403-1871803800-1871805600@scparents.org
SUMMARY:Toddler Time
DESCRIPTION:A fun-filled interactive program for toddlers and their grownups that uses rhymes\, songs and more to kindle the learning process. For ages 12 to 24 months. 
URL:https://scparents.org/event/toddler-time/2029-04-25/
LOCATION:Lexington Main Library\, 5440 Augusta Road\, Lexington\, SC\, 29072\, United States
CATEGORIES:Lexington
END:VEVENT
BEGIN:VEVENT
DTSTART;TZID=America/New_York:20290502T093000
DTEND;TZID=America/New_York:20290502T100000
DTSTAMP:20260421T081813
CREATED:20260212T211202Z
LAST-MODIFIED:20260212T211202Z
UID:10004404-1872408600-1872410400@scparents.org
SUMMARY:Toddler Time
DESCRIPTION:A fun-filled interactive program for toddlers and their grownups that uses rhymes\, songs and more to kindle the learning process. For ages 12 to 24 months. 
URL:https://scparents.org/event/toddler-time/2029-05-02/
LOCATION:Lexington Main Library\, 5440 Augusta Road\, Lexington\, SC\, 29072\, United States
CATEGORIES:Lexington
END:VEVENT
BEGIN:VEVENT
DTSTART;TZID=America/New_York:20290509T093000
DTEND;TZID=America/New_York:20290509T100000
DTSTAMP:20260421T081813
CREATED:20260212T211202Z
LAST-MODIFIED:20260212T211202Z
UID:10004405-1873013400-1873015200@scparents.org
SUMMARY:Toddler Time
DESCRIPTION:A fun-filled interactive program for toddlers and their grownups that uses rhymes\, songs and more to kindle the learning process. For ages 12 to 24 months. 
URL:https://scparents.org/event/toddler-time/2029-05-09/
LOCATION:Lexington Main Library\, 5440 Augusta Road\, Lexington\, SC\, 29072\, United States
CATEGORIES:Lexington
END:VEVENT
BEGIN:VEVENT
DTSTART;TZID=America/New_York:20290516T093000
DTEND;TZID=America/New_York:20290516T100000
DTSTAMP:20260421T081813
CREATED:20260212T211202Z
LAST-MODIFIED:20260212T211202Z
UID:10004406-1873618200-1873620000@scparents.org
SUMMARY:Toddler Time
DESCRIPTION:A fun-filled interactive program for toddlers and their grownups that uses rhymes\, songs and more to kindle the learning process. For ages 12 to 24 months. 
URL:https://scparents.org/event/toddler-time/2029-05-16/
LOCATION:Lexington Main Library\, 5440 Augusta Road\, Lexington\, SC\, 29072\, United States
CATEGORIES:Lexington
END:VEVENT
BEGIN:VEVENT
DTSTART;TZID=America/New_York:20290523T093000
DTEND;TZID=America/New_York:20290523T100000
DTSTAMP:20260421T081813
CREATED:20260212T211202Z
LAST-MODIFIED:20260212T211202Z
UID:10004407-1874223000-1874224800@scparents.org
SUMMARY:Toddler Time
DESCRIPTION:A fun-filled interactive program for toddlers and their grownups that uses rhymes\, songs and more to kindle the learning process. For ages 12 to 24 months. 
URL:https://scparents.org/event/toddler-time/2029-05-23/
LOCATION:Lexington Main Library\, 5440 Augusta Road\, Lexington\, SC\, 29072\, United States
CATEGORIES:Lexington
END:VEVENT
BEGIN:VEVENT
DTSTART;TZID=America/New_York:20290530T093000
DTEND;TZID=America/New_York:20290530T100000
DTSTAMP:20260421T081813
CREATED:20260212T211202Z
LAST-MODIFIED:20260212T211202Z
UID:10004408-1874827800-1874829600@scparents.org
SUMMARY:Toddler Time
DESCRIPTION:A fun-filled interactive program for toddlers and their grownups that uses rhymes\, songs and more to kindle the learning process. For ages 12 to 24 months. 
URL:https://scparents.org/event/toddler-time/2029-05-30/
LOCATION:Lexington Main Library\, 5440 Augusta Road\, Lexington\, SC\, 29072\, United States
CATEGORIES:Lexington
END:VEVENT
BEGIN:VEVENT
DTSTART;TZID=America/New_York:20290606T093000
DTEND;TZID=America/New_York:20290606T100000
DTSTAMP:20260421T081813
CREATED:20260212T211202Z
LAST-MODIFIED:20260212T211202Z
UID:10004409-1875432600-1875434400@scparents.org
SUMMARY:Toddler Time
DESCRIPTION:A fun-filled interactive program for toddlers and their grownups that uses rhymes\, songs and more to kindle the learning process. For ages 12 to 24 months. 
URL:https://scparents.org/event/toddler-time/2029-06-06/
LOCATION:Lexington Main Library\, 5440 Augusta Road\, Lexington\, SC\, 29072\, United States
CATEGORIES:Lexington
END:VEVENT
BEGIN:VEVENT
DTSTART;TZID=America/New_York:20290613T093000
DTEND;TZID=America/New_York:20290613T100000
DTSTAMP:20260421T081813
CREATED:20260212T211202Z
LAST-MODIFIED:20260212T211202Z
UID:10004410-1876037400-1876039200@scparents.org
SUMMARY:Toddler Time
DESCRIPTION:A fun-filled interactive program for toddlers and their grownups that uses rhymes\, songs and more to kindle the learning process. For ages 12 to 24 months. 
URL:https://scparents.org/event/toddler-time/2029-06-13/
LOCATION:Lexington Main Library\, 5440 Augusta Road\, Lexington\, SC\, 29072\, United States
CATEGORIES:Lexington
END:VEVENT
BEGIN:VEVENT
DTSTART;TZID=America/New_York:20290620T093000
DTEND;TZID=America/New_York:20290620T100000
DTSTAMP:20260421T081813
CREATED:20260212T211202Z
LAST-MODIFIED:20260212T211202Z
UID:10004411-1876642200-1876644000@scparents.org
SUMMARY:Toddler Time
DESCRIPTION:A fun-filled interactive program for toddlers and their grownups that uses rhymes\, songs and more to kindle the learning process. For ages 12 to 24 months. 
URL:https://scparents.org/event/toddler-time/2029-06-20/
LOCATION:Lexington Main Library\, 5440 Augusta Road\, Lexington\, SC\, 29072\, United States
CATEGORIES:Lexington
END:VEVENT
BEGIN:VEVENT
DTSTART;TZID=America/New_York:20290627T093000
DTEND;TZID=America/New_York:20290627T100000
DTSTAMP:20260421T081813
CREATED:20260212T211202Z
LAST-MODIFIED:20260212T211202Z
UID:10004412-1877247000-1877248800@scparents.org
SUMMARY:Toddler Time
DESCRIPTION:A fun-filled interactive program for toddlers and their grownups that uses rhymes\, songs and more to kindle the learning process. For ages 12 to 24 months. 
URL:https://scparents.org/event/toddler-time/2029-06-27/
LOCATION:Lexington Main Library\, 5440 Augusta Road\, Lexington\, SC\, 29072\, United States
CATEGORIES:Lexington
END:VEVENT
BEGIN:VEVENT
DTSTART;TZID=America/New_York:20290704T093000
DTEND;TZID=America/New_York:20290704T100000
DTSTAMP:20260421T081813
CREATED:20260212T211202Z
LAST-MODIFIED:20260212T211202Z
UID:10004413-1877851800-1877853600@scparents.org
SUMMARY:Toddler Time
DESCRIPTION:A fun-filled interactive program for toddlers and their grownups that uses rhymes\, songs and more to kindle the learning process. For ages 12 to 24 months. 
URL:https://scparents.org/event/toddler-time/2029-07-04/
LOCATION:Lexington Main Library\, 5440 Augusta Road\, Lexington\, SC\, 29072\, United States
CATEGORIES:Lexington
END:VEVENT
BEGIN:VEVENT
DTSTART;TZID=America/New_York:20290711T093000
DTEND;TZID=America/New_York:20290711T100000
DTSTAMP:20260421T081813
CREATED:20260212T211202Z
LAST-MODIFIED:20260212T211202Z
UID:10004414-1878456600-1878458400@scparents.org
SUMMARY:Toddler Time
DESCRIPTION:A fun-filled interactive program for toddlers and their grownups that uses rhymes\, songs and more to kindle the learning process. For ages 12 to 24 months. 
URL:https://scparents.org/event/toddler-time/2029-07-11/
LOCATION:Lexington Main Library\, 5440 Augusta Road\, Lexington\, SC\, 29072\, United States
CATEGORIES:Lexington
END:VEVENT
BEGIN:VEVENT
DTSTART;TZID=America/New_York:20290718T093000
DTEND;TZID=America/New_York:20290718T100000
DTSTAMP:20260421T081813
CREATED:20260212T211202Z
LAST-MODIFIED:20260212T211202Z
UID:10004415-1879061400-1879063200@scparents.org
SUMMARY:Toddler Time
DESCRIPTION:A fun-filled interactive program for toddlers and their grownups that uses rhymes\, songs and more to kindle the learning process. For ages 12 to 24 months. 
URL:https://scparents.org/event/toddler-time/2029-07-18/
LOCATION:Lexington Main Library\, 5440 Augusta Road\, Lexington\, SC\, 29072\, United States
CATEGORIES:Lexington
END:VEVENT
BEGIN:VEVENT
DTSTART;TZID=America/New_York:20290725T093000
DTEND;TZID=America/New_York:20290725T100000
DTSTAMP:20260421T081813
CREATED:20260212T211202Z
LAST-MODIFIED:20260212T211202Z
UID:10004416-1879666200-1879668000@scparents.org
SUMMARY:Toddler Time
DESCRIPTION:A fun-filled interactive program for toddlers and their grownups that uses rhymes\, songs and more to kindle the learning process. For ages 12 to 24 months. 
URL:https://scparents.org/event/toddler-time/2029-07-25/
LOCATION:Lexington Main Library\, 5440 Augusta Road\, Lexington\, SC\, 29072\, United States
CATEGORIES:Lexington
END:VEVENT
BEGIN:VEVENT
DTSTART;TZID=America/New_York:20290801T093000
DTEND;TZID=America/New_York:20290801T100000
DTSTAMP:20260421T081813
CREATED:20260212T211202Z
LAST-MODIFIED:20260212T211202Z
UID:10004417-1880271000-1880272800@scparents.org
SUMMARY:Toddler Time
DESCRIPTION:A fun-filled interactive program for toddlers and their grownups that uses rhymes\, songs and more to kindle the learning process. For ages 12 to 24 months. 
URL:https://scparents.org/event/toddler-time/2029-08-01/
LOCATION:Lexington Main Library\, 5440 Augusta Road\, Lexington\, SC\, 29072\, United States
CATEGORIES:Lexington
END:VEVENT
BEGIN:VEVENT
DTSTART;TZID=America/New_York:20290808T093000
DTEND;TZID=America/New_York:20290808T100000
DTSTAMP:20260421T081813
CREATED:20260212T211202Z
LAST-MODIFIED:20260212T211202Z
UID:10004418-1880875800-1880877600@scparents.org
SUMMARY:Toddler Time
DESCRIPTION:A fun-filled interactive program for toddlers and their grownups that uses rhymes\, songs and more to kindle the learning process. For ages 12 to 24 months. 
URL:https://scparents.org/event/toddler-time/2029-08-08/
LOCATION:Lexington Main Library\, 5440 Augusta Road\, Lexington\, SC\, 29072\, United States
CATEGORIES:Lexington
END:VEVENT
BEGIN:VEVENT
DTSTART;TZID=America/New_York:20290815T093000
DTEND;TZID=America/New_York:20290815T100000
DTSTAMP:20260421T081813
CREATED:20260212T211202Z
LAST-MODIFIED:20260212T211202Z
UID:10004419-1881480600-1881482400@scparents.org
SUMMARY:Toddler Time
DESCRIPTION:A fun-filled interactive program for toddlers and their grownups that uses rhymes\, songs and more to kindle the learning process. For ages 12 to 24 months. 
URL:https://scparents.org/event/toddler-time/2029-08-15/
LOCATION:Lexington Main Library\, 5440 Augusta Road\, Lexington\, SC\, 29072\, United States
CATEGORIES:Lexington
END:VEVENT
BEGIN:VEVENT
DTSTART;TZID=America/New_York:20290822T093000
DTEND;TZID=America/New_York:20290822T100000
DTSTAMP:20260421T081813
CREATED:20260212T211202Z
LAST-MODIFIED:20260212T211202Z
UID:10004420-1882085400-1882087200@scparents.org
SUMMARY:Toddler Time
DESCRIPTION:A fun-filled interactive program for toddlers and their grownups that uses rhymes\, songs and more to kindle the learning process. For ages 12 to 24 months. 
URL:https://scparents.org/event/toddler-time/2029-08-22/
LOCATION:Lexington Main Library\, 5440 Augusta Road\, Lexington\, SC\, 29072\, United States
CATEGORIES:Lexington
END:VEVENT
BEGIN:VEVENT
DTSTART;TZID=America/New_York:20290829T093000
DTEND;TZID=America/New_York:20290829T100000
DTSTAMP:20260421T081813
CREATED:20260212T211202Z
LAST-MODIFIED:20260212T211202Z
UID:10004421-1882690200-1882692000@scparents.org
SUMMARY:Toddler Time
DESCRIPTION:A fun-filled interactive program for toddlers and their grownups that uses rhymes\, songs and more to kindle the learning process. For ages 12 to 24 months. 
URL:https://scparents.org/event/toddler-time/2029-08-29/
LOCATION:Lexington Main Library\, 5440 Augusta Road\, Lexington\, SC\, 29072\, United States
CATEGORIES:Lexington
END:VEVENT
BEGIN:VEVENT
DTSTART;TZID=America/New_York:20290905T093000
DTEND;TZID=America/New_York:20290905T100000
DTSTAMP:20260421T081813
CREATED:20260212T211202Z
LAST-MODIFIED:20260212T211202Z
UID:10004422-1883295000-1883296800@scparents.org
SUMMARY:Toddler Time
DESCRIPTION:A fun-filled interactive program for toddlers and their grownups that uses rhymes\, songs and more to kindle the learning process. For ages 12 to 24 months. 
URL:https://scparents.org/event/toddler-time/2029-09-05/
LOCATION:Lexington Main Library\, 5440 Augusta Road\, Lexington\, SC\, 29072\, United States
CATEGORIES:Lexington
END:VEVENT
BEGIN:VEVENT
DTSTART;TZID=America/New_York:20290912T093000
DTEND;TZID=America/New_York:20290912T100000
DTSTAMP:20260421T081813
CREATED:20260212T211202Z
LAST-MODIFIED:20260212T211202Z
UID:10004423-1883899800-1883901600@scparents.org
SUMMARY:Toddler Time
DESCRIPTION:A fun-filled interactive program for toddlers and their grownups that uses rhymes\, songs and more to kindle the learning process. For ages 12 to 24 months. 
URL:https://scparents.org/event/toddler-time/2029-09-12/
LOCATION:Lexington Main Library\, 5440 Augusta Road\, Lexington\, SC\, 29072\, United States
CATEGORIES:Lexington
END:VEVENT
BEGIN:VEVENT
DTSTART;TZID=America/New_York:20290919T093000
DTEND;TZID=America/New_York:20290919T100000
DTSTAMP:20260421T081813
CREATED:20260212T211202Z
LAST-MODIFIED:20260212T211202Z
UID:10004424-1884504600-1884506400@scparents.org
SUMMARY:Toddler Time
DESCRIPTION:A fun-filled interactive program for toddlers and their grownups that uses rhymes\, songs and more to kindle the learning process. For ages 12 to 24 months. 
URL:https://scparents.org/event/toddler-time/2029-09-19/
LOCATION:Lexington Main Library\, 5440 Augusta Road\, Lexington\, SC\, 29072\, United States
CATEGORIES:Lexington
END:VEVENT
BEGIN:VEVENT
DTSTART;TZID=America/New_York:20290926T093000
DTEND;TZID=America/New_York:20290926T100000
DTSTAMP:20260421T081813
CREATED:20260212T211202Z
LAST-MODIFIED:20260212T211202Z
UID:10004425-1885109400-1885111200@scparents.org
SUMMARY:Toddler Time
DESCRIPTION:A fun-filled interactive program for toddlers and their grownups that uses rhymes\, songs and more to kindle the learning process. For ages 12 to 24 months. 
URL:https://scparents.org/event/toddler-time/2029-09-26/
LOCATION:Lexington Main Library\, 5440 Augusta Road\, Lexington\, SC\, 29072\, United States
CATEGORIES:Lexington
END:VEVENT
BEGIN:VEVENT
DTSTART;TZID=America/New_York:20291003T093000
DTEND;TZID=America/New_York:20291003T100000
DTSTAMP:20260421T081813
CREATED:20260212T211202Z
LAST-MODIFIED:20260212T211202Z
UID:10004426-1885714200-1885716000@scparents.org
SUMMARY:Toddler Time
DESCRIPTION:A fun-filled interactive program for toddlers and their grownups that uses rhymes\, songs and more to kindle the learning process. For ages 12 to 24 months. 
URL:https://scparents.org/event/toddler-time/2029-10-03/
LOCATION:Lexington Main Library\, 5440 Augusta Road\, Lexington\, SC\, 29072\, United States
CATEGORIES:Lexington
END:VEVENT
BEGIN:VEVENT
DTSTART;TZID=America/New_York:20291010T093000
DTEND;TZID=America/New_York:20291010T100000
DTSTAMP:20260421T081813
CREATED:20260212T211202Z
LAST-MODIFIED:20260212T211202Z
UID:10004427-1886319000-1886320800@scparents.org
SUMMARY:Toddler Time
DESCRIPTION:A fun-filled interactive program for toddlers and their grownups that uses rhymes\, songs and more to kindle the learning process. For ages 12 to 24 months. 
URL:https://scparents.org/event/toddler-time/2029-10-10/
LOCATION:Lexington Main Library\, 5440 Augusta Road\, Lexington\, SC\, 29072\, United States
CATEGORIES:Lexington
END:VEVENT
BEGIN:VEVENT
DTSTART;TZID=America/New_York:20291017T093000
DTEND;TZID=America/New_York:20291017T100000
DTSTAMP:20260421T081813
CREATED:20260212T211202Z
LAST-MODIFIED:20260212T211202Z
UID:10004428-1886923800-1886925600@scparents.org
SUMMARY:Toddler Time
DESCRIPTION:A fun-filled interactive program for toddlers and their grownups that uses rhymes\, songs and more to kindle the learning process. For ages 12 to 24 months. 
URL:https://scparents.org/event/toddler-time/2029-10-17/
LOCATION:Lexington Main Library\, 5440 Augusta Road\, Lexington\, SC\, 29072\, United States
CATEGORIES:Lexington
END:VEVENT
BEGIN:VEVENT
DTSTART;TZID=America/New_York:20291024T093000
DTEND;TZID=America/New_York:20291024T100000
DTSTAMP:20260421T081813
CREATED:20260212T211202Z
LAST-MODIFIED:20260212T211202Z
UID:10004429-1887528600-1887530400@scparents.org
SUMMARY:Toddler Time
DESCRIPTION:A fun-filled interactive program for toddlers and their grownups that uses rhymes\, songs and more to kindle the learning process. For ages 12 to 24 months. 
URL:https://scparents.org/event/toddler-time/2029-10-24/
LOCATION:Lexington Main Library\, 5440 Augusta Road\, Lexington\, SC\, 29072\, United States
CATEGORIES:Lexington
END:VEVENT
BEGIN:VEVENT
DTSTART;TZID=America/New_York:20291031T093000
DTEND;TZID=America/New_York:20291031T100000
DTSTAMP:20260421T081813
CREATED:20260212T211202Z
LAST-MODIFIED:20260212T211202Z
UID:10004430-1888133400-1888135200@scparents.org
SUMMARY:Toddler Time
DESCRIPTION:A fun-filled interactive program for toddlers and their grownups that uses rhymes\, songs and more to kindle the learning process. For ages 12 to 24 months. 
URL:https://scparents.org/event/toddler-time/2029-10-31/
LOCATION:Lexington Main Library\, 5440 Augusta Road\, Lexington\, SC\, 29072\, United States
CATEGORIES:Lexington
END:VEVENT
BEGIN:VEVENT
DTSTART;TZID=America/New_York:20291107T093000
DTEND;TZID=America/New_York:20291107T100000
DTSTAMP:20260421T081813
CREATED:20260212T211202Z
LAST-MODIFIED:20260212T211202Z
UID:10004431-1888738200-1888740000@scparents.org
SUMMARY:Toddler Time
DESCRIPTION:A fun-filled interactive program for toddlers and their grownups that uses rhymes\, songs and more to kindle the learning process. For ages 12 to 24 months. 
URL:https://scparents.org/event/toddler-time/2029-11-07/
LOCATION:Lexington Main Library\, 5440 Augusta Road\, Lexington\, SC\, 29072\, United States
CATEGORIES:Lexington
END:VEVENT
END:VCALENDAR